{"text_format":"1","workbook":"xlsx","n_sheets":14,"sheets":["集計メニュー","集団傾向比較","データ入力シート１回目","集計データ１回目","集団傾向１回目","年数別(2)１回目","年数別１回目","データ入力シート２回目","集計データ２回目","集団傾向２回目","年数別２回目","年数別(2)２回目","集計用１","集計用２"],"not_rendered":{"charts":57,"images":0,"macros":1,"external_links":0,"defined_names":11,"comments":0,"pivot_tables":0},"unopened":[],"bounds":{"document_bytes":16777216,"sheet_cells":100000,"rows_first":2000,"rows_last":500,"rows_between":2000,"halvings":0,"cell_chars":16384,"cell_head_chars":4096},"cells_cut":0,"cells_raw":0,"read":"whole","date_system":"1900"}

{"sheet":"集計メニュー","index":0,"n_rows":8,"n_cols":9,"rows_kept":8,"cut":false,"hidden":false,"merged":[]}
[]
[]
[]
[]
[]
[]
[]
[null,null,null,null,null,null,null,"学校名",""]

{"sheet":"集団傾向比較","index":1,"n_rows":3,"n_cols":17,"rows_kept":3,"cut":false,"hidden":true,"merged":[[4,2,4,4]]}
[]
["（※　この表はデータ入力シート１回目の数値が反映されています。）"]
["教員全体のカリキュラム・マネジメントに係る意識や取組の傾向　１回目と２回目の比較",null,null,null,null,null,null,null,null,null,null,null,null,null,null,null,""]

{"sheet":"データ入力シート１回目","index":2,"n_rows":47,"n_cols":104,"rows_kept":47,"cut":false,"hidden":true,"merged":[[3,1,4,1],[3,2,4,2],[7,0,18,0],[44,0,46,0],[44,1,44,3],[45,1,45,3],[46,1,46,3],[19,0,30,0],[31,0,42,0]]}
[]
[null,null,null,"カリキュラム・マネジメントセルフチェックシート（データ入力シート）　１回目",null,null,null,null,null,null,null,null,null,null,null,""]
[]
[null,null,null,"番号",1,2,3,4,5,6,7,8,9,10,11,12,13,14,15,16,17,18,19,20,21,22,23,24,25,26,27,28,29,30,31,32,33,34,35,36,37,38,39,40,41,42,43,44,45,46,47,48,49,50,51,52,53,54,55,56,57,58,59,60,61,62,63,64,65,66,67,68,69,70,71,72,73,74,75,76,77,78,79,80,81,82,83,84,85,86,87,88,89,90,91,92,93,94,95,96,97,98,99,100]
[null,null,null,"名前"]
[null,null,null,"職層"]
[null,null,null,"年次"]
["教科横断的な視点について",1,"P","学校の教育目標や重点目標等を十分に理解して教育活動を行っている。"]
[null,2,"P","学校の教育目標や重点目標等を達成するために、教科等横断的な視点を意識して、各教科等の年間指導計画を作成している。"]
[null,3,"P","それぞれの教科等でどのような評価方法を用いているか確認して、各教科等の年間指導計画を作成している。"]
[null,4,"D","日々の授業で捉えた児童・生徒の学習状況を基に、教科等横断的な視点を意識して指導している。"]
[null,5,"D","日々の授業で捉えた児童・生徒の学習状況を基に、学年や他校（園）種の系統性を意識して指導している。"]
[null,6,"D","日頃から、評価に活用するために評価規準を明確にして児童・生徒の学習や活動の状況を記録し、蓄積している。"]
[null,7,"C","児童・生徒の資質・能力が育成されたかについて、学習や活動状況の記録やテスト等を基に評価をしている。"]
[null,8,"C","自分自身の授業改善を図るために、毎時間評価し、計画的に改善を行っている。"]
[null,9,"C","各教科等の指導は、児童・生徒の学習到達度や児童、生徒、保護者対象のアンケート等を基に、客観的に評価している。"]
[null,10,"A","児童・生徒の評価を基に、指導計画（年間、単元、一単位時間等）や指導方法を改善して、次の授業に臨んでいる。"]
[null,11,"A","児童・生徒の評価や、他教科等との関連を意識して単元の配列を検討し、各教科等の年間指導計画を改善している。"]
[null,12,"A","学校行事の改善案を作成する際、各教科等との関連を意識して効果的な指導計画等を検討している。"]
["人的資源について",13,"P","各教科等の年間指導計画は、外部の人的資源を効果的に活用することを意識して作成している。"]
[null,14,"P","各教科等の年間指導計画は、教員間で目標や指導内容を共通理解することを意識して作成している。"]
[null,15,"P","学校行事の計画は、人的資源を効果的に活用して作成することを意識している。"]
[null,16,"D","人的資源（学校内部・外部）を活用する際、授業の目標や指導内容を共通理解して、指導に当たっている。"]
[null,17,"D","自校の特色ある教育活動について、具体的に説明することができる。"]
[null,18,"D","各教科等で外部の人的資源を効果的に活用するために、様々な実践事例等の情報収集をしている。"]
[null,19,"C","人的資源を活用した後、児童・生徒の学びに効果的であったかなどを評価している。"]
[null,20,"C","児童・生徒一人一人の学習状況等の把握をするために、教員間で情報交換を行っている。"]
[null,21,"C","評価に関する情報や、児童・生徒の成果と課題についての情報を、保護者と共有している。"]
[null,22,"A","人的資源を活用して得た情報を教員間で共有するために、引き継ぎ資料として蓄積・整理をしている。"]
[null,23,"A","自分自身の授業改善のために、研修の機会を十分に活用している。"]
[null,24,"A","教員同士の授業改善のために、研修会等で学んだことを教員間で共有している。"]
["物的資源について",25,"P","各教科等の年間指導計画は、外部の物的資源を効果的に活用することを意識して作成している。"]
[null,26,"P","各教科等の目標を達成するために、児童・生徒の実態に応じて、必要な教材・教具の整備を行っている。"]
[null,27,"P","学校行事の計画は、物的資源を効果的に活用して作成することを意識している。"]
[null,28,"D","近隣の学校との連絡会等で児童・生徒の情報交換を行い、地域の児童・生徒の状況を把握している。"]
[null,29,"D","児童・生徒の実態に応じた授業を行うために、積極的に教材研究を行っている。"]
[null,30,"D","各教科等で外部の物的資源を効果的に活用するために、様々な実践事例等の情報収集をしている"]
[null,31,"C","外部の物的資源を活用した後、児童・生徒の学びに効果的であったかなど、評価している。"]
[null,32,"C","授業後に、学習に効果的であった教材・教具についての情報を蓄積している。"]
[null,33,"C","地域等の理解や協力を得るために、Webページ等を活用して、学校の教育活動ついて発信している。"]
[null,34,"A","物的資源を活用して得た情報を教員間で共有するために、引き継ぎ資料として蓄積・整理をしている。"]
[null,35,"A","授業後の児童・生徒の学習の習得状況を把握し、各教科等の教材・教具の工夫・改善を行っている。"]
[null,36,"A","校外の研修会等で得た物的資源についての情報を教員間で共有している。"]
[]
["入力した日","教科横断的な視点について"]
[null,"人的資源について"]
[null,"物的資源について"]

{"sheet":"集計データ１回目","index":3,"n_rows":88,"n_cols":102,"rows_kept":88,"cut":false,"hidden":true,"merged":[[18,3,18,17],[44,0,63,0],[68,0,87,0],[42,3,42,17],[44,1,48,1],[49,1,53,1],[54,1,58,1],[59,1,63,1],[68,1,72,1],[73,1,77,1],[78,1,82,1],[83,1,87,1],[66,3,66,17],[4,0,7,0],[8,0,11,0],[12,0,15,0],[20,1,24,1],[25,1,29,1],[20,0,39,0],[30,1,34,1],[35,1,39,1]]}
["※データ入力シート１回目を反映"]
["集計データ１回目"]
[null,"番号",1,2,3,4,5,6,7,8,9,10,11,12,13,14,15,16,17,18,19,20,21,22,23,24,25,26,27,28,29,30,31,32,33,34,35,36,37,38,39,40,41,42,43,44,45,46,47,48,49,50,51,52,53,54,55,56,57,58,59,60,61,62,63,64,65,66,67,68,69,70,71,72,73,74,75,76,77,78,79,80,81,82,83,84,85,86,87,88,89,90,91,92,93,94,95,96,97,98,99,100]
[null,"教員経験年数",{"$f":"データ入力シート１回目!E7","v":0},{"$f":"データ入力シート１回目!F7","v":0},{"$f":"データ入力シート１回目!G7","v":0},{"$f":"データ入力シート１回目!H7","v":0},{"$f":"データ入力シート１回目!I7","v":0},{"$f":"データ入力シート１回目!J7","v":0},{"$f":"データ入力シート１回目!K7","v":0},{"$f":"データ入力シート１回目!L7","v":0},{"$f":"データ入力シート１回目!M7","v":0},{"$f":"データ入力シート１回目!N7","v":0},{"$f":"データ入力シート１回目!O7","v":0},{"$f":"データ入力シート１回目!P7","v":0},{"$f":"データ入力シート１回目!Q7","v":0},{"$f":"データ入力シート１回目!R7","v":0},{"$f":"データ入力シート１回目!S7","v":0},{"$f":"データ入力シート１回目!T7","v":0},{"$f":"データ入力シート１回目!U7","v":0},{"$f":"データ入力シート１回目!V7","v":0},{"$f":"データ入力シート１回目!W7","v":0},{"$f":"データ入力シート１回目!X7","v":0},{"$f":"データ入力シート１回目!Y7","v":0},{"$f":"データ入力シート１回目!Z7","v":0},{"$f":"データ入力シート１回目!AA7","v":0},{"$f":"データ入力シート１回目!AB7","v":0},{"$f":"データ入力シート１回目!AC7","v":0},{"$f":"データ入力シート１回目!AD7","v":0},{"$f":"データ入力シート１回目!AE7","v":0},{"$f":"データ入力シート１回目!AF7","v":0},{"$f":"データ入力シート１回目!AG7","v":0},{"$f":"データ入力シート１回目!AH7","v":0},{"$f":"データ入力シート１回目!AI7","v":0},{"$f":"データ入力シート１回目!AJ7","v":0},{"$f":"データ入力シート１回目!AK7","v":0},{"$f":"データ入力シート１回目!AL7","v":0},{"$f":"データ入力シート１回目!AM7","v":0},{"$f":"データ入力シート１回目!AN7","v":0},{"$f":"データ入力シート１回目!AO7","v":0},{"$f":"データ入力シート１回目!AP7","v":0},{"$f":"データ入力シート１回目!AQ7","v":0},{"$f":"データ入力シート１回目!AR7","v":0},{"$f":"データ入力シート１回目!AS7","v":0},{"$f":"データ入力シート１回目!AT7","v":0},{"$f":"データ入力シート１回目!AU7","v":0},{"$f":"データ入力シート１回目!AV7","v":0},{"$f":"データ入力シート１回目!AW7","v":0},{"$f":"データ入力シート１回目!AX7","v":0},{"$f":"データ入力シート１回目!AY7","v":0},{"$f":"データ入力シート１回目!AZ7","v":0},{"$f":"データ入力シート１回目!BA7","v":0},{"$f":"データ入力シート１回目!BB7","v":0},{"$f":"データ入力シート１回目!BC7","v":0},{"$f":"データ入力シート１回目!BD7","v":0},{"$f":"データ入力シート１回目!BE7","v":0},{"$f":"データ入力シート１回目!BF7","v":0},{"$f":"データ入力シート１回目!BG7","v":0},{"$f":"データ入力シート１回目!BH7","v":0},{"$f":"データ入力シート１回目!BI7","v":0},{"$f":"データ入力シート１回目!BJ7","v":0},{"$f":"データ入力シート１回目!BK7","v":0},{"$f":"データ入力シート１回目!BL7","v":0},{"$f":"データ入力シート１回目!BM7","v":0},{"$f":"データ入力シート１回目!BN7","v":0},{"$f":"データ入力シート１回目!BO7","v":0},{"$f":"データ入力シート１回目!BP7","v":0},{"$f":"データ入力シート１回目!BQ7","v":0},{"$f":"データ入力シート１回目!BR7","v":0},{"$f":"データ入力シート１回目!BS7","v":0},{"$f":"データ入力シート１回目!BT7","v":0},{"$f":"データ入力シート１回目!BU7","v":0},{"$f":"データ入力シート１回目!BV7","v":0},{"$f":"データ入力シート１回目!BW7","v":0},{"$f":"データ入力シート１回目!BX7","v":0},{"$f":"データ入力シート１回目!BY7","v":0},{"$f":"データ入力シート１回目!BZ7","v":0},{"$f":"データ入力シート１回目!CA7","v":0},{"$f":"データ入力シート１回目!CB7","v":0},{"$f":"データ入力シート１回目!CC7","v":0},{"$f":"データ入力シート１回目!CD7","v":0},{"$f":"データ入力シート１回目!CE7","v":0},{"$f":"データ入力シート１回目!CF7","v":0},{"$f":"データ入力シート１回目!CG7","v":0},{"$f":"データ入力シート１回目!CH7","v":0},{"$f":"データ入力シート１回目!CI7","v":0},{"$f":"データ入力シート１回目!CJ7","v":0},{"$f":"データ入力シート１回目!CK7","v":0},{"$f":"データ入力シート１回目!CL7","v":0},{"$f":"データ入力シート１回目!CM7","v":0},{"$f":"データ入力シート１回目!CN7","v":0},{"$f":"データ入力シート１回目!CO7","v":0},{"$f":"データ入力シート１回目!CP7","v":0},{"$f":"データ入力シート１回目!CQ7","v":0},{"$f":"データ入力シート１回目!CR7","v":0},{"$f":"データ入力シート１回目!CS7","v":0},{"$f":"データ入力シート１回目!CT7","v":0},{"$f":"データ入力シート１回目!CU7","v":0},{"$f":"データ入力シート１回目!CV7","v":0},{"$f":"データ入力シート１回目!CW7","v":0},{"$f":"データ入力シート１回目!CX7","v":0},{"$f":"データ入力シート１回目!CY7","v":0},{"$f":"データ入力シート１回目!CZ7","v":0}]
["教科等横断的な視点について","P",{"$f":"IF(データ入力シート１回目!E8=\"\",\"\",データ入力シート１回目!E8)+IF(データ入力シート１回目!E9=\"\",\"\",データ入力シート１回目!E9)+IF(データ入力シート１回目!E10=\"\",\"\",データ入力シート１回目!E10)","v":{"$error":"#VALUE!"}},{"$f":"IF(データ入力シート１回目!F8=\"\",\"\",データ入力シート１回目!F8)+IF(データ入力シート１回目!F9=\"\",\"\",データ入力シート１回目!F9)+IF(データ入力シート１回目!F10=\"\",\"\",データ入力シート１回目!F10)","v":{"$error":"#VALUE!"}},{"$f":"IF(データ入力シート１回目!G8=\"\",\"\",データ入力シート１回目!G8)+IF(データ入力シート１回目!G9=\"\",\"\",データ入力シート１回目!G9)+IF(データ入力シート１回目!G10=\"\",\"\",データ入力シート１回目!G10)","v":{"$error":"#VALUE!"}},{"$f":"IF(データ入力シート１回目!H8=\"\",\"\",データ入力シート１回目!H8)+IF(データ入力シート１回目!H9=\"\",\"\",データ入力シート１回目!H9)+IF(データ入力シート１回目!H10=\"\",\"\",データ入力シート１回目!H10)","v":{"$error":"#VALUE!"}},{"$f":"IF(データ入力シート１回目!I8=\"\",\"\",データ入力シート１回目!I8)+IF(データ入力シート１回目!I9=\"\",\"\",データ入力シート１回目!I9)+IF(データ入力シート１回目!I10=\"\",\"\",データ入力シート１回目!I10)","v":{"$error":"#VALUE!"}},{"$f":"IF(データ入力シート１回目!J8=\"\",\"\",データ入力シート１回目!J8)+IF(データ入力シート１回目!J9=\"\",\"\",データ入力シート１回目!J9)+IF(データ入力シート１回目!J10=\"\",\"\",データ入力シート１回目!J10)","v":{"$error":"#VALUE!"}},{"$f":"IF(データ入力シート１回目!K8=\"\",\"\",データ入力シート１回目!K8)+IF(データ入力シート１回目!K9=\"\",\"\",データ入力シート１回目!K9)+IF(データ入力シート１回目!K10=\"\",\"\",データ入力シート１回目!K10)","v":{"$error":"#VALUE!"}},{"$f":"IF(データ入力シート１回目!L8=\"\",\"\",データ入力シート１回目!L8)+IF(データ入力シート１回目!L9=\"\",\"\",データ入力シート１回目!L9)+IF(データ入力シート１回目!L10=\"\",\"\",データ入力シート１回目!L10)","v":{"$error":"#VALUE!"}},{"$f":"IF(データ入力シート１回目!M8=\"\",\"\",データ入力シート１回目!M8)+IF(データ入力シート１回目!M9=\"\",\"\",データ入力シート１回目!M9)+IF(データ入力シート１回目!M10=\"\",\"\",データ入力シート１回目!M10)","v":{"$error":"#VALUE!"}},{"$f":"IF(データ入力シート１回目!N8=\"\",\"\",データ入力シート１回目!N8)+IF(データ入力シート１回目!N9=\"\",\"\",データ入力シート１回目!N9)+IF(データ入力シート１回目!N10=\"\",\"\",データ入力シート１回目!N10)","v":{"$error":"#VALUE!"}},{"$f":"IF(データ入力シート１回目!O8=\"\",\"\",データ入力シート１回目!O8)+IF(データ入力シート１回目!O9=\"\",\"\",データ入力シート１回目!O9)+IF(データ入力シート１回目!O10=\"\",\"\",データ入力シート１回目!O10)","v":{"$error":"#VALUE!"}},{"$f":"IF(データ入力シート１回目!P8=\"\",\"\",データ入力シート１回目!P8)+IF(データ入力シート１回目!P9=\"\",\"\",データ入力シート１回目!P9)+IF(データ入力シート１回目!P10=\"\",\"\",データ入力シート１回目!P10)","v":{"$error":"#VALUE!"}},{"$f":"IF(データ入力シート１回目!Q8=\"\",\"\",データ入力シート１回目!Q8)+IF(データ入力シート１回目!Q9=\"\",\"\",データ入力シート１回目!Q9)+IF(データ入力シート１回目!Q10=\"\",\"\",データ入力シート１回目!Q10)","v":{"$error":"#VALUE!"}},{"$f":"IF(データ入力シート１回目!R8=\"\",\"\",データ入力シート１回目!R8)+IF(データ入力シート１回目!R9=\"\",\"\",データ入力シート１回目!R9)+IF(データ入力シート１回目!R10=\"\",\"\",データ入力シート１回目!R10)","v":{"$error":"#VALUE!"}},{"$f":"IF(データ入力シート１回目!S8=\"\",\"\",データ入力シート１回目!S8)+IF(データ入力シート１回目!S9=\"\",\"\",データ入力シート１回目!S9)+IF(データ入力シート１回目!S10=\"\",\"\",データ入力シート１回目!S10)","v":{"$error":"#VALUE!"}},{"$f":"IF(データ入力シート１回目!T8=\"\",\"\",データ入力シート１回目!T8)+IF(データ入力シート１回目!T9=\"\",\"\",データ入力シート１回目!T9)+IF(データ入力シート１回目!T10=\"\",\"\",データ入力シート１回目!T10)","v":{"$error":"#VALUE!"}},{"$f":"IF(データ入力シート１回目!U8=\"\",\"\",データ入力シート１回目!U8)+IF(データ入力シート１回目!U9=\"\",\"\",データ入力シート１回目!U9)+IF(データ入力シート１回目!U10=\"\",\"\",データ入力シート１回目!U10)","v":{"$error":"#VALUE!"}},{"$f":"IF(データ入力シート１回目!V8=\"\",\"\",データ入力シート１回目!V8)+IF(データ入力シート１回目!V9=\"\",\"\",データ入力シート１回目!V9)+IF(データ入力シート１回目!V10=\"\",\"\",データ入力シート１回目!V10)","v":{"$error":"#VALUE!"}},{"$f":"IF(データ入力シート１回目!W8=\"\",\"\",データ入力シート１回目!W8)+IF(データ入力シート１回目!W9=\"\",\"\",データ入力シート１回目!W9)+IF(データ入力シート１回目!W10=\"\",\"\",データ入力シート１回目!W10)","v":{"$error":"#VALUE!"}},{"$f":"IF(データ入力シート１回目!X8=\"\",\"\",データ入力シート１回目!X8)+IF(データ入力シート１回目!X9=\"\",\"\",データ入力シート１回目!X9)+IF(データ入力シート１回目!X10=\"\",\"\",データ入力シート１回目!X10)","v":{"$error":"#VALUE!"}},{"$f":"IF(データ入力シート１回目!Y8=\"\",\"\",データ入力シート１回目!Y8)+IF(データ入力シート１回目!Y9=\"\",\"\",データ入力シート１回目!Y9)+IF(データ入力シート１回目!Y10=\"\",\"\",データ入力シート１回目!Y10)","v":{"$error":"#VALUE!"}},{"$f":"IF(データ入力シート１回目!Z8=\"\",\"\",データ入力シート１回目!Z8)+IF(データ入力シート１回目!Z9=\"\",\"\",データ入力シート１回目!Z9)+IF(データ入力シート１回目!Z10=\"\",\"\",データ入力シート１回目!Z10)","v":{"$error":"#VALUE!"}},{"$f":"IF(データ入力シート１回目!AA8=\"\",\"\",データ入力シート１回目!AA8)+IF(データ入力シート１回目!AA9=\"\",\"\",データ入力シート１回目!AA9)+IF(データ入力シート１回目!AA10=\"\",\"\",データ入力シート１回目!AA10)","v":{"$error":"#VALUE!"}},{"$f":"IF(データ入力シート１回目!AB8=\"\",\"\",データ入力シート１回目!AB8)+IF(データ入力シート１回目!AB9=\"\",\"\",データ入力シート１回目!AB9)+IF(データ入力シート１回目!AB10=\"\",\"\",データ入力シート１回目!AB10)","v":{"$error":"#VALUE!"}},{"$f":"IF(データ入力シート１回目!AC8=\"\",\"\",データ入力シート１回目!AC8)+IF(データ入力シート１回目!AC9=\"\",\"\",データ入力シート１回目!AC9)+IF(データ入力シート１回目!AC10=\"\",\"\",データ入力シート１回目!AC10)","v":{"$error":"#VALUE!"}},{"$f":"IF(データ入力シート１回目!AD8=\"\",\"\",データ入力シート１回目!AD8)+IF(データ入力シート１回目!AD9=\"\",\"\",データ入力シート１回目!AD9)+IF(データ入力シート１回目!AD10=\"\",\"\",データ入力シート１回目!AD10)","v":{"$error":"#VALUE!"}},{"$f":"IF(データ入力シート１回目!AE8=\"\",\"\",データ入力シート１回目!AE8)+IF(データ入力シート１回目!AE9=\"\",\"\",データ入力シート１回目!AE9)+IF(データ入力シート１回目!AE10=\"\",\"\",データ入力シート１回目!AE10)","v":{"$error":"#VALUE!"}},{"$f":"IF(データ入力シート１回目!AF8=\"\",\"\",データ入力シート１回目!AF8)+IF(データ入力シート１回目!AF9=\"\",\"\",データ入力シート１回目!AF9)+IF(データ入力シート１回目!AF10=\"\",\"\",データ入力シート１回目!AF10)","v":{"$error":"#VALUE!"}},{"$f":"IF(データ入力シート１回目!AG8=\"\",\"\",データ入力シート１回目!AG8)+IF(データ入力シート１回目!AG9=\"\",\"\",データ入力シート１回目!AG9)+IF(データ入力シート１回目!AG10=\"\",\"\",データ入力シート１回目!AG10)","v":{"$error":"#VALUE!"}},{"$f":"IF(データ入力シート１回目!AH8=\"\",\"\",データ入力シート１回目!AH8)+IF(データ入力シート１回目!AH9=\"\",\"\",データ入力シート１回目!AH9)+IF(データ入力シート１回目!AH10=\"\",\"\",データ入力シート１回目!AH10)","v":{"$error":"#VALUE!"}},{"$f":"IF(データ入力シート１回目!AI8=\"\",\"\",データ入力シート１回目!AI8)+IF(データ入力シート１回目!AI9=\"\",\"\",データ入力シート１回目!AI9)+IF(データ入力シート１回目!AI10=\"\",\"\",データ入力シート１回目!AI10)","v":{"$error":"#VALUE!"}},{"$f":"IF(データ入力シート１回目!AJ8=\"\",\"\",データ入力シート１回目!AJ8)+IF(データ入力シート１回目!AJ9=\"\",\"\",データ入力シート１回目!AJ9)+IF(データ入力シート１回目!AJ10=\"\",\"\",データ入力シート１回目!AJ10)","v":{"$error":"#VALUE!"}},{"$f":"IF(データ入力シート１回目!AK8=\"\",\"\",データ入力シート１回目!AK8)+IF(データ入力シート１回目!AK9=\"\",\"\",データ入力シート１回目!AK9)+IF(データ入力シート１回目!AK10=\"\",\"\",データ入力シート１回目!AK10)","v":{"$error":"#VALUE!"}},{"$f":"IF(データ入力シート１回目!AL8=\"\",\"\",データ入力シート１回目!AL8)+IF(データ入力シート１回目!AL9=\"\",\"\",データ入力シート１回目!AL9)+IF(データ入力シート１回目!AL10=\"\",\"\",データ入力シート１回目!AL10)","v":{"$error":"#VALUE!"}},{"$f":"IF(データ入力シート１回目!AM8=\"\",\"\",データ入力シート１回目!AM8)+IF(データ入力シート１回目!AM9=\"\",\"\",データ入力シート１回目!AM9)+IF(データ入力シート１回目!AM10=\"\",\"\",データ入力シート１回目!AM10)","v":{"$error":"#VALUE!"}},{"$f":"IF(データ入力シート１回目!AN8=\"\",\"\",データ入力シート１回目!AN8)+IF(データ入力シート１回目!AN9=\"\",\"\",データ入力シート１回目!AN9)+IF(データ入力シート１回目!AN10=\"\",\"\",データ入力シート１回目!AN10)","v":{"$error":"#VALUE!"}},{"$f":"IF(データ入力シート１回目!AO8=\"\",\"\",データ入力シート１回目!AO8)+IF(データ入力シート１回目!AO9=\"\",\"\",データ入力シート１回目!AO9)+IF(データ入力シート１回目!AO10=\"\",\"\",データ入力シート１回目!AO10)","v":{"$error":"#VALUE!"}},{"$f":"IF(データ入力シート１回目!AP8=\"\",\"\",データ入力シート１回目!AP8)+IF(データ入力シート１回目!AP9=\"\",\"\",データ入力シート１回目!AP9)+IF(データ入力シート１回目!AP10=\"\",\"\",データ入力シート１回目!AP10)","v":{"$error":"#VALUE!"}},{"$f":"IF(データ入力シート１回目!AQ8=\"\",\"\",データ入力シート１回目!AQ8)+IF(データ入力シート１回目!AQ9=\"\",\"\",データ入力シート１回目!AQ9)+IF(データ入力シート１回目!AQ10=\"\",\"\",データ入力シート１回目!AQ10)","v":{"$error":"#VALUE!"}},{"$f":"IF(データ入力シート１回目!AR8=\"\",\"\",データ入力シート１回目!AR8)+IF(データ入力シート１回目!AR9=\"\",\"\",データ入力シート１回目!AR9)+IF(データ入力シート１回目!AR10=\"\",\"\",データ入力シート１回目!AR10)","v":{"$error":"#VALUE!"}},{"$f":"IF(データ入力シート１回目!AS8=\"\",\"\",データ入力シート１回目!AS8)+IF(データ入力シート１回目!AS9=\"\",\"\",データ入力シート１回目!AS9)+IF(データ入力シート１回目!AS10=\"\",\"\",データ入力シート１回目!AS10)","v":{"$error":"#VALUE!"}},{"$f":"IF(データ入力シート１回目!AT8=\"\",\"\",データ入力シート１回目!AT8)+IF(データ入力シート１回目!AT9=\"\",\"\",データ入力シート１回目!AT9)+IF(データ入力シート１回目!AT10=\"\",\"\",データ入力シート１回目!AT10)","v":{"$error":"#VALUE!"}},{"$f":"IF(データ入力シート１回目!AU8=\"\",\"\",データ入力シート１回目!AU8)+IF(データ入力シート１回目!AU9=\"\",\"\",データ入力シート１回目!AU9)+IF(データ入力シート１回目!AU10=\"\",\"\",データ入力シート１回目!AU10)","v":{"$error":"#VALUE!"}},{"$f":"IF(データ入力シート１回目!AV8=\"\",\"\",データ入力シート１回目!AV8)+IF(データ入力シート１回目!AV9=\"\",\"\",データ入力シート１回目!AV9)+IF(データ入力シート１回目!AV10=\"\",\"\",データ入力シート１回目!AV10)","v":{"$error":"#VALUE!"}},{"$f":"IF(データ入力シート１回目!AW8=\"\",\"\",データ入力シート１回目!AW8)+IF(データ入力シート１回目!AW9=\"\",\"\",データ入力シート１回目!AW9)+IF(データ入力シート１回目!AW10=\"\",\"\",データ入力シート１回目!AW10)","v":{"$error":"#VALUE!"}},{"$f":"IF(データ入力シート１回目!AX8=\"\",\"\",データ入力シート１回目!AX8)+IF(データ入力シート１回目!AX9=\"\",\"\",データ入力シート１回目!AX9)+IF(データ入力シート１回目!AX10=\"\",\"\",データ入力シート１回目!AX10)","v":{"$error":"#VALUE!"}},{"$f":"IF(データ入力シート１回目!AY8=\"\",\"\",データ入力シート１回目!AY8)+IF(データ入力シート１回目!AY9=\"\",\"\",データ入力シート１回目!AY9)+IF(データ入力シート１回目!AY10=\"\",\"\",データ入力シート１回目!AY10)","v":{"$error":"#VALUE!"}},{"$f":"IF(データ入力シート１回目!AZ8=\"\",\"\",データ入力シート１回目!AZ8)+IF(データ入力シート１回目!AZ9=\"\",\"\",データ入力シート１回目!AZ9)+IF(データ入力シート１回目!AZ10=\"\",\"\",データ入力シート１回目!AZ10)","v":{"$error":"#VALUE!"}},{"$f":"IF(データ入力シート１回目!BA8=\"\",\"\",データ入力シート１回目!BA8)+IF(データ入力シート１回目!BA9=\"\",\"\",データ入力シート１回目!BA9)+IF(データ入力シート１回目!BA10=\"\",\"\",データ入力シート１回目!BA10)","v":{"$error":"#VALUE!"}},{"$f":"IF(データ入力シート１回目!BB8=\"\",\"\",データ入力シート１回目!BB8)+IF(データ入力シート１回目!BB9=\"\",\"\",データ入力シート１回目!BB9)+IF(データ入力シート１回目!BB10=\"\",\"\",データ入力シート１回目!BB10)","v":{"$error":"#VALUE!"}},{"$f":"IF(データ入力シート１回目!BC8=\"\",\"\",データ入力シート１回目!BC8)+IF(データ入力シート１回目!BC9=\"\",\"\",データ入力シート１回目!BC9)+IF(データ入力シート１回目!BC10=\"\",\"\",データ入力シート１回目!BC10)","v":{"$error":"#VALUE!"}},{"$f":"IF(データ入力シート１回目!BD8=\"\",\"\",データ入力シート１回目!BD8)+IF(データ入力シート１回目!BD9=\"\",\"\",データ入力シート１回目!BD9)+IF(データ入力シート１回目!BD10=\"\",\"\",データ入力シート１回目!BD10)","v":{"$error":"#VALUE!"}},{"$f":"IF(データ入力シート１回目!BE8=\"\",\"\",データ入力シート１回目!BE8)+IF(データ入力シート１回目!BE9=\"\",\"\",データ入力シート１回目!BE9)+IF(データ入力シート１回目!BE10=\"\",\"\",データ入力シート１回目!BE10)","v":{"$error":"#VALUE!"}},{"$f":"IF(データ入力シート１回目!BF8=\"\",\"\",データ入力シート１回目!BF8)+IF(データ入力シート１回目!BF9=\"\",\"\",データ入力シート１回目!BF9)+IF(データ入力シート１回目!BF10=\"\",\"\",データ入力シート１回目!BF10)","v":{"$error":"#VALUE!"}},{"$f":"IF(データ入力シート１回目!BG8=\"\",\"\",データ入力シート１回目!BG8)+IF(データ入力シート１回目!BG9=\"\",\"\",データ入力シート１回目!BG9)+IF(データ入力シート１回目!BG10=\"\",\"\",データ入力シート１回目!BG10)","v":{"$error":"#VALUE!"}},{"$f":"IF(データ入力シート１回目!BH8=\"\",\"\",データ入力シート１回目!BH8)+IF(データ入力シート１回目!BH9=\"\",\"\",データ入力シート１回目!BH9)+IF(データ入力シート１回目!BH10=\"\",\"\",データ入力シート１回目!BH10)","v":{"$error":"#VALUE!"}},{"$f":"IF(データ入力シート１回目!BI8=\"\",\"\",データ入力シート１回目!BI8)+IF(データ入力シート１回目!BI9=\"\",\"\",データ入力シート１回目!BI9)+IF(データ入力シート１回目!BI10=\"\",\"\",データ入力シート１回目!BI10)","v":{"$error":"#VALUE!"}},{"$f":"IF(データ入力シート１回目!BJ8=\"\",\"\",データ入力シート１回目!BJ8)+IF(データ入力シート１回目!BJ9=\"\",\"\",データ入力シート１回目!BJ9)+IF(データ入力シート１回目!BJ10=\"\",\"\",データ入力シート１回目!BJ10)","v":{"$error":"#VALUE!"}},{"$f":"IF(データ入力シート１回目!BK8=\"\",\"\",データ入力シート１回目!BK8)+IF(データ入力シート１回目!BK9=\"\",\"\",データ入力シート１回目!BK9)+IF(データ入力シート１回目!BK10=\"\",\"\",データ入力シート１回目!BK10)","v":{"$error":"#VALUE!"}},{"$f":"IF(データ入力シート１回目!BL8=\"\",\"\",データ入力シート１回目!BL8)+IF(データ入力シート１回目!BL9=\"\",\"\",データ入力シート１回目!BL9)+IF(データ入力シート１回目!BL10=\"\",\"\",データ入力シート１回目!BL10)","v":{"$error":"#VALUE!"}},{"$f":"IF(データ入力シート１回目!BM8=\"\",\"\",データ入力シート１回目!BM8)+IF(データ入力シート１回目!BM9=\"\",\"\",データ入力シート１回目!BM9)+IF(データ入力シート１回目!BM10=\"\",\"\",データ入力シート１回目!BM10)","v":{"$error":"#VALUE!"}},{"$f":"IF(データ入力シート１回目!BN8=\"\",\"\",データ入力シート１回目!BN8)+IF(データ入力シート１回目!BN9=\"\",\"\",データ入力シート１回目!BN9)+IF(データ入力シート１回目!BN10=\"\",\"\",データ入力シート１回目!BN10)","v":{"$error":"#VALUE!"}},{"$f":"IF(データ入力シート１回目!BO8=\"\",\"\",データ入力シート１回目!BO8)+IF(データ入力シート１回目!BO9=\"\",\"\",データ入力シート１回目!BO9)+IF(データ入力シート１回目!BO10=\"\",\"\",データ入力シート１回目!BO10)","v":{"$error":"#VALUE!"}},{"$f":"IF(データ入力シート１回目!BP8=\"\",\"\",データ入力シート１回目!BP8)+IF(データ入力シート１回目!BP9=\"\",\"\",データ入力シート１回目!BP9)+IF(データ入力シート１回目!BP10=\"\",\"\",データ入力シート１回目!BP10)","v":{"$error":"#VALUE!"}},{"$f":"IF(データ入力シート１回目!BQ8=\"\",\"\",データ入力シート１回目!BQ8)+IF(データ入力シート１回目!BQ9=\"\",\"\",データ入力シート１回目!BQ9)+IF(データ入力シート１回目!BQ10=\"\",\"\",データ入力シート１回目!BQ10)","v":{"$error":"#VALUE!"}},{"$f":"IF(データ入力シート１回目!BR8=\"\",\"\",データ入力シート１回目!BR8)+IF(データ入力シート１回目!BR9=\"\",\"\",データ入力シート１回目!BR9)+IF(データ入力シート１回目!BR10=\"\",\"\",データ入力シート１回目!BR10)","v":{"$error":"#VALUE!"}},{"$f":"IF(データ入力シート１回目!BS8=\"\",\"\",データ入力シート１回目!BS8)+IF(データ入力シート１回目!BS9=\"\",\"\",データ入力シート１回目!BS9)+IF(データ入力シート１回目!BS10=\"\",\"\",データ入力シート１回目!BS10)","v":{"$error":"#VALUE!"}},{"$f":"IF(データ入力シート１回目!BT8=\"\",\"\",データ入力シート１回目!BT8)+IF(データ入力シート１回目!BT9=\"\",\"\",データ入力シート１回目!BT9)+IF(データ入力シート１回目!BT10=\"\",\"\",データ入力シート１回目!BT10)","v":{"$error":"#VALUE!"}},{"$f":"IF(データ入力シート１回目!BU8=\"\",\"\",データ入力シート１回目!BU8)+IF(データ入力シート１回目!BU9=\"\",\"\",データ入力シート１回目!BU9)+IF(データ入力シート１回目!BU10=\"\",\"\",データ入力シート１回目!BU10)","v":{"$error":"#VALUE!"}},{"$f":"IF(データ入力シート１回目!BV8=\"\",\"\",データ入力シート１回目!BV8)+IF(データ入力シート１回目!BV9=\"\",\"\",データ入力シート１回目!BV9)+IF(データ入力シート１回目!BV10=\"\",\"\",データ入力シート１回目!BV10)","v":{"$error":"#VALUE!"}},{"$f":"IF(データ入力シート１回目!BW8=\"\",\"\",データ入力シート１回目!BW8)+IF(データ入力シート１回目!BW9=\"\",\"\",データ入力シート１回目!BW9)+IF(データ入力シート１回目!BW10=\"\",\"\",データ入力シート１回目!BW10)","v":{"$error":"#VALUE!"}},{"$f":"IF(データ入力シート１回目!BX8=\"\",\"\",データ入力シート１回目!BX8)+IF(データ入力シート１回目!BX9=\"\",\"\",データ入力シート１回目!BX9)+IF(データ入力シート１回目!BX10=\"\",\"\",データ入力シート１回目!BX10)","v":{"$error":"#VALUE!"}},{"$f":"IF(データ入力シート１回目!BY8=\"\",\"\",データ入力シート１回目!BY8)+IF(データ入力シート１回目!BY9=\"\",\"\",データ入力シート１回目!BY9)+IF(データ入力シート１回目!BY10=\"\",\"\",データ入力シート１回目!BY10)","v":{"$error":"#VALUE!"}},{"$f":"IF(データ入力シート１回目!BZ8=\"\",\"\",データ入力シート１回目!BZ8)+IF(データ入力シート１回目!BZ9=\"\",\"\",データ入力シート１回目!BZ9)+IF(データ入力シート１回目!BZ10=\"\",\"\",データ入力シート１回目!BZ10)","v":{"$error":"#VALUE!"}},{"$f":"IF(データ入力シート１回目!CA8=\"\",\"\",データ入力シート１回目!CA8)+IF(データ入力シート１回目!CA9=\"\",\"\",データ入力シート１回目!CA9)+IF(データ入力シート１回目!CA10=\"\",\"\",データ入力シート１回目!CA10)","v":{"$error":"#VALUE!"}},{"$f":"IF(データ入力シート１回目!CB8=\"\",\"\",データ入力シート１回目!CB8)+IF(データ入力シート１回目!CB9=\"\",\"\",データ入力シート１回目!CB9)+IF(データ入力シート１回目!CB10=\"\",\"\",データ入力シート１回目!CB10)","v":{"$error":"#VALUE!"}},{"$f":"IF(データ入力シート１回目!CC8=\"\",\"\",データ入力シート１回目!CC8)+IF(データ入力シート１回目!CC9=\"\",\"\",データ入力シート１回目!CC9)+IF(データ入力シート１回目!CC10=\"\",\"\",データ入力シート１回目!CC10)","v":{"$error":"#VALUE!"}},{"$f":"IF(データ入力シート１回目!CD8=\"\",\"\",データ入力シート１回目!CD8)+IF(データ入力シート１回目!CD9=\"\",\"\",データ入力シート１回目!CD9)+IF(データ入力シート１回目!CD10=\"\",\"\",データ入力シート１回目!CD10)","v":{"$error":"#VALUE!"}},{"$f":"IF(データ入力シート１回目!CE8=\"\",\"\",データ入力シート１回目!CE8)+IF(データ入力シート１回目!CE9=\"\",\"\",データ入力シート１回目!CE9)+IF(データ入力シート１回目!CE10=\"\",\"\",データ入力シート１回目!CE10)","v":{"$error":"#VALUE!"}},{"$f":"IF(データ入力シート１回目!CF8=\"\",\"\",データ入力シート１回目!CF8)+IF(データ入力シート１回目!CF9=\"\",\"\",データ入力シート１回目!CF9)+IF(データ入力シート１回目!CF10=\"\",\"\",データ入力シート１回目!CF10)","v":{"$error":"#VALUE!"}},{"$f":"IF(データ入力シート１回目!CG8=\"\",\"\",データ入力シート１回目!CG8)+IF(データ入力シート１回目!CG9=\"\",\"\",データ入力シート１回目!CG9)+IF(データ入力シート１回目!CG10=\"\",\"\",データ入力シート１回目!CG10)","v":{"$error":"#VALUE!"}},{"$f":"IF(データ入力シート１回目!CH8=\"\",\"\",データ入力シート１回目!CH8)+IF(データ入力シート１回目!CH9=\"\",\"\",データ入力シート１回目!CH9)+IF(データ入力シート１回目!CH10=\"\",\"\",データ入力シート１回目!CH10)","v":{"$error":"#VALUE!"}},{"$f":"IF(データ入力シート１回目!CI8=\"\",\"\",データ入力シート１回目!CI8)+IF(データ入力シート１回目!CI9=\"\",\"\",データ入力シート１回目!CI9)+IF(データ入力シート１回目!CI10=\"\",\"\",データ入力シート１回目!CI10)","v":{"$error":"#VALUE!"}},{"$f":"IF(データ入力シート１回目!CJ8=\"\",\"\",データ入力シート１回目!CJ8)+IF(データ入力シート１回目!CJ9=\"\",\"\",データ入力シート１回目!CJ9)+IF(データ入力シート１回目!CJ10=\"\",\"\",データ入力シート１回目!CJ10)","v":{"$error":"#VALUE!"}},{"$f":"IF(データ入力シート１回目!CK8=\"\",\"\",データ入力シート１回目!CK8)+IF(データ入力シート１回目!CK9=\"\",\"\",データ入力シート１回目!CK9)+IF(データ入力シート１回目!CK10=\"\",\"\",データ入力シート１回目!CK10)","v":{"$error":"#VALUE!"}},{"$f":"IF(データ入力シート１回目!CL8=\"\",\"\",データ入力シート１回目!CL8)+IF(データ入力シート１回目!CL9=\"\",\"\",データ入力シート１回目!CL9)+IF(データ入力シート１回目!CL10=\"\",\"\",データ入力シート１回目!CL10)","v":{"$error":"#VALUE!"}},{"$f":"IF(データ入力シート１回目!CM8=\"\",\"\",データ入力シート１回目!CM8)+IF(データ入力シート１回目!CM9=\"\",\"\",データ入力シート１回目!CM9)+IF(データ入力シート１回目!CM10=\"\",\"\",データ入力シート１回目!CM10)","v":{"$error":"#VALUE!"}},{"$f":"IF(データ入力シート１回目!CN8=\"\",\"\",データ入力シート１回目!CN8)+IF(データ入力シート１回目!CN9=\"\",\"\",データ入力シート１回目!CN9)+IF(データ入力シート１回目!CN10=\"\",\"\",データ入力シート１回目!CN10)","v":{"$error":"#VALUE!"}},{"$f":"IF(データ入力シート１回目!CO8=\"\",\"\",データ入力シート１回目!CO8)+IF(データ入力シート１回目!CO9=\"\",\"\",データ入力シート１回目!CO9)+IF(データ入力シート１回目!CO10=\"\",\"\",データ入力シート１回目!CO10)","v":{"$error":"#VALUE!"}},{"$f":"IF(データ入力シート１回目!CP8=\"\",\"\",データ入力シート１回目!CP8)+IF(データ入力シート１回目!CP9=\"\",\"\",データ入力シート１回目!CP9)+IF(データ入力シート１回目!CP10=\"\",\"\",データ入力シート１回目!CP10)","v":{"$error":"#VALUE!"}},{"$f":"IF(データ入力シート１回目!CQ8=\"\",\"\",データ入力シート１回目!CQ8)+IF(データ入力シート１回目!CQ9=\"\",\"\",データ入力シート１回目!CQ9)+IF(データ入力シート１回目!CQ10=\"\",\"\",データ入力シート１回目!CQ10)","v":{"$error":"#VALUE!"}},{"$f":"IF(データ入力シート１回目!CR8=\"\",\"\",データ入力シート１回目!CR8)+IF(データ入力シート１回目!CR9=\"\",\"\",データ入力シート１回目!CR9)+IF(データ入力シート１回目!CR10=\"\",\"\",データ入力シート１回目!CR10)","v":{"$error":"#VALUE!"}},{"$f":"IF(データ入力シート１回目!CS8=\"\",\"\",データ入力シート１回目!CS8)+IF(データ入力シート１回目!CS9=\"\",\"\",データ入力シート１回目!CS9)+IF(データ入力シート１回目!CS10=\"\",\"\",データ入力シート１回目!CS10)","v":{"$error":"#VALUE!"}},{"$f":"IF(データ入力シート１回目!CT8=\"\",\"\",データ入力シート１回目!CT8)+IF(データ入力シート１回目!CT9=\"\",\"\",データ入力シート１回目!CT9)+IF(データ入力シート１回目!CT10=\"\",\"\",データ入力シート１回目!CT10)","v":{"$error":"#VALUE!"}},{"$f":"IF(データ入力シート１回目!CU8=\"\",\"\",データ入力シート１回目!CU8)+IF(データ入力シート１回目!CU9=\"\",\"\",データ入力シート１回目!CU9)+IF(データ入力シート１回目!CU10=\"\",\"\",データ入力シート１回目!CU10)","v":{"$error":"#VALUE!"}},{"$f":"IF(データ入力シート１回目!CV8=\"\",\"\",データ入力シート１回目!CV8)+IF(データ入力シート１回目!CV9=\"\",\"\",データ入力シート１回目!CV9)+IF(データ入力シート１回目!CV10=\"\",\"\",データ入力シート１回目!CV10)","v":{"$error":"#VALUE!"}},{"$f":"IF(データ入力シート１回目!CW8=\"\",\"\",データ入力シート１回目!CW8)+IF(データ入力シート１回目!CW9=\"\",\"\",データ入力シート１回目!CW9)+IF(データ入力シート１回目!CW10=\"\",\"\",データ入力シート１回目!CW10)","v":{"$error":"#VALUE!"}},{"$f":"IF(データ入力シート１回目!CX8=\"\",\"\",データ入力シート１回目!CX8)+IF(データ入力シート１回目!CX9=\"\",\"\",データ入力シート１回目!CX9)+IF(データ入力シート１回目!CX10=\"\",\"\",データ入力シート１回目!CX10)","v":{"$error":"#VALUE!"}},{"$f":"IF(データ入力シート１回目!CY8=\"\",\"\",データ入力シート１回目!CY8)+IF(データ入力シート１回目!CY9=\"\",\"\",データ入力シート１回目!CY9)+IF(データ入力シート１回目!CY10=\"\",\"\",データ入力シート１回目!CY10)","v":{"$error":"#VALUE!"}},{"$f":"IF(データ入力シート１回目!CZ8=\"\",\"\",データ入力シート１回目!CZ8)+IF(データ入力シート１回目!CZ9=\"\",\"\",データ入力シート１回目!CZ9)+IF(データ入力シート１回目!CZ10=\"\",\"\",データ入力シート１回目!CZ10)","v":{"$error":"#VALUE!"}}]
[null,"D",{"$f":"IF(データ入力シート１回目!E11=\"\",\"\",データ入力シート１回目!E11)+IF(データ入力シート１回目!E12=\"\",\"\",データ入力シート１回目!E12)+IF(データ入力シート１回目!E13=\"\",\"\",データ入力シート１回目!E13)","v":{"$error":"#VALUE!"}},{"$f":"IF(データ入力シート１回目!F11=\"\",\"\",データ入力シート１回目!F11)+IF(データ入力シート１回目!F12=\"\",\"\",データ入力シート１回目!F12)+IF(データ入力シート１回目!F13=\"\",\"\",データ入力シート１回目!F13)","v":{"$error":"#VALUE!"}},{"$f":"IF(データ入力シート１回目!G11=\"\",\"\",データ入力シート１回目!G11)+IF(データ入力シート１回目!G12=\"\",\"\",データ入力シート１回目!G12)+IF(データ入力シート１回目!G13=\"\",\"\",データ入力シート１回目!G13)","v":{"$error":"#VALUE!"}},{"$f":"IF(データ入力シート１回目!H11=\"\",\"\",データ入力シート１回目!H11)+IF(データ入力シート１回目!H12=\"\",\"\",データ入力シート１回目!H12)+IF(データ入力シート１回目!H13=\"\",\"\",データ入力シート１回目!H13)","v":{"$error":"#VALUE!"}},{"$f":"IF(データ入力シート１回目!I11=\"\",\"\",データ入力シート１回目!I11)+IF(データ入力シート１回目!I12=\"\",\"\",データ入力シート１回目!I12)+IF(データ入力シート１回目!I13=\"\",\"\",データ入力シート１回目!I13)","v":{"$error":"#VALUE!"}},{"$f":"IF(データ入力シート１回目!J11=\"\",\"\",データ入力シート１回目!J11)+IF(データ入力シート１回目!J12=\"\",\"\",データ入力シート１回目!J12)+IF(データ入力シート１回目!J13=\"\",\"\",データ入力シート１回目!J13)","v":{"$error":"#VALUE!"}},{"$f":"IF(データ入力シート１回目!K11=\"\",\"\",データ入力シート１回目!K11)+IF(データ入力シート１回目!K12=\"\",\"\",データ入力シート１回目!K12)+IF(データ入力シート１回目!K13=\"\",\"\",データ入力シート１回目!K13)","v":{"$error":"#VALUE!"}},{"$f":"IF(データ入力シート１回目!L11=\"\",\"\",データ入力シート１回目!L11)+IF(データ入力シート１回目!L12=\"\",\"\",データ入力シート１回目!L12)+IF(データ入力シート１回目!L13=\"\",\"\",データ入力シート１回目!L13)","v":{"$error":"#VALUE!"}},{"$f":"IF(データ入力シート１回目!M11=\"\",\"\",データ入力シート１回目!M11)+IF(データ入力シート１回目!M12=\"\",\"\",データ入力シート１回目!M12)+IF(データ入力シート１回目!M13=\"\",\"\",データ入力シート１回目!M13)","v":{"$error":"#VALUE!"}},{"$f":"IF(データ入力シート１回目!N11=\"\",\"\",データ入力シート１回目!N11)+IF(データ入力シート１回目!N12=\"\",\"\",データ入力シート１回目!N12)+IF(データ入力シート１回目!N13=\"\",\"\",データ入力シート１回目!N13)","v":{"$error":"#VALUE!"}},{"$f":"IF(データ入力シート１回目!O11=\"\",\"\",データ入力シート１回目!O11)+IF(データ入力シート１回目!O12=\"\",\"\",データ入力シート１回目!O12)+IF(データ入力シート１回目!O13=\"\",\"\",データ入力シート１回目!O13)","v":{"$error":"#VALUE!"}},{"$f":"IF(データ入力シート１回目!P11=\"\",\"\",データ入力シート１回目!P11)+IF(データ入力シート１回目!P12=\"\",\"\",データ入力シート１回目!P12)+IF(データ入力シート１回目!P13=\"\",\"\",データ入力シート１回目!P13)","v":{"$error":"#VALUE!"}},{"$f":"IF(データ入力シート１回目!Q11=\"\",\"\",データ入力シート１回目!Q11)+IF(データ入力シート１回目!Q12=\"\",\"\",データ入力シート１回目!Q12)+IF(データ入力シート１回目!Q13=\"\",\"\",データ入力シート１回目!Q13)","v":{"$error":"#VALUE!"}},{"$f":"IF(データ入力シート１回目!R11=\"\",\"\",データ入力シート１回目!R11)+IF(データ入力シート１回目!R12=\"\",\"\",データ入力シート１回目!R12)+IF(データ入力シート１回目!R13=\"\",\"\",データ入力シート１回目!R13)","v":{"$error":"#VALUE!"}},{"$f":"IF(データ入力シート１回目!S11=\"\",\"\",データ入力シート１回目!S11)+IF(データ入力シート１回目!S12=\"\",\"\",データ入力シート１回目!S12)+IF(データ入力シート１回目!S13=\"\",\"\",データ入力シート１回目!S13)","v":{"$error":"#VALUE!"}},{"$f":"IF(データ入力シート１回目!T11=\"\",\"\",データ入力シート１回目!T11)+IF(データ入力シート１回目!T12=\"\",\"\",データ入力シート１回目!T12)+IF(データ入力シート１回目!T13=\"\",\"\",データ入力シート１回目!T13)","v":{"$error":"#VALUE!"}},{"$f":"IF(データ入力シート１回目!U11=\"\",\"\",データ入力シート１回目!U11)+IF(データ入力シート１回目!U12=\"\",\"\",データ入力シート１回目!U12)+IF(データ入力シート１回目!U13=\"\",\"\",データ入力シート１回目!U13)","v":{"$error":"#VALUE!"}},{"$f":"IF(データ入力シート１回目!V11=\"\",\"\",データ入力シート１回目!V11)+IF(データ入力シート１回目!V12=\"\",\"\",データ入力シート１回目!V12)+IF(データ入力シート１回目!V13=\"\",\"\",データ入力シート１回目!V13)","v":{"$error":"#VALUE!"}},{"$f":"IF(データ入力シート１回目!W11=\"\",\"\",データ入力シート１回目!W11)+IF(データ入力シート１回目!W12=\"\",\"\",データ入力シート１回目!W12)+IF(データ入力シート１回目!W13=\"\",\"\",データ入力シート１回目!W13)","v":{"$error":"#VALUE!"}},{"$f":"IF(データ入力シート１回目!X11=\"\",\"\",データ入力シート１回目!X11)+IF(データ入力シート１回目!X12=\"\",\"\",データ入力シート１回目!X12)+IF(データ入力シート１回目!X13=\"\",\"\",データ入力シート１回目!X13)","v":{"$error":"#VALUE!"}},{"$f":"IF(データ入力シート１回目!Y11=\"\",\"\",データ入力シート１回目!Y11)+IF(データ入力シート１回目!Y12=\"\",\"\",データ入力シート１回目!Y12)+IF(データ入力シート１回目!Y13=\"\",\"\",データ入力シート１回目!Y13)","v":{"$error":"#VALUE!"}},{"$f":"IF(データ入力シート１回目!Z11=\"\",\"\",データ入力シート１回目!Z11)+IF(データ入力シート１回目!Z12=\"\",\"\",データ入力シート１回目!Z12)+IF(データ入力シート１回目!Z13=\"\",\"\",データ入力シート１回目!Z13)","v":{"$error":"#VALUE!"}},{"$f":"IF(データ入力シート１回目!AA11=\"\",\"\",データ入力シート１回目!AA11)+IF(データ入力シート１回目!AA12=\"\",\"\",データ入力シート１回目!AA12)+IF(データ入力シート１回目!AA13=\"\",\"\",データ入力シート１回目!AA13)","v":{"$error":"#VALUE!"}},{"$f":"IF(データ入力シート１回目!AB11=\"\",\"\",データ入力シート１回目!AB11)+IF(データ入力シート１回目!AB12=\"\",\"\",データ入力シート１回目!AB12)+IF(データ入力シート１回目!AB13=\"\",\"\",データ入力シート１回目!AB13)","v":{"$error":"#VALUE!"}},{"$f":"IF(データ入力シート１回目!AC11=\"\",\"\",データ入力シート１回目!AC11)+IF(データ入力シート１回目!AC12=\"\",\"\",データ入力シート１回目!AC12)+IF(データ入力シート１回目!AC13=\"\",\"\",データ入力シート１回目!AC13)","v":{"$error":"#VALUE!"}},{"$f":"IF(データ入力シート１回目!AD11=\"\",\"\",データ入力シート１回目!AD11)+IF(データ入力シート１回目!AD12=\"\",\"\",データ入力シート１回目!AD12)+IF(データ入力シート１回目!AD13=\"\",\"\",データ入力シート１回目!AD13)","v":{"$error":"#VALUE!"}},{"$f":"IF(データ入力シート１回目!AE11=\"\",\"\",データ入力シート１回目!AE11)+IF(データ入力シート１回目!AE12=\"\",\"\",データ入力シート１回目!AE12)+IF(データ入力シート１回目!AE13=\"\",\"\",データ入力シート１回目!AE13)","v":{"$error":"#VALUE!"}},{"$f":"IF(データ入力シート１回目!AF11=\"\",\"\",データ入力シート１回目!AF11)+IF(データ入力シート１回目!AF12=\"\",\"\",データ入力シート１回目!AF12)+IF(データ入力シート１回目!AF13=\"\",\"\",データ入力シート１回目!AF13)","v":{"$error":"#VALUE!"}},{"$f":"IF(データ入力シート１回目!AG11=\"\",\"\",データ入力シート１回目!AG11)+IF(データ入力シート１回目!AG12=\"\",\"\",データ入力シート１回目!AG12)+IF(データ入力シート１回目!AG13=\"\",\"\",データ入力シート１回目!AG13)","v":{"$error":"#VALUE!"}},{"$f":"IF(データ入力シート１回目!AH11=\"\",\"\",データ入力シート１回目!AH11)+IF(データ入力シート１回目!AH12=\"\",\"\",データ入力シート１回目!AH12)+IF(データ入力シート１回目!AH13=\"\",\"\",データ入力シート１回目!AH13)","v":{"$error":"#VALUE!"}},{"$f":"IF(データ入力シート１回目!AI11=\"\",\"\",データ入力シート１回目!AI11)+IF(データ入力シート１回目!AI12=\"\",\"\",データ入力シート１回目!AI12)+IF(データ入力シート１回目!AI13=\"\",\"\",データ入力シート１回目!AI13)","v":{"$error":"#VALUE!"}},{"$f":"IF(データ入力シート１回目!AJ11=\"\",\"\",データ入力シート１回目!AJ11)+IF(データ入力シート１回目!AJ12=\"\",\"\",データ入力シート１回目!AJ12)+IF(データ入力シート１回目!AJ13=\"\",\"\",データ入力シート１回目!AJ13)","v":{"$error":"#VALUE!"}},{"$f":"IF(データ入力シート１回目!AK11=\"\",\"\",データ入力シート１回目!AK11)+IF(データ入力シート１回目!AK12=\"\",\"\",データ入力シート１回目!AK12)+IF(データ入力シート１回目!AK13=\"\",\"\",データ入力シート１回目!AK13)","v":{"$error":"#VALUE!"}},{"$f":"IF(データ入力シート１回目!AL11=\"\",\"\",データ入力シート１回目!AL11)+IF(データ入力シート１回目!AL12=\"\",\"\",データ入力シート１回目!AL12)+IF(データ入力シート１回目!AL13=\"\",\"\",データ入力シート１回目!AL13)","v":{"$error":"#VALUE!"}},{"$f":"IF(データ入力シート１回目!AM11=\"\",\"\",データ入力シート１回目!AM11)+IF(データ入力シート１回目!AM12=\"\",\"\",データ入力シート１回目!AM12)+IF(データ入力シート１回目!AM13=\"\",\"\",データ入力シート１回目!AM13)","v":{"$error":"#VALUE!"}},{"$f":"IF(データ入力シート１回目!AN11=\"\",\"\",データ入力シート１回目!AN11)+IF(データ入力シート１回目!AN12=\"\",\"\",データ入力シート１回目!AN12)+IF(データ入力シート１回目!AN13=\"\",\"\",データ入力シート１回目!AN13)","v":{"$error":"#VALUE!"}},{"$f":"IF(データ入力シート１回目!AO11=\"\",\"\",データ入力シート１回目!AO11)+IF(データ入力シート１回目!AO12=\"\",\"\",データ入力シート１回目!AO12)+IF(データ入力シート１回目!AO13=\"\",\"\",データ入力シート１回目!AO13)","v":{"$error":"#VALUE!"}},{"$f":"IF(データ入力シート１回目!AP11=\"\",\"\",データ入力シート１回目!AP11)+IF(データ入力シート１回目!AP12=\"\",\"\",データ入力シート１回目!AP12)+IF(データ入力シート１回目!AP13=\"\",\"\",データ入力シート１回目!AP13)","v":{"$error":"#VALUE!"}},{"$f":"IF(データ入力シート１回目!AQ11=\"\",\"\",データ入力シート１回目!AQ11)+IF(データ入力シート１回目!AQ12=\"\",\"\",データ入力シート１回目!AQ12)+IF(データ入力シート１回目!AQ13=\"\",\"\",データ入力シート１回目!AQ13)","v":{"$error":"#VALUE!"}},{"$f":"IF(データ入力シート１回目!AR11=\"\",\"\",データ入力シート１回目!AR11)+IF(データ入力シート１回目!AR12=\"\",\"\",データ入力シート１回目!AR12)+IF(データ入力シート１回目!AR13=\"\",\"\",データ入力シート１回目!AR13)","v":{"$error":"#VALUE!"}},{"$f":"IF(データ入力シート１回目!AS11=\"\",\"\",データ入力シート１回目!AS11)+IF(データ入力シート１回目!AS12=\"\",\"\",データ入力シート１回目!AS12)+IF(データ入力シート１回目!AS13=\"\",\"\",データ入力シート１回目!AS13)","v":{"$error":"#VALUE!"}},{"$f":"IF(データ入力シート１回目!AT11=\"\",\"\",データ入力シート１回目!AT11)+IF(データ入力シート１回目!AT12=\"\",\"\",データ入力シート１回目!AT12)+IF(データ入力シート１回目!AT13=\"\",\"\",データ入力シート１回目!AT13)","v":{"$error":"#VALUE!"}},{"$f":"IF(データ入力シート１回目!AU11=\"\",\"\",データ入力シート１回目!AU11)+IF(データ入力シート１回目!AU12=\"\",\"\",データ入力シート１回目!AU12)+IF(データ入力シート１回目!AU13=\"\",\"\",データ入力シート１回目!AU13)","v":{"$error":"#VALUE!"}},{"$f":"IF(データ入力シート１回目!AV11=\"\",\"\",データ入力シート１回目!AV11)+IF(データ入力シート１回目!AV12=\"\",\"\",データ入力シート１回目!AV12)+IF(データ入力シート１回目!AV13=\"\",\"\",データ入力シート１回目!AV13)","v":{"$error":"#VALUE!"}},{"$f":"IF(データ入力シート１回目!AW11=\"\",\"\",データ入力シート１回目!AW11)+IF(データ入力シート１回目!AW12=\"\",\"\",データ入力シート１回目!AW12)+IF(データ入力シート１回目!AW13=\"\",\"\",データ入力シート１回目!AW13)","v":{"$error":"#VALUE!"}},{"$f":"IF(データ入力シート１回目!AX11=\"\",\"\",データ入力シート１回目!AX11)+IF(データ入力シート１回目!AX12=\"\",\"\",データ入力シート１回目!AX12)+IF(データ入力シート１回目!AX13=\"\",\"\",データ入力シート１回目!AX13)","v":{"$error":"#VALUE!"}},{"$f":"IF(データ入力シート１回目!AY11=\"\",\"\",データ入力シート１回目!AY11)+IF(データ入力シート１回目!AY12=\"\",\"\",データ入力シート１回目!AY12)+IF(データ入力シート１回目!AY13=\"\",\"\",データ入力シート１回目!AY13)","v":{"$error":"#VALUE!"}},{"$f":"IF(データ入力シート１回目!AZ11=\"\",\"\",データ入力シート１回目!AZ11)+IF(データ入力シート１回目!AZ12=\"\",\"\",データ入力シート１回目!AZ12)+IF(データ入力シート１回目!AZ13=\"\",\"\",データ入力シート１回目!AZ13)","v":{"$error":"#VALUE!"}},{"$f":"IF(データ入力シート１回目!BA11=\"\",\"\",データ入力シート１回目!BA11)+IF(データ入力シート１回目!BA12=\"\",\"\",データ入力シート１回目!BA12)+IF(データ入力シート１回目!BA13=\"\",\"\",データ入力シート１回目!BA13)","v":{"$error":"#VALUE!"}},{"$f":"IF(データ入力シート１回目!BB11=\"\",\"\",データ入力シート１回目!BB11)+IF(データ入力シート１回目!BB12=\"\",\"\",データ入力シート１回目!BB12)+IF(データ入力シート１回目!BB13=\"\",\"\",データ入力シート１回目!BB13)","v":{"$error":"#VALUE!"}},{"$f":"IF(データ入力シート１回目!BC11=\"\",\"\",データ入力シート１回目!BC11)+IF(データ入力シート１回目!BC12=\"\",\"\",データ入力シート１回目!BC12)+IF(データ入力シート１回目!BC13=\"\",\"\",データ入力シート１回目!BC13)","v":{"$error":"#VALUE!"}},{"$f":"IF(データ入力シート１回目!BD11=\"\",\"\",データ入力シート１回目!BD11)+IF(データ入力シート１回目!BD12=\"\",\"\",データ入力シート１回目!BD12)+IF(データ入力シート１回目!BD13=\"\",\"\",データ入力シート１回目!BD13)","v":{"$error":"#VALUE!"}},{"$f":"IF(データ入力シート１回目!BE11=\"\",\"\",データ入力シート１回目!BE11)+IF(データ入力シート１回目!BE12=\"\",\"\",データ入力シート１回目!BE12)+IF(データ入力シート１回目!BE13=\"\",\"\",データ入力シート１回目!BE13)","v":{"$error":"#VALUE!"}},{"$f":"IF(データ入力シート１回目!BF11=\"\",\"\",データ入力シート１回目!BF11)+IF(データ入力シート１回目!BF12=\"\",\"\",データ入力シート１回目!BF12)+IF(データ入力シート１回目!BF13=\"\",\"\",データ入力シート１回目!BF13)","v":{"$error":"#VALUE!"}},{"$f":"IF(データ入力シート１回目!BG11=\"\",\"\",データ入力シート１回目!BG11)+IF(データ入力シート１回目!BG12=\"\",\"\",データ入力シート１回目!BG12)+IF(データ入力シート１回目!BG13=\"\",\"\",データ入力シート１回目!BG13)","v":{"$error":"#VALUE!"}},{"$f":"IF(データ入力シート１回目!BH11=\"\",\"\",データ入力シート１回目!BH11)+IF(データ入力シート１回目!BH12=\"\",\"\",データ入力シート１回目!BH12)+IF(データ入力シート１回目!BH13=\"\",\"\",データ入力シート１回目!BH13)","v":{"$error":"#VALUE!"}},{"$f":"IF(データ入力シート１回目!BI11=\"\",\"\",データ入力シート１回目!BI11)+IF(データ入力シート１回目!BI12=\"\",\"\",データ入力シート１回目!BI12)+IF(データ入力シート１回目!BI13=\"\",\"\",データ入力シート１回目!BI13)","v":{"$error":"#VALUE!"}},{"$f":"IF(データ入力シート１回目!BJ11=\"\",\"\",データ入力シート１回目!BJ11)+IF(データ入力シート１回目!BJ12=\"\",\"\",データ入力シート１回目!BJ12)+IF(データ入力シート１回目!BJ13=\"\",\"\",データ入力シート１回目!BJ13)","v":{"$error":"#VALUE!"}},{"$f":"IF(データ入力シート１回目!BK11=\"\",\"\",データ入力シート１回目!BK11)+IF(データ入力シート１回目!BK12=\"\",\"\",データ入力シート１回目!BK12)+IF(データ入力シート１回目!BK13=\"\",\"\",データ入力シート１回目!BK13)","v":{"$error":"#VALUE!"}},{"$f":"IF(データ入力シート１回目!BL11=\"\",\"\",データ入力シート１回目!BL11)+IF(データ入力シート１回目!BL12=\"\",\"\",データ入力シート１回目!BL12)+IF(データ入力シート１回目!BL13=\"\",\"\",データ入力シート１回目!BL13)","v":{"$error":"#VALUE!"}},{"$f":"IF(データ入力シート１回目!BM11=\"\",\"\",データ入力シート１回目!BM11)+IF(データ入力シート１回目!BM12=\"\",\"\",データ入力シート１回目!BM12)+IF(データ入力シート１回目!BM13=\"\",\"\",データ入力シート１回目!BM13)","v":{"$error":"#VALUE!"}},{"$f":"IF(データ入力シート１回目!BN11=\"\",\"\",データ入力シート１回目!BN11)+IF(データ入力シート１回目!BN12=\"\",\"\",データ入力シート１回目!BN12)+IF(データ入力シート１回目!BN13=\"\",\"\",データ入力シート１回目!BN13)","v":{"$error":"#VALUE!"}},{"$f":"IF(データ入力シート１回目!BO11=\"\",\"\",データ入力シート１回目!BO11)+IF(データ入力シート１回目!BO12=\"\",\"\",データ入力シート１回目!BO12)+IF(データ入力シート１回目!BO13=\"\",\"\",データ入力シート１回目!BO13)","v":{"$error":"#VALUE!"}},{"$f":"IF(データ入力シート１回目!BP11=\"\",\"\",データ入力シート１回目!BP11)+IF(データ入力シート１回目!BP12=\"\",\"\",データ入力シート１回目!BP12)+IF(データ入力シート１回目!BP13=\"\",\"\",データ入力シート１回目!BP13)","v":{"$error":"#VALUE!"}},{"$f":"IF(データ入力シート１回目!BQ11=\"\",\"\",データ入力シート１回目!BQ11)+IF(データ入力シート１回目!BQ12=\"\",\"\",データ入力シート１回目!BQ12)+IF(データ入力シート１回目!BQ13=\"\",\"\",データ入力シート１回目!BQ13)","v":{"$error":"#VALUE!"}},{"$f":"IF(データ入力シート１回目!BR11=\"\",\"\",データ入力シート１回目!BR11)+IF(データ入力シート１回目!BR12=\"\",\"\",データ入力シート１回目!BR12)+IF(データ入力シート１回目!BR13=\"\",\"\",データ入力シート１回目!BR13)","v":{"$error":"#VALUE!"}},{"$f":"IF(データ入力シート１回目!BS11=\"\",\"\",データ入力シート１回目!BS11)+IF(データ入力シート１回目!BS12=\"\",\"\",データ入力シート１回目!BS12)+IF(データ入力シート１回目!BS13=\"\",\"\",データ入力シート１回目!BS13)","v":{"$error":"#VALUE!"}},{"$f":"IF(データ入力シート１回目!BT11=\"\",\"\",データ入力シート１回目!BT11)+IF(データ入力シート１回目!BT12=\"\",\"\",データ入力シート１回目!BT12)+IF(データ入力シート１回目!BT13=\"\",\"\",データ入力シート１回目!BT13)","v":{"$error":"#VALUE!"}},{"$f":"IF(データ入力シート１回目!BU11=\"\",\"\",データ入力シート１回目!BU11)+IF(データ入力シート１回目!BU12=\"\",\"\",データ入力シート１回目!BU12)+IF(データ入力シート１回目!BU13=\"\",\"\",データ入力シート１回目!BU13)","v":{"$error":"#VALUE!"}},{"$f":"IF(データ入力シート１回目!BV11=\"\",\"\",データ入力シート１回目!BV11)+IF(データ入力シート１回目!BV12=\"\",\"\",データ入力シート１回目!BV12)+IF(データ入力シート１回目!BV13=\"\",\"\",データ入力シート１回目!BV13)","v":{"$error":"#VALUE!"}},{"$f":"IF(データ入力シート１回目!BW11=\"\",\"\",データ入力シート１回目!BW11)+IF(データ入力シート１回目!BW12=\"\",\"\",データ入力シート１回目!BW12)+IF(データ入力シート１回目!BW13=\"\",\"\",データ入力シート１回目!BW13)","v":{"$error":"#VALUE!"}},{"$f":"IF(データ入力シート１回目!BX11=\"\",\"\",データ入力シート１回目!BX11)+IF(データ入力シート１回目!BX12=\"\",\"\",データ入力シート１回目!BX12)+IF(データ入力シート１回目!BX13=\"\",\"\",データ入力シート１回目!BX13)","v":{"$error":"#VALUE!"}},{"$f":"IF(データ入力シート１回目!BY11=\"\",\"\",データ入力シート１回目!BY11)+IF(データ入力シート１回目!BY12=\"\",\"\",データ入力シート１回目!BY12)+IF(データ入力シート１回目!BY13=\"\",\"\",データ入力シート１回目!BY13)","v":{"$error":"#VALUE!"}},{"$f":"IF(データ入力シート１回目!BZ11=\"\",\"\",データ入力シート１回目!BZ11)+IF(データ入力シート１回目!BZ12=\"\",\"\",データ入力シート１回目!BZ12)+IF(データ入力シート１回目!BZ13=\"\",\"\",データ入力シート１回目!BZ13)","v":{"$error":"#VALUE!"}},{"$f":"IF(データ入力シート１回目!CA11=\"\",\"\",データ入力シート１回目!CA11)+IF(データ入力シート１回目!CA12=\"\",\"\",データ入力シート１回目!CA12)+IF(データ入力シート１回目!CA13=\"\",\"\",データ入力シート１回目!CA13)","v":{"$error":"#VALUE!"}},{"$f":"IF(データ入力シート１回目!CB11=\"\",\"\",データ入力シート１回目!CB11)+IF(データ入力シート１回目!CB12=\"\",\"\",データ入力シート１回目!CB12)+IF(データ入力シート１回目!CB13=\"\",\"\",データ入力シート１回目!CB13)","v":{"$error":"#VALUE!"}},{"$f":"IF(データ入力シート１回目!CC11=\"\",\"\",データ入力シート１回目!CC11)+IF(データ入力シート１回目!CC12=\"\",\"\",データ入力シート１回目!CC12)+IF(データ入力シート１回目!CC13=\"\",\"\",データ入力シート１回目!CC13)","v":{"$error":"#VALUE!"}},{"$f":"IF(データ入力シート１回目!CD11=\"\",\"\",データ入力シート１回目!CD11)+IF(データ入力シート１回目!CD12=\"\",\"\",データ入力シート１回目!CD12)+IF(データ入力シート１回目!CD13=\"\",\"\",データ入力シート１回目!CD13)","v":{"$error":"#VALUE!"}},{"$f":"IF(データ入力シート１回目!CE11=\"\",\"\",データ入力シート１回目!CE11)+IF(データ入力シート１回目!CE12=\"\",\"\",データ入力シート１回目!CE12)+IF(データ入力シート１回目!CE13=\"\",\"\",データ入力シート１回目!CE13)","v":{"$error":"#VALUE!"}},{"$f":"IF(データ入力シート１回目!CF11=\"\",\"\",データ入力シート１回目!CF11)+IF(データ入力シート１回目!CF12=\"\",\"\",データ入力シート１回目!CF12)+IF(データ入力シート１回目!CF13=\"\",\"\",データ入力シート１回目!CF13)","v":{"$error":"#VALUE!"}},{"$f":"IF(データ入力シート１回目!CG11=\"\",\"\",データ入力シート１回目!CG11)+IF(データ入力シート１回目!CG12=\"\",\"\",データ入力シート１回目!CG12)+IF(データ入力シート１回目!CG13=\"\",\"\",データ入力シート１回目!CG13)","v":{"$error":"#VALUE!"}},{"$f":"IF(データ入力シート１回目!CH11=\"\",\"\",データ入力シート１回目!CH11)+IF(データ入力シート１回目!CH12=\"\",\"\",データ入力シート１回目!CH12)+IF(データ入力シート１回目!CH13=\"\",\"\",データ入力シート１回目!CH13)","v":{"$error":"#VALUE!"}},{"$f":"IF(データ入力シート１回目!CI11=\"\",\"\",データ入力シート１回目!CI11)+IF(データ入力シート１回目!CI12=\"\",\"\",データ入力シート１回目!CI12)+IF(データ入力シート１回目!CI13=\"\",\"\",データ入力シート１回目!CI13)","v":{"$error":"#VALUE!"}},{"$f":"IF(データ入力シート１回目!CJ11=\"\",\"\",データ入力シート１回目!CJ11)+IF(データ入力シート１回目!CJ12=\"\",\"\",データ入力シート１回目!CJ12)+IF(データ入力シート１回目!CJ13=\"\",\"\",データ入力シート１回目!CJ13)","v":{"$error":"#VALUE!"}},{"$f":"IF(データ入力シート１回目!CK11=\"\",\"\",データ入力シート１回目!CK11)+IF(データ入力シート１回目!CK12=\"\",\"\",データ入力シート１回目!CK12)+IF(データ入力シート１回目!CK13=\"\",\"\",データ入力シート１回目!CK13)","v":{"$error":"#VALUE!"}},{"$f":"IF(データ入力シート１回目!CL11=\"\",\"\",データ入力シート１回目!CL11)+IF(データ入力シート１回目!CL12=\"\",\"\",データ入力シート１回目!CL12)+IF(データ入力シート１回目!CL13=\"\",\"\",データ入力シート１回目!CL13)","v":{"$error":"#VALUE!"}},{"$f":"IF(データ入力シート１回目!CM11=\"\",\"\",データ入力シート１回目!CM11)+IF(データ入力シート１回目!CM12=\"\",\"\",データ入力シート１回目!CM12)+IF(データ入力シート１回目!CM13=\"\",\"\",データ入力シート１回目!CM13)","v":{"$error":"#VALUE!"}},{"$f":"IF(データ入力シート１回目!CN11=\"\",\"\",データ入力シート１回目!CN11)+IF(データ入力シート１回目!CN12=\"\",\"\",データ入力シート１回目!CN12)+IF(データ入力シート１回目!CN13=\"\",\"\",データ入力シート１回目!CN13)","v":{"$error":"#VALUE!"}},{"$f":"IF(データ入力シート１回目!CO11=\"\",\"\",データ入力シート１回目!CO11)+IF(データ入力シート１回目!CO12=\"\",\"\",データ入力シート１回目!CO12)+IF(データ入力シート１回目!CO13=\"\",\"\",データ入力シート１回目!CO13)","v":{"$error":"#VALUE!"}},{"$f":"IF(データ入力シート１回目!CP11=\"\",\"\",データ入力シート１回目!CP11)+IF(データ入力シート１回目!CP12=\"\",\"\",データ入力シート１回目!CP12)+IF(データ入力シート１回目!CP13=\"\",\"\",データ入力シート１回目!CP13)","v":{"$error":"#VALUE!"}},{"$f":"IF(データ入力シート１回目!CQ11=\"\",\"\",データ入力シート１回目!CQ11)+IF(データ入力シート１回目!CQ12=\"\",\"\",データ入力シート１回目!CQ12)+IF(データ入力シート１回目!CQ13=\"\",\"\",データ入力シート１回目!CQ13)","v":{"$error":"#VALUE!"}},{"$f":"IF(データ入力シート１回目!CR11=\"\",\"\",データ入力シート１回目!CR11)+IF(データ入力シート１回目!CR12=\"\",\"\",データ入力シート１回目!CR12)+IF(データ入力シート１回目!CR13=\"\",\"\",データ入力シート１回目!CR13)","v":{"$error":"#VALUE!"}},{"$f":"IF(データ入力シート１回目!CS11=\"\",\"\",データ入力シート１回目!CS11)+IF(データ入力シート１回目!CS12=\"\",\"\",データ入力シート１回目!CS12)+IF(データ入力シート１回目!CS13=\"\",\"\",データ入力シート１回目!CS13)","v":{"$error":"#VALUE!"}},{"$f":"IF(データ入力シート１回目!CT11=\"\",\"\",データ入力シート１回目!CT11)+IF(データ入力シート１回目!CT12=\"\",\"\",データ入力シート１回目!CT12)+IF(データ入力シート１回目!CT13=\"\",\"\",データ入力シート１回目!CT13)","v":{"$error":"#VALUE!"}},{"$f":"IF(データ入力シート１回目!CU11=\"\",\"\",データ入力シート１回目!CU11)+IF(データ入力シート１回目!CU12=\"\",\"\",データ入力シート１回目!CU12)+IF(データ入力シート１回目!CU13=\"\",\"\",データ入力シート１回目!CU13)","v":{"$error":"#VALUE!"}},{"$f":"IF(データ入力シート１回目!CV11=\"\",\"\",データ入力シート１回目!CV11)+IF(データ入力シート１回目!CV12=\"\",\"\",データ入力シート１回目!CV12)+IF(データ入力シート１回目!CV13=\"\",\"\",データ入力シート１回目!CV13)","v":{"$error":"#VALUE!"}},{"$f":"IF(データ入力シート１回目!CW11=\"\",\"\",データ入力シート１回目!CW11)+IF(データ入力シート１回目!CW12=\"\",\"\",データ入力シート１回目!CW12)+IF(データ入力シート１回目!CW13=\"\",\"\",データ入力シート１回目!CW13)","v":{"$error":"#VALUE!"}},{"$f":"IF(データ入力シート１回目!CX11=\"\",\"\",データ入力シート１回目!CX11)+IF(データ入力シート１回目!CX12=\"\",\"\",データ入力シート１回目!CX12)+IF(データ入力シート１回目!CX13=\"\",\"\",データ入力シート１回目!CX13)","v":{"$error":"#VALUE!"}},{"$f":"IF(データ入力シート１回目!CY11=\"\",\"\",データ入力シート１回目!CY11)+IF(データ入力シート１回目!CY12=\"\",\"\",データ入力シート１回目!CY12)+IF(データ入力シート１回目!CY13=\"\",\"\",データ入力シート１回目!CY13)","v":{"$error":"#VALUE!"}},{"$f":"IF(データ入力シート１回目!CZ11=\"\",\"\",データ入力シート１回目!CZ11)+IF(データ入力シート１回目!CZ12=\"\",\"\",データ入力シート１回目!CZ12)+IF(データ入力シート１回目!CZ13=\"\",\"\",データ入力シート１回目!CZ13)","v":{"$error":"#VALUE!"}}]
[null,"C",{"$f":"IF(データ入力シート１回目!E14=\"\",\"\",データ入力シート１回目!E14)+IF(データ入力シート１回目!E15=\"\",\"\",データ入力シート１回目!E15)+IF(データ入力シート１回目!E16=\"\",\"\",データ入力シート１回目!E16)","v":{"$error":"#VALUE!"}},{"$f":"IF(データ入力シート１回目!F14=\"\",\"\",データ入力シート１回目!F14)+IF(データ入力シート１回目!F15=\"\",\"\",データ入力シート１回目!F15)+IF(データ入力シート１回目!F16=\"\",\"\",データ入力シート１回目!F16)","v":{"$error":"#VALUE!"}},{"$f":"IF(データ入力シート１回目!G14=\"\",\"\",データ入力シート１回目!G14)+IF(データ入力シート１回目!G15=\"\",\"\",データ入力シート１回目!G15)+IF(データ入力シート１回目!G16=\"\",\"\",データ入力シート１回目!G16)","v":{"$error":"#VALUE!"}},{"$f":"IF(データ入力シート１回目!H14=\"\",\"\",データ入力シート１回目!H14)+IF(データ入力シート１回目!H15=\"\",\"\",データ入力シート１回目!H15)+IF(データ入力シート１回目!H16=\"\",\"\",データ入力シート１回目!H16)","v":{"$error":"#VALUE!"}},{"$f":"IF(データ入力シート１回目!I14=\"\",\"\",データ入力シート１回目!I14)+IF(データ入力シート１回目!I15=\"\",\"\",データ入力シート１回目!I15)+IF(データ入力シート１回目!I16=\"\",\"\",データ入力シート１回目!I16)","v":{"$error":"#VALUE!"}},{"$f":"IF(データ入力シート１回目!J14=\"\",\"\",データ入力シート１回目!J14)+IF(データ入力シート１回目!J15=\"\",\"\",データ入力シート１回目!J15)+IF(データ入力シート１回目!J16=\"\",\"\",データ入力シート１回目!J16)","v":{"$error":"#VALUE!"}},{"$f":"IF(データ入力シート１回目!K14=\"\",\"\",データ入力シート１回目!K14)+IF(データ入力シート１回目!K15=\"\",\"\",データ入力シート１回目!K15)+IF(データ入力シート１回目!K16=\"\",\"\",データ入力シート１回目!K16)","v":{"$error":"#VALUE!"}},{"$f":"IF(データ入力シート１回目!L14=\"\",\"\",データ入力シート１回目!L14)+IF(データ入力シート１回目!L15=\"\",\"\",データ入力シート１回目!L15)+IF(データ入力シート１回目!L16=\"\",\"\",データ入力シート１回目!L16)","v":{"$error":"#VALUE!"}},{"$f":"IF(データ入力シート１回目!M14=\"\",\"\",データ入力シート１回目!M14)+IF(データ入力シート１回目!M15=\"\",\"\",データ入力シート１回目!M15)+IF(データ入力シート１回目!M16=\"\",\"\",データ入力シート１回目!M16)","v":{"$error":"#VALUE!"}},{"$f":"IF(データ入力シート１回目!N14=\"\",\"\",データ入力シート１回目!N14)+IF(データ入力シート１回目!N15=\"\",\"\",データ入力シート１回目!N15)+IF(データ入力シート１回目!N16=\"\",\"\",データ入力シート１回目!N16)","v":{"$error":"#VALUE!"}},{"$f":"IF(データ入力シート１回目!O14=\"\",\"\",データ入力シート１回目!O14)+IF(データ入力シート１回目!O15=\"\",\"\",データ入力シート１回目!O15)+IF(データ入力シート１回目!O16=\"\",\"\",データ入力シート１回目!O16)","v":{"$error":"#VALUE!"}},{"$f":"IF(データ入力シート１回目!P14=\"\",\"\",データ入力シート１回目!P14)+IF(データ入力シート１回目!P15=\"\",\"\",データ入力シート１回目!P15)+IF(データ入力シート１回目!P16=\"\",\"\",データ入力シート１回目!P16)","v":{"$error":"#VALUE!"}},{"$f":"IF(データ入力シート１回目!Q14=\"\",\"\",データ入力シート１回目!Q14)+IF(データ入力シート１回目!Q15=\"\",\"\",データ入力シート１回目!Q15)+IF(データ入力シート１回目!Q16=\"\",\"\",データ入力シート１回目!Q16)","v":{"$error":"#VALUE!"}},{"$f":"IF(データ入力シート１回目!R14=\"\",\"\",データ入力シート１回目!R14)+IF(データ入力シート１回目!R15=\"\",\"\",データ入力シート１回目!R15)+IF(データ入力シート１回目!R16=\"\",\"\",データ入力シート１回目!R16)","v":{"$error":"#VALUE!"}},{"$f":"IF(データ入力シート１回目!S14=\"\",\"\",データ入力シート１回目!S14)+IF(データ入力シート１回目!S15=\"\",\"\",データ入力シート１回目!S15)+IF(データ入力シート１回目!S16=\"\",\"\",データ入力シート１回目!S16)","v":{"$error":"#VALUE!"}},{"$f":"IF(データ入力シート１回目!T14=\"\",\"\",データ入力シート１回目!T14)+IF(データ入力シート１回目!T15=\"\",\"\",データ入力シート１回目!T15)+IF(データ入力シート１回目!T16=\"\",\"\",データ入力シート１回目!T16)","v":{"$error":"#VALUE!"}},{"$f":"IF(データ入力シート１回目!U14=\"\",\"\",データ入力シート１回目!U14)+IF(データ入力シート１回目!U15=\"\",\"\",データ入力シート１回目!U15)+IF(データ入力シート１回目!U16=\"\",\"\",データ入力シート１回目!U16)","v":{"$error":"#VALUE!"}},{"$f":"IF(データ入力シート１回目!V14=\"\",\"\",データ入力シート１回目!V14)+IF(データ入力シート１回目!V15=\"\",\"\",データ入力シート１回目!V15)+IF(データ入力シート１回目!V16=\"\",\"\",データ入力シート１回目!V16)","v":{"$error":"#VALUE!"}},{"$f":"IF(データ入力シート１回目!W14=\"\",\"\",データ入力シート１回目!W14)+IF(データ入力シート１回目!W15=\"\",\"\",データ入力シート１回目!W15)+IF(データ入力シート１回目!W16=\"\",\"\",データ入力シート１回目!W16)","v":{"$error":"#VALUE!"}},{"$f":"IF(データ入力シート１回目!X14=\"\",\"\",データ入力シート１回目!X14)+IF(データ入力シート１回目!X15=\"\",\"\",データ入力シート１回目!X15)+IF(データ入力シート１回目!X16=\"\",\"\",データ入力シート１回目!X16)","v":{"$error":"#VALUE!"}},{"$f":"IF(データ入力シート１回目!Y14=\"\",\"\",データ入力シート１回目!Y14)+IF(データ入力シート１回目!Y15=\"\",\"\",データ入力シート１回目!Y15)+IF(データ入力シート１回目!Y16=\"\",\"\",データ入力シート１回目!Y16)","v":{"$error":"#VALUE!"}},{"$f":"IF(データ入力シート１回目!Z14=\"\",\"\",データ入力シート１回目!Z14)+IF(データ入力シート１回目!Z15=\"\",\"\",データ入力シート１回目!Z15)+IF(データ入力シート１回目!Z16=\"\",\"\",データ入力シート１回目!Z16)","v":{"$error":"#VALUE!"}},{"$f":"IF(データ入力シート１回目!AA14=\"\",\"\",データ入力シート１回目!AA14)+IF(データ入力シート１回目!AA15=\"\",\"\",データ入力シート１回目!AA15)+IF(データ入力シート１回目!AA16=\"\",\"\",データ入力シート１回目!AA16)","v":{"$error":"#VALUE!"}},{"$f":"IF(データ入力シート１回目!AB14=\"\",\"\",データ入力シート１回目!AB14)+IF(データ入力シート１回目!AB15=\"\",\"\",データ入力シート１回目!AB15)+IF(データ入力シート１回目!AB16=\"\",\"\",データ入力シート１回目!AB16)","v":{"$error":"#VALUE!"}},{"$f":"IF(データ入力シート１回目!AC14=\"\",\"\",データ入力シート１回目!AC14)+IF(データ入力シート１回目!AC15=\"\",\"\",データ入力シート１回目!AC15)+IF(データ入力シート１回目!AC16=\"\",\"\",データ入力シート１回目!AC16)","v":{"$error":"#VALUE!"}},{"$f":"IF(データ入力シート１回目!AD14=\"\",\"\",データ入力シート１回目!AD14)+IF(データ入力シート１回目!AD15=\"\",\"\",データ入力シート１回目!AD15)+IF(データ入力シート１回目!AD16=\"\",\"\",データ入力シート１回目!AD16)","v":{"$error":"#VALUE!"}},{"$f":"IF(データ入力シート１回目!AE14=\"\",\"\",データ入力シート１回目!AE14)+IF(データ入力シート１回目!AE15=\"\",\"\",データ入力シート１回目!AE15)+IF(データ入力シート１回目!AE16=\"\",\"\",データ入力シート１回目!AE16)","v":{"$error":"#VALUE!"}},{"$f":"IF(データ入力シート１回目!AF14=\"\",\"\",データ入力シート１回目!AF14)+IF(データ入力シート１回目!AF15=\"\",\"\",データ入力シート１回目!AF15)+IF(データ入力シート１回目!AF16=\"\",\"\",データ入力シート１回目!AF16)","v":{"$error":"#VALUE!"}},{"$f":"IF(データ入力シート１回目!AG14=\"\",\"\",データ入力シート１回目!AG14)+IF(データ入力シート１回目!AG15=\"\",\"\",データ入力シート１回目!AG15)+IF(データ入力シート１回目!AG16=\"\",\"\",データ入力シート１回目!AG16)","v":{"$error":"#VALUE!"}},{"$f":"IF(データ入力シート１回目!AH14=\"\",\"\",データ入力シート１回目!AH14)+IF(データ入力シート１回目!AH15=\"\",\"\",データ入力シート１回目!AH15)+IF(データ入力シート１回目!AH16=\"\",\"\",データ入力シート１回目!AH16)","v":{"$error":"#VALUE!"}},{"$f":"IF(データ入力シート１回目!AI14=\"\",\"\",データ入力シート１回目!AI14)+IF(データ入力シート１回目!AI15=\"\",\"\",データ入力シート１回目!AI15)+IF(データ入力シート１回目!AI16=\"\",\"\",データ入力シート１回目!AI16)","v":{"$error":"#VALUE!"}},{"$f":"IF(データ入力シート１回目!AJ14=\"\",\"\",データ入力シート１回目!AJ14)+IF(データ入力シート１回目!AJ15=\"\",\"\",データ入力シート１回目!AJ15)+IF(データ入力シート１回目!AJ16=\"\",\"\",データ入力シート１回目!AJ16)","v":{"$error":"#VALUE!"}},{"$f":"IF(データ入力シート１回目!AK14=\"\",\"\",データ入力シート１回目!AK14)+IF(データ入力シート１回目!AK15=\"\",\"\",データ入力シート１回目!AK15)+IF(データ入力シート１回目!AK16=\"\",\"\",データ入力シート１回目!AK16)","v":{"$error":"#VALUE!"}},{"$f":"IF(データ入力シート１回目!AL14=\"\",\"\",データ入力シート１回目!AL14)+IF(データ入力シート１回目!AL15=\"\",\"\",データ入力シート１回目!AL15)+IF(データ入力シート１回目!AL16=\"\",\"\",データ入力シート１回目!AL16)","v":{"$error":"#VALUE!"}},{"$f":"IF(データ入力シート１回目!AM14=\"\",\"\",データ入力シート１回目!AM14)+IF(データ入力シート１回目!AM15=\"\",\"\",データ入力シート１回目!AM15)+IF(データ入力シート１回目!AM16=\"\",\"\",データ入力シート１回目!AM16)","v":{"$error":"#VALUE!"}},{"$f":"IF(データ入力シート１回目!AN14=\"\",\"\",データ入力シート１回目!AN14)+IF(データ入力シート１回目!AN15=\"\",\"\",データ入力シート１回目!AN15)+IF(データ入力シート１回目!AN16=\"\",\"\",データ入力シート１回目!AN16)","v":{"$error":"#VALUE!"}},{"$f":"IF(データ入力シート１回目!AO14=\"\",\"\",データ入力シート１回目!AO14)+IF(データ入力シート１回目!AO15=\"\",\"\",データ入力シート１回目!AO15)+IF(データ入力シート１回目!AO16=\"\",\"\",データ入力シート１回目!AO16)","v":{"$error":"#VALUE!"}},{"$f":"IF(データ入力シート１回目!AP14=\"\",\"\",データ入力シート１回目!AP14)+IF(データ入力シート１回目!AP15=\"\",\"\",データ入力シート１回目!AP15)+IF(データ入力シート１回目!AP16=\"\",\"\",データ入力シート１回目!AP16)","v":{"$error":"#VALUE!"}},{"$f":"IF(データ入力シート１回目!AQ14=\"\",\"\",データ入力シート１回目!AQ14)+IF(データ入力シート１回目!AQ15=\"\",\"\",データ入力シート１回目!AQ15)+IF(データ入力シート１回目!AQ16=\"\",\"\",データ入力シート１回目!AQ16)","v":{"$error":"#VALUE!"}},{"$f":"IF(データ入力シート１回目!AR14=\"\",\"\",データ入力シート１回目!AR14)+IF(データ入力シート１回目!AR15=\"\",\"\",データ入力シート１回目!AR15)+IF(データ入力シート１回目!AR16=\"\",\"\",データ入力シート１回目!AR16)","v":{"$error":"#VALUE!"}},{"$f":"IF(データ入力シート１回目!AS14=\"\",\"\",データ入力シート１回目!AS14)+IF(データ入力シート１回目!AS15=\"\",\"\",データ入力シート１回目!AS15)+IF(データ入力シート１回目!AS16=\"\",\"\",データ入力シート１回目!AS16)","v":{"$error":"#VALUE!"}},{"$f":"IF(データ入力シート１回目!AT14=\"\",\"\",データ入力シート１回目!AT14)+IF(データ入力シート１回目!AT15=\"\",\"\",データ入力シート１回目!AT15)+IF(データ入力シート１回目!AT16=\"\",\"\",データ入力シート１回目!AT16)","v":{"$error":"#VALUE!"}},{"$f":"IF(データ入力シート１回目!AU14=\"\",\"\",データ入力シート１回目!AU14)+IF(データ入力シート１回目!AU15=\"\",\"\",データ入力シート１回目!AU15)+IF(データ入力シート１回目!AU16=\"\",\"\",データ入力シート１回目!AU16)","v":{"$error":"#VALUE!"}},{"$f":"IF(データ入力シート１回目!AV14=\"\",\"\",データ入力シート１回目!AV14)+IF(データ入力シート１回目!AV15=\"\",\"\",データ入力シート１回目!AV15)+IF(データ入力シート１回目!AV16=\"\",\"\",データ入力シート１回目!AV16)","v":{"$error":"#VALUE!"}},{"$f":"IF(データ入力シート１回目!AW14=\"\",\"\",データ入力シート１回目!AW14)+IF(データ入力シート１回目!AW15=\"\",\"\",データ入力シート１回目!AW15)+IF(データ入力シート１回目!AW16=\"\",\"\",データ入力シート１回目!AW16)","v":{"$error":"#VALUE!"}},{"$f":"IF(データ入力シート１回目!AX14=\"\",\"\",データ入力シート１回目!AX14)+IF(データ入力シート１回目!AX15=\"\",\"\",データ入力シート１回目!AX15)+IF(データ入力シート１回目!AX16=\"\",\"\",データ入力シート１回目!AX16)","v":{"$error":"#VALUE!"}},{"$f":"IF(データ入力シート１回目!AY14=\"\",\"\",データ入力シート１回目!AY14)+IF(データ入力シート１回目!AY15=\"\",\"\",データ入力シート１回目!AY15)+IF(データ入力シート１回目!AY16=\"\",\"\",データ入力シート１回目!AY16)","v":{"$error":"#VALUE!"}},{"$f":"IF(データ入力シート１回目!AZ14=\"\",\"\",データ入力シート１回目!AZ14)+IF(データ入力シート１回目!AZ15=\"\",\"\",データ入力シート１回目!AZ15)+IF(データ入力シート１回目!AZ16=\"\",\"\",データ入力シート１回目!AZ16)","v":{"$error":"#VALUE!"}},{"$f":"IF(データ入力シート１回目!BA14=\"\",\"\",データ入力シート１回目!BA14)+IF(データ入力シート１回目!BA15=\"\",\"\",データ入力シート１回目!BA15)+IF(データ入力シート１回目!BA16=\"\",\"\",データ入力シート１回目!BA16)","v":{"$error":"#VALUE!"}},{"$f":"IF(データ入力シート１回目!BB14=\"\",\"\",データ入力シート１回目!BB14)+IF(データ入力シート１回目!BB15=\"\",\"\",データ入力シート１回目!BB15)+IF(データ入力シート１回目!BB16=\"\",\"\",データ入力シート１回目!BB16)","v":{"$error":"#VALUE!"}},{"$f":"IF(データ入力シート１回目!BC14=\"\",\"\",データ入力シート１回目!BC14)+IF(データ入力シート１回目!BC15=\"\",\"\",データ入力シート１回目!BC15)+IF(データ入力シート１回目!BC16=\"\",\"\",データ入力シート１回目!BC16)","v":{"$error":"#VALUE!"}},{"$f":"IF(データ入力シート１回目!BD14=\"\",\"\",データ入力シート１回目!BD14)+IF(データ入力シート１回目!BD15=\"\",\"\",データ入力シート１回目!BD15)+IF(データ入力シート１回目!BD16=\"\",\"\",データ入力シート１回目!BD16)","v":{"$error":"#VALUE!"}},{"$f":"IF(データ入力シート１回目!BE14=\"\",\"\",データ入力シート１回目!BE14)+IF(データ入力シート１回目!BE15=\"\",\"\",データ入力シート１回目!BE15)+IF(データ入力シート１回目!BE16=\"\",\"\",データ入力シート１回目!BE16)","v":{"$error":"#VALUE!"}},{"$f":"IF(データ入力シート１回目!BF14=\"\",\"\",データ入力シート１回目!BF14)+IF(データ入力シート１回目!BF15=\"\",\"\",データ入力シート１回目!BF15)+IF(データ入力シート１回目!BF16=\"\",\"\",データ入力シート１回目!BF16)","v":{"$error":"#VALUE!"}},{"$f":"IF(データ入力シート１回目!BG14=\"\",\"\",データ入力シート１回目!BG14)+IF(データ入力シート１回目!BG15=\"\",\"\",データ入力シート１回目!BG15)+IF(データ入力シート１回目!BG16=\"\",\"\",データ入力シート１回目!BG16)","v":{"$error":"#VALUE!"}},{"$f":"IF(データ入力シート１回目!BH14=\"\",\"\",データ入力シート１回目!BH14)+IF(データ入力シート１回目!BH15=\"\",\"\",データ入力シート１回目!BH15)+IF(データ入力シート１回目!BH16=\"\",\"\",データ入力シート１回目!BH16)","v":{"$error":"#VALUE!"}},{"$f":"IF(データ入力シート１回目!BI14=\"\",\"\",データ入力シート１回目!BI14)+IF(データ入力シート１回目!BI15=\"\",\"\",データ入力シート１回目!BI15)+IF(データ入力シート１回目!BI16=\"\",\"\",データ入力シート１回目!BI16)","v":{"$error":"#VALUE!"}},{"$f":"IF(データ入力シート１回目!BJ14=\"\",\"\",データ入力シート１回目!BJ14)+IF(データ入力シート１回目!BJ15=\"\",\"\",データ入力シート１回目!BJ15)+IF(データ入力シート１回目!BJ16=\"\",\"\",データ入力シート１回目!BJ16)","v":{"$error":"#VALUE!"}},{"$f":"IF(データ入力シート１回目!BK14=\"\",\"\",データ入力シート１回目!BK14)+IF(データ入力シート１回目!BK15=\"\",\"\",データ入力シート１回目!BK15)+IF(データ入力シート１回目!BK16=\"\",\"\",データ入力シート１回目!BK16)","v":{"$error":"#VALUE!"}},{"$f":"IF(データ入力シート１回目!BL14=\"\",\"\",データ入力シート１回目!BL14)+IF(データ入力シート１回目!BL15=\"\",\"\",データ入力シート１回目!BL15)+IF(データ入力シート１回目!BL16=\"\",\"\",データ入力シート１回目!BL16)","v":{"$error":"#VALUE!"}},{"$f":"IF(データ入力シート１回目!BM14=\"\",\"\",データ入力シート１回目!BM14)+IF(データ入力シート１回目!BM15=\"\",\"\",データ入力シート１回目!BM15)+IF(データ入力シート１回目!BM16=\"\",\"\",データ入力シート１回目!BM16)","v":{"$error":"#VALUE!"}},{"$f":"IF(データ入力シート１回目!BN14=\"\",\"\",データ入力シート１回目!BN14)+IF(データ入力シート１回目!BN15=\"\",\"\",データ入力シート１回目!BN15)+IF(データ入力シート１回目!BN16=\"\",\"\",データ入力シート１回目!BN16)","v":{"$error":"#VALUE!"}},{"$f":"IF(データ入力シート１回目!BO14=\"\",\"\",データ入力シート１回目!BO14)+IF(データ入力シート１回目!BO15=\"\",\"\",データ入力シート１回目!BO15)+IF(データ入力シート１回目!BO16=\"\",\"\",データ入力シート１回目!BO16)","v":{"$error":"#VALUE!"}},{"$f":"IF(データ入力シート１回目!BP14=\"\",\"\",データ入力シート１回目!BP14)+IF(データ入力シート１回目!BP15=\"\",\"\",データ入力シート１回目!BP15)+IF(データ入力シート１回目!BP16=\"\",\"\",データ入力シート１回目!BP16)","v":{"$error":"#VALUE!"}},{"$f":"IF(データ入力シート１回目!BQ14=\"\",\"\",データ入力シート１回目!BQ14)+IF(データ入力シート１回目!BQ15=\"\",\"\",データ入力シート１回目!BQ15)+IF(データ入力シート１回目!BQ16=\"\",\"\",データ入力シート１回目!BQ16)","v":{"$error":"#VALUE!"}},{"$f":"IF(データ入力シート１回目!BR14=\"\",\"\",データ入力シート１回目!BR14)+IF(データ入力シート１回目!BR15=\"\",\"\",データ入力シート１回目!BR15)+IF(データ入力シート１回目!BR16=\"\",\"\",データ入力シート１回目!BR16)","v":{"$error":"#VALUE!"}},{"$f":"IF(データ入力シート１回目!BS14=\"\",\"\",データ入力シート１回目!BS14)+IF(データ入力シート１回目!BS15=\"\",\"\",データ入力シート１回目!BS15)+IF(データ入力シート１回目!BS16=\"\",\"\",データ入力シート１回目!BS16)","v":{"$error":"#VALUE!"}},{"$f":"IF(データ入力シート１回目!BT14=\"\",\"\",データ入力シート１回目!BT14)+IF(データ入力シート１回目!BT15=\"\",\"\",データ入力シート１回目!BT15)+IF(データ入力シート１回目!BT16=\"\",\"\",データ入力シート１回目!BT16)","v":{"$error":"#VALUE!"}},{"$f":"IF(データ入力シート１回目!BU14=\"\",\"\",データ入力シート１回目!BU14)+IF(データ入力シート１回目!BU15=\"\",\"\",データ入力シート１回目!BU15)+IF(データ入力シート１回目!BU16=\"\",\"\",データ入力シート１回目!BU16)","v":{"$error":"#VALUE!"}},{"$f":"IF(データ入力シート１回目!BV14=\"\",\"\",データ入力シート１回目!BV14)+IF(データ入力シート１回目!BV15=\"\",\"\",データ入力シート１回目!BV15)+IF(データ入力シート１回目!BV16=\"\",\"\",データ入力シート１回目!BV16)","v":{"$error":"#VALUE!"}},{"$f":"IF(データ入力シート１回目!BW14=\"\",\"\",データ入力シート１回目!BW14)+IF(データ入力シート１回目!BW15=\"\",\"\",データ入力シート１回目!BW15)+IF(データ入力シート１回目!BW16=\"\",\"\",データ入力シート１回目!BW16)","v":{"$error":"#VALUE!"}},{"$f":"IF(データ入力シート１回目!BX14=\"\",\"\",データ入力シート１回目!BX14)+IF(データ入力シート１回目!BX15=\"\",\"\",データ入力シート１回目!BX15)+IF(データ入力シート１回目!BX16=\"\",\"\",データ入力シート１回目!BX16)","v":{"$error":"#VALUE!"}},{"$f":"IF(データ入力シート１回目!BY14=\"\",\"\",データ入力シート１回目!BY14)+IF(データ入力シート１回目!BY15=\"\",\"\",データ入力シート１回目!BY15)+IF(データ入力シート１回目!BY16=\"\",\"\",データ入力シート１回目!BY16)","v":{"$error":"#VALUE!"}},{"$f":"IF(データ入力シート１回目!BZ14=\"\",\"\",データ入力シート１回目!BZ14)+IF(データ入力シート１回目!BZ15=\"\",\"\",データ入力シート１回目!BZ15)+IF(データ入力シート１回目!BZ16=\"\",\"\",データ入力シート１回目!BZ16)","v":{"$error":"#VALUE!"}},{"$f":"IF(データ入力シート１回目!CA14=\"\",\"\",データ入力シート１回目!CA14)+IF(データ入力シート１回目!CA15=\"\",\"\",データ入力シート１回目!CA15)+IF(データ入力シート１回目!CA16=\"\",\"\",データ入力シート１回目!CA16)","v":{"$error":"#VALUE!"}},{"$f":"IF(データ入力シート１回目!CB14=\"\",\"\",データ入力シート１回目!CB14)+IF(データ入力シート１回目!CB15=\"\",\"\",データ入力シート１回目!CB15)+IF(データ入力シート１回目!CB16=\"\",\"\",データ入力シート１回目!CB16)","v":{"$error":"#VALUE!"}},{"$f":"IF(データ入力シート１回目!CC14=\"\",\"\",データ入力シート１回目!CC14)+IF(データ入力シート１回目!CC15=\"\",\"\",データ入力シート１回目!CC15)+IF(データ入力シート１回目!CC16=\"\",\"\",データ入力シート１回目!CC16)","v":{"$error":"#VALUE!"}},{"$f":"IF(データ入力シート１回目!CD14=\"\",\"\",データ入力シート１回目!CD14)+IF(データ入力シート１回目!CD15=\"\",\"\",データ入力シート１回目!CD15)+IF(データ入力シート１回目!CD16=\"\",\"\",データ入力シート１回目!CD16)","v":{"$error":"#VALUE!"}},{"$f":"IF(データ入力シート１回目!CE14=\"\",\"\",データ入力シート１回目!CE14)+IF(データ入力シート１回目!CE15=\"\",\"\",データ入力シート１回目!CE15)+IF(データ入力シート１回目!CE16=\"\",\"\",データ入力シート１回目!CE16)","v":{"$error":"#VALUE!"}},{"$f":"IF(データ入力シート１回目!CF14=\"\",\"\",データ入力シート１回目!CF14)+IF(データ入力シート１回目!CF15=\"\",\"\",データ入力シート１回目!CF15)+IF(データ入力シート１回目!CF16=\"\",\"\",データ入力シート１回目!CF16)","v":{"$error":"#VALUE!"}},{"$f":"IF(データ入力シート１回目!CG14=\"\",\"\",データ入力シート１回目!CG14)+IF(データ入力シート１回目!CG15=\"\",\"\",データ入力シート１回目!CG15)+IF(データ入力シート１回目!CG16=\"\",\"\",データ入力シート１回目!CG16)","v":{"$error":"#VALUE!"}},{"$f":"IF(データ入力シート１回目!CH14=\"\",\"\",データ入力シート１回目!CH14)+IF(データ入力シート１回目!CH15=\"\",\"\",データ入力シート１回目!CH15)+IF(データ入力シート１回目!CH16=\"\",\"\",データ入力シート１回目!CH16)","v":{"$error":"#VALUE!"}},{"$f":"IF(データ入力シート１回目!CI14=\"\",\"\",データ入力シート１回目!CI14)+IF(データ入力シート１回目!CI15=\"\",\"\",データ入力シート１回目!CI15)+IF(データ入力シート１回目!CI16=\"\",\"\",データ入力シート１回目!CI16)","v":{"$error":"#VALUE!"}},{"$f":"IF(データ入力シート１回目!CJ14=\"\",\"\",データ入力シート１回目!CJ14)+IF(データ入力シート１回目!CJ15=\"\",\"\",データ入力シート１回目!CJ15)+IF(データ入力シート１回目!CJ16=\"\",\"\",データ入力シート１回目!CJ16)","v":{"$error":"#VALUE!"}},{"$f":"IF(データ入力シート１回目!CK14=\"\",\"\",データ入力シート１回目!CK14)+IF(データ入力シート１回目!CK15=\"\",\"\",データ入力シート１回目!CK15)+IF(データ入力シート１回目!CK16=\"\",\"\",データ入力シート１回目!CK16)","v":{"$error":"#VALUE!"}},{"$f":"IF(データ入力シート１回目!CL14=\"\",\"\",データ入力シート１回目!CL14)+IF(データ入力シート１回目!CL15=\"\",\"\",データ入力シート１回目!CL15)+IF(データ入力シート１回目!CL16=\"\",\"\",データ入力シート１回目!CL16)","v":{"$error":"#VALUE!"}},{"$f":"IF(データ入力シート１回目!CM14=\"\",\"\",データ入力シート１回目!CM14)+IF(データ入力シート１回目!CM15=\"\",\"\",データ入力シート１回目!CM15)+IF(データ入力シート１回目!CM16=\"\",\"\",データ入力シート１回目!CM16)","v":{"$error":"#VALUE!"}},{"$f":"IF(データ入力シート１回目!CN14=\"\",\"\",データ入力シート１回目!CN14)+IF(データ入力シート１回目!CN15=\"\",\"\",データ入力シート１回目!CN15)+IF(データ入力シート１回目!CN16=\"\",\"\",データ入力シート１回目!CN16)","v":{"$error":"#VALUE!"}},{"$f":"IF(データ入力シート１回目!CO14=\"\",\"\",データ入力シート１回目!CO14)+IF(データ入力シート１回目!CO15=\"\",\"\",データ入力シート１回目!CO15)+IF(データ入力シート１回目!CO16=\"\",\"\",データ入力シート１回目!CO16)","v":{"$error":"#VALUE!"}},{"$f":"IF(データ入力シート１回目!CP14=\"\",\"\",データ入力シート１回目!CP14)+IF(データ入力シート１回目!CP15=\"\",\"\",データ入力シート１回目!CP15)+IF(データ入力シート１回目!CP16=\"\",\"\",データ入力シート１回目!CP16)","v":{"$error":"#VALUE!"}},{"$f":"IF(データ入力シート１回目!CQ14=\"\",\"\",データ入力シート１回目!CQ14)+IF(データ入力シート１回目!CQ15=\"\",\"\",データ入力シート１回目!CQ15)+IF(データ入力シート１回目!CQ16=\"\",\"\",データ入力シート１回目!CQ16)","v":{"$error":"#VALUE!"}},{"$f":"IF(データ入力シート１回目!CR14=\"\",\"\",データ入力シート１回目!CR14)+IF(データ入力シート１回目!CR15=\"\",\"\",データ入力シート１回目!CR15)+IF(データ入力シート１回目!CR16=\"\",\"\",データ入力シート１回目!CR16)","v":{"$error":"#VALUE!"}},{"$f":"IF(データ入力シート１回目!CS14=\"\",\"\",データ入力シート１回目!CS14)+IF(データ入力シート１回目!CS15=\"\",\"\",データ入力シート１回目!CS15)+IF(データ入力シート１回目!CS16=\"\",\"\",データ入力シート１回目!CS16)","v":{"$error":"#VALUE!"}},{"$f":"IF(データ入力シート１回目!CT14=\"\",\"\",データ入力シート１回目!CT14)+IF(データ入力シート１回目!CT15=\"\",\"\",データ入力シート１回目!CT15)+IF(データ入力シート１回目!CT16=\"\",\"\",データ入力シート１回目!CT16)","v":{"$error":"#VALUE!"}},{"$f":"IF(データ入力シート１回目!CU14=\"\",\"\",データ入力シート１回目!CU14)+IF(データ入力シート１回目!CU15=\"\",\"\",データ入力シート１回目!CU15)+IF(データ入力シート１回目!CU16=\"\",\"\",データ入力シート１回目!CU16)","v":{"$error":"#VALUE!"}},{"$f":"IF(データ入力シート１回目!CV14=\"\",\"\",データ入力シート１回目!CV14)+IF(データ入力シート１回目!CV15=\"\",\"\",データ入力シート１回目!CV15)+IF(データ入力シート１回目!CV16=\"\",\"\",データ入力シート１回目!CV16)","v":{"$error":"#VALUE!"}},{"$f":"IF(データ入力シート１回目!CW14=\"\",\"\",データ入力シート１回目!CW14)+IF(データ入力シート１回目!CW15=\"\",\"\",データ入力シート１回目!CW15)+IF(データ入力シート１回目!CW16=\"\",\"\",データ入力シート１回目!CW16)","v":{"$error":"#VALUE!"}},{"$f":"IF(データ入力シート１回目!CX14=\"\",\"\",データ入力シート１回目!CX14)+IF(データ入力シート１回目!CX15=\"\",\"\",データ入力シート１回目!CX15)+IF(データ入力シート１回目!CX16=\"\",\"\",データ入力シート１回目!CX16)","v":{"$error":"#VALUE!"}},{"$f":"IF(データ入力シート１回目!CY14=\"\",\"\",データ入力シート１回目!CY14)+IF(データ入力シート１回目!CY15=\"\",\"\",データ入力シート１回目!CY15)+IF(データ入力シート１回目!CY16=\"\",\"\",データ入力シート１回目!CY16)","v":{"$error":"#VALUE!"}},{"$f":"IF(データ入力シート１回目!CZ14=\"\",\"\",データ入力シート１回目!CZ14)+IF(データ入力シート１回目!CZ15=\"\",\"\",データ入力シート１回目!CZ15)+IF(データ入力シート１回目!CZ16=\"\",\"\",データ入力シート１回目!CZ16)","v":{"$error":"#VALUE!"}}]
[null,"A",{"$f":"IF(データ入力シート１回目!E17=\"\",\"\",データ入力シート１回目!E17)+IF(データ入力シート１回目!E18=\"\",\"\",データ入力シート１回目!E18)+IF(データ入力シート１回目!E19=\"\",\"\",データ入力シート１回目!E19)","v":{"$error":"#VALUE!"}},{"$f":"IF(データ入力シート１回目!F17=\"\",\"\",データ入力シート１回目!F17)+IF(データ入力シート１回目!F18=\"\",\"\",データ入力シート１回目!F18)+IF(データ入力シート１回目!F19=\"\",\"\",データ入力シート１回目!F19)","v":{"$error":"#VALUE!"}},{"$f":"IF(データ入力シート１回目!G17=\"\",\"\",データ入力シート１回目!G17)+IF(データ入力シート１回目!G18=\"\",\"\",データ入力シート１回目!G18)+IF(データ入力シート１回目!G19=\"\",\"\",データ入力シート１回目!G19)","v":{"$error":"#VALUE!"}},{"$f":"IF(データ入力シート１回目!H17=\"\",\"\",データ入力シート１回目!H17)+IF(データ入力シート１回目!H18=\"\",\"\",データ入力シート１回目!H18)+IF(データ入力シート１回目!H19=\"\",\"\",データ入力シート１回目!H19)","v":{"$error":"#VALUE!"}},{"$f":"IF(データ入力シート１回目!I17=\"\",\"\",データ入力シート１回目!I17)+IF(データ入力シート１回目!I18=\"\",\"\",データ入力シート１回目!I18)+IF(データ入力シート１回目!I19=\"\",\"\",データ入力シート１回目!I19)","v":{"$error":"#VALUE!"}},{"$f":"IF(データ入力シート１回目!J17=\"\",\"\",データ入力シート１回目!J17)+IF(データ入力シート１回目!J18=\"\",\"\",データ入力シート１回目!J18)+IF(データ入力シート１回目!J19=\"\",\"\",データ入力シート１回目!J19)","v":{"$error":"#VALUE!"}},{"$f":"IF(データ入力シート１回目!K17=\"\",\"\",データ入力シート１回目!K17)+IF(データ入力シート１回目!K18=\"\",\"\",データ入力シート１回目!K18)+IF(データ入力シート１回目!K19=\"\",\"\",データ入力シート１回目!K19)","v":{"$error":"#VALUE!"}},{"$f":"IF(データ入力シート１回目!L17=\"\",\"\",データ入力シート１回目!L17)+IF(データ入力シート１回目!L18=\"\",\"\",データ入力シート１回目!L18)+IF(データ入力シート１回目!L19=\"\",\"\",データ入力シート１回目!L19)","v":{"$error":"#VALUE!"}},{"$f":"IF(データ入力シート１回目!M17=\"\",\"\",データ入力シート１回目!M17)+IF(データ入力シート１回目!M18=\"\",\"\",データ入力シート１回目!M18)+IF(データ入力シート１回目!M19=\"\",\"\",データ入力シート１回目!M19)","v":{"$error":"#VALUE!"}},{"$f":"IF(データ入力シート１回目!N17=\"\",\"\",データ入力シート１回目!N17)+IF(データ入力シート１回目!N18=\"\",\"\",データ入力シート１回目!N18)+IF(データ入力シート１回目!N19=\"\",\"\",データ入力シート１回目!N19)","v":{"$error":"#VALUE!"}},{"$f":"IF(データ入力シート１回目!O17=\"\",\"\",データ入力シート１回目!O17)+IF(データ入力シート１回目!O18=\"\",\"\",データ入力シート１回目!O18)+IF(データ入力シート１回目!O19=\"\",\"\",データ入力シート１回目!O19)","v":{"$error":"#VALUE!"}},{"$f":"IF(データ入力シート１回目!P17=\"\",\"\",データ入力シート１回目!P17)+IF(データ入力シート１回目!P18=\"\",\"\",データ入力シート１回目!P18)+IF(データ入力シート１回目!P19=\"\",\"\",データ入力シート１回目!P19)","v":{"$error":"#VALUE!"}},{"$f":"IF(データ入力シート１回目!Q17=\"\",\"\",データ入力シート１回目!Q17)+IF(データ入力シート１回目!Q18=\"\",\"\",データ入力シート１回目!Q18)+IF(データ入力シート１回目!Q19=\"\",\"\",データ入力シート１回目!Q19)","v":{"$error":"#VALUE!"}},{"$f":"IF(データ入力シート１回目!R17=\"\",\"\",データ入力シート１回目!R17)+IF(データ入力シート１回目!R18=\"\",\"\",データ入力シート１回目!R18)+IF(データ入力シート１回目!R19=\"\",\"\",データ入力シート１回目!R19)","v":{"$error":"#VALUE!"}},{"$f":"IF(データ入力シート１回目!S17=\"\",\"\",データ入力シート１回目!S17)+IF(データ入力シート１回目!S18=\"\",\"\",データ入力シート１回目!S18)+IF(データ入力シート１回目!S19=\"\",\"\",データ入力シート１回目!S19)","v":{"$error":"#VALUE!"}},{"$f":"IF(データ入力シート１回目!T17=\"\",\"\",データ入力シート１回目!T17)+IF(データ入力シート１回目!T18=\"\",\"\",データ入力シート１回目!T18)+IF(データ入力シート１回目!T19=\"\",\"\",データ入力シート１回目!T19)","v":{"$error":"#VALUE!"}},{"$f":"IF(データ入力シート１回目!U17=\"\",\"\",データ入力シート１回目!U17)+IF(データ入力シート１回目!U18=\"\",\"\",データ入力シート１回目!U18)+IF(データ入力シート１回目!U19=\"\",\"\",データ入力シート１回目!U19)","v":{"$error":"#VALUE!"}},{"$f":"IF(データ入力シート１回目!V17=\"\",\"\",データ入力シート１回目!V17)+IF(データ入力シート１回目!V18=\"\",\"\",データ入力シート１回目!V18)+IF(データ入力シート１回目!V19=\"\",\"\",データ入力シート１回目!V19)","v":{"$error":"#VALUE!"}},{"$f":"IF(データ入力シート１回目!W17=\"\",\"\",データ入力シート１回目!W17)+IF(データ入力シート１回目!W18=\"\",\"\",データ入力シート１回目!W18)+IF(データ入力シート１回目!W19=\"\",\"\",データ入力シート１回目!W19)","v":{"$error":"#VALUE!"}},{"$f":"IF(データ入力シート１回目!X17=\"\",\"\",データ入力シート１回目!X17)+IF(データ入力シート１回目!X18=\"\",\"\",データ入力シート１回目!X18)+IF(データ入力シート１回目!X19=\"\",\"\",データ入力シート１回目!X19)","v":{"$error":"#VALUE!"}},{"$f":"IF(データ入力シート１回目!Y17=\"\",\"\",データ入力シート１回目!Y17)+IF(データ入力シート１回目!Y18=\"\",\"\",データ入力シート１回目!Y18)+IF(データ入力シート１回目!Y19=\"\",\"\",データ入力シート１回目!Y19)","v":{"$error":"#VALUE!"}},{"$f":"IF(データ入力シート１回目!Z17=\"\",\"\",データ入力シート１回目!Z17)+IF(データ入力シート１回目!Z18=\"\",\"\",データ入力シート１回目!Z18)+IF(データ入力シート１回目!Z19=\"\",\"\",データ入力シート１回目!Z19)","v":{"$error":"#VALUE!"}},{"$f":"IF(データ入力シート１回目!AA17=\"\",\"\",データ入力シート１回目!AA17)+IF(データ入力シート１回目!AA18=\"\",\"\",データ入力シート１回目!AA18)+IF(データ入力シート１回目!AA19=\"\",\"\",データ入力シート１回目!AA19)","v":{"$error":"#VALUE!"}},{"$f":"IF(データ入力シート１回目!AB17=\"\",\"\",データ入力シート１回目!AB17)+IF(データ入力シート１回目!AB18=\"\",\"\",データ入力シート１回目!AB18)+IF(データ入力シート１回目!AB19=\"\",\"\",データ入力シート１回目!AB19)","v":{"$error":"#VALUE!"}},{"$f":"IF(データ入力シート１回目!AC17=\"\",\"\",データ入力シート１回目!AC17)+IF(データ入力シート１回目!AC18=\"\",\"\",データ入力シート１回目!AC18)+IF(データ入力シート１回目!AC19=\"\",\"\",データ入力シート１回目!AC19)","v":{"$error":"#VALUE!"}},{"$f":"IF(データ入力シート１回目!AD17=\"\",\"\",データ入力シート１回目!AD17)+IF(データ入力シート１回目!AD18=\"\",\"\",データ入力シート１回目!AD18)+IF(データ入力シート１回目!AD19=\"\",\"\",データ入力シート１回目!AD19)","v":{"$error":"#VALUE!"}},{"$f":"IF(データ入力シート１回目!AE17=\"\",\"\",データ入力シート１回目!AE17)+IF(データ入力シート１回目!AE18=\"\",\"\",データ入力シート１回目!AE18)+IF(データ入力シート１回目!AE19=\"\",\"\",データ入力シート１回目!AE19)","v":{"$error":"#VALUE!"}},{"$f":"IF(データ入力シート１回目!AF17=\"\",\"\",データ入力シート１回目!AF17)+IF(データ入力シート１回目!AF18=\"\",\"\",データ入力シート１回目!AF18)+IF(データ入力シート１回目!AF19=\"\",\"\",データ入力シート１回目!AF19)","v":{"$error":"#VALUE!"}},{"$f":"IF(データ入力シート１回目!AG17=\"\",\"\",データ入力シート１回目!AG17)+IF(データ入力シート１回目!AG18=\"\",\"\",データ入力シート１回目!AG18)+IF(データ入力シート１回目!AG19=\"\",\"\",データ入力シート１回目!AG19)","v":{"$error":"#VALUE!"}},{"$f":"IF(データ入力シート１回目!AH17=\"\",\"\",データ入力シート１回目!AH17)+IF(データ入力シート１回目!AH18=\"\",\"\",データ入力シート１回目!AH18)+IF(データ入力シート１回目!AH19=\"\",\"\",データ入力シート１回目!AH19)","v":{"$error":"#VALUE!"}},{"$f":"IF(データ入力シート１回目!AI17=\"\",\"\",データ入力シート１回目!AI17)+IF(データ入力シート１回目!AI18=\"\",\"\",データ入力シート１回目!AI18)+IF(データ入力シート１回目!AI19=\"\",\"\",データ入力シート１回目!AI19)","v":{"$error":"#VALUE!"}},{"$f":"IF(データ入力シート１回目!AJ17=\"\",\"\",データ入力シート１回目!AJ17)+IF(データ入力シート１回目!AJ18=\"\",\"\",データ入力シート１回目!AJ18)+IF(データ入力シート１回目!AJ19=\"\",\"\",データ入力シート１回目!AJ19)","v":{"$error":"#VALUE!"}},{"$f":"IF(データ入力シート１回目!AK17=\"\",\"\",データ入力シート１回目!AK17)+IF(データ入力シート１回目!AK18=\"\",\"\",データ入力シート１回目!AK18)+IF(データ入力シート１回目!AK19=\"\",\"\",データ入力シート１回目!AK19)","v":{"$error":"#VALUE!"}},{"$f":"IF(データ入力シート１回目!AL17=\"\",\"\",データ入力シート１回目!AL17)+IF(データ入力シート１回目!AL18=\"\",\"\",データ入力シート１回目!AL18)+IF(データ入力シート１回目!AL19=\"\",\"\",データ入力シート１回目!AL19)","v":{"$error":"#VALUE!"}},{"$f":"IF(データ入力シート１回目!AM17=\"\",\"\",データ入力シート１回目!AM17)+IF(データ入力シート１回目!AM18=\"\",\"\",データ入力シート１回目!AM18)+IF(データ入力シート１回目!AM19=\"\",\"\",データ入力シート１回目!AM19)","v":{"$error":"#VALUE!"}},{"$f":"IF(データ入力シート１回目!AN17=\"\",\"\",データ入力シート１回目!AN17)+IF(データ入力シート１回目!AN18=\"\",\"\",データ入力シート１回目!AN18)+IF(データ入力シート１回目!AN19=\"\",\"\",データ入力シート１回目!AN19)","v":{"$error":"#VALUE!"}},{"$f":"IF(データ入力シート１回目!AO17=\"\",\"\",データ入力シート１回目!AO17)+IF(データ入力シート１回目!AO18=\"\",\"\",データ入力シート１回目!AO18)+IF(データ入力シート１回目!AO19=\"\",\"\",データ入力シート１回目!AO19)","v":{"$error":"#VALUE!"}},{"$f":"IF(データ入力シート１回目!AP17=\"\",\"\",データ入力シート１回目!AP17)+IF(データ入力シート１回目!AP18=\"\",\"\",データ入力シート１回目!AP18)+IF(データ入力シート１回目!AP19=\"\",\"\",データ入力シート１回目!AP19)","v":{"$error":"#VALUE!"}},{"$f":"IF(データ入力シート１回目!AQ17=\"\",\"\",データ入力シート１回目!AQ17)+IF(データ入力シート１回目!AQ18=\"\",\"\",データ入力シート１回目!AQ18)+IF(データ入力シート１回目!AQ19=\"\",\"\",データ入力シート１回目!AQ19)","v":{"$error":"#VALUE!"}},{"$f":"IF(データ入力シート１回目!AR17=\"\",\"\",データ入力シート１回目!AR17)+IF(データ入力シート１回目!AR18=\"\",\"\",データ入力シート１回目!AR18)+IF(データ入力シート１回目!AR19=\"\",\"\",データ入力シート１回目!AR19)","v":{"$error":"#VALUE!"}},{"$f":"IF(データ入力シート１回目!AS17=\"\",\"\",データ入力シート１回目!AS17)+IF(データ入力シート１回目!AS18=\"\",\"\",データ入力シート１回目!AS18)+IF(データ入力シート１回目!AS19=\"\",\"\",データ入力シート１回目!AS19)","v":{"$error":"#VALUE!"}},{"$f":"IF(データ入力シート１回目!AT17=\"\",\"\",データ入力シート１回目!AT17)+IF(データ入力シート１回目!AT18=\"\",\"\",データ入力シート１回目!AT18)+IF(データ入力シート１回目!AT19=\"\",\"\",データ入力シート１回目!AT19)","v":{"$error":"#VALUE!"}},{"$f":"IF(データ入力シート１回目!AU17=\"\",\"\",データ入力シート１回目!AU17)+IF(データ入力シート１回目!AU18=\"\",\"\",データ入力シート１回目!AU18)+IF(データ入力シート１回目!AU19=\"\",\"\",データ入力シート１回目!AU19)","v":{"$error":"#VALUE!"}},{"$f":"IF(データ入力シート１回目!AV17=\"\",\"\",データ入力シート１回目!AV17)+IF(データ入力シート１回目!AV18=\"\",\"\",データ入力シート１回目!AV18)+IF(データ入力シート１回目!AV19=\"\",\"\",データ入力シート１回目!AV19)","v":{"$error":"#VALUE!"}},{"$f":"IF(データ入力シート１回目!AW17=\"\",\"\",データ入力シート１回目!AW17)+IF(データ入力シート１回目!AW18=\"\",\"\",データ入力シート１回目!AW18)+IF(データ入力シート１回目!AW19=\"\",\"\",データ入力シート１回目!AW19)","v":{"$error":"#VALUE!"}},{"$f":"IF(データ入力シート１回目!AX17=\"\",\"\",データ入力シート１回目!AX17)+IF(データ入力シート１回目!AX18=\"\",\"\",データ入力シート１回目!AX18)+IF(データ入力シート１回目!AX19=\"\",\"\",データ入力シート１回目!AX19)","v":{"$error":"#VALUE!"}},{"$f":"IF(データ入力シート１回目!AY17=\"\",\"\",データ入力シート１回目!AY17)+IF(データ入力シート１回目!AY18=\"\",\"\",データ入力シート１回目!AY18)+IF(データ入力シート１回目!AY19=\"\",\"\",データ入力シート１回目!AY19)","v":{"$error":"#VALUE!"}},{"$f":"IF(データ入力シート１回目!AZ17=\"\",\"\",データ入力シート１回目!AZ17)+IF(データ入力シート１回目!AZ18=\"\",\"\",データ入力シート１回目!AZ18)+IF(データ入力シート１回目!AZ19=\"\",\"\",データ入力シート１回目!AZ19)","v":{"$error":"#VALUE!"}},{"$f":"IF(データ入力シート１回目!BA17=\"\",\"\",データ入力シート１回目!BA17)+IF(データ入力シート１回目!BA18=\"\",\"\",データ入力シート１回目!BA18)+IF(データ入力シート１回目!BA19=\"\",\"\",データ入力シート１回目!BA19)","v":{"$error":"#VALUE!"}},{"$f":"IF(データ入力シート１回目!BB17=\"\",\"\",データ入力シート１回目!BB17)+IF(データ入力シート１回目!BB18=\"\",\"\",データ入力シート１回目!BB18)+IF(データ入力シート１回目!BB19=\"\",\"\",データ入力シート１回目!BB19)","v":{"$error":"#VALUE!"}},{"$f":"IF(データ入力シート１回目!BC17=\"\",\"\",データ入力シート１回目!BC17)+IF(データ入力シート１回目!BC18=\"\",\"\",データ入力シート１回目!BC18)+IF(データ入力シート１回目!BC19=\"\",\"\",データ入力シート１回目!BC19)","v":{"$error":"#VALUE!"}},{"$f":"IF(データ入力シート１回目!BD17=\"\",\"\",データ入力シート１回目!BD17)+IF(データ入力シート１回目!BD18=\"\",\"\",データ入力シート１回目!BD18)+IF(データ入力シート１回目!BD19=\"\",\"\",データ入力シート１回目!BD19)","v":{"$error":"#VALUE!"}},{"$f":"IF(データ入力シート１回目!BE17=\"\",\"\",データ入力シート１回目!BE17)+IF(データ入力シート１回目!BE18=\"\",\"\",データ入力シート１回目!BE18)+IF(データ入力シート１回目!BE19=\"\",\"\",データ入力シート１回目!BE19)","v":{"$error":"#VALUE!"}},{"$f":"IF(データ入力シート１回目!BF17=\"\",\"\",データ入力シート１回目!BF17)+IF(データ入力シート１回目!BF18=\"\",\"\",データ入力シート１回目!BF18)+IF(データ入力シート１回目!BF19=\"\",\"\",データ入力シート１回目!BF19)","v":{"$error":"#VALUE!"}},{"$f":"IF(データ入力シート１回目!BG17=\"\",\"\",データ入力シート１回目!BG17)+IF(データ入力シート１回目!BG18=\"\",\"\",データ入力シート１回目!BG18)+IF(データ入力シート１回目!BG19=\"\",\"\",データ入力シート１回目!BG19)","v":{"$error":"#VALUE!"}},{"$f":"IF(データ入力シート１回目!BH17=\"\",\"\",データ入力シート１回目!BH17)+IF(データ入力シート１回目!BH18=\"\",\"\",データ入力シート１回目!BH18)+IF(データ入力シート１回目!BH19=\"\",\"\",データ入力シート１回目!BH19)","v":{"$error":"#VALUE!"}},{"$f":"IF(データ入力シート１回目!BI17=\"\",\"\",データ入力シート１回目!BI17)+IF(データ入力シート１回目!BI18=\"\",\"\",データ入力シート１回目!BI18)+IF(データ入力シート１回目!BI19=\"\",\"\",データ入力シート１回目!BI19)","v":{"$error":"#VALUE!"}},{"$f":"IF(データ入力シート１回目!BJ17=\"\",\"\",データ入力シート１回目!BJ17)+IF(データ入力シート１回目!BJ18=\"\",\"\",データ入力シート１回目!BJ18)+IF(データ入力シート１回目!BJ19=\"\",\"\",データ入力シート１回目!BJ19)","v":{"$error":"#VALUE!"}},{"$f":"IF(データ入力シート１回目!BK17=\"\",\"\",データ入力シート１回目!BK17)+IF(データ入力シート１回目!BK18=\"\",\"\",データ入力シート１回目!BK18)+IF(データ入力シート１回目!BK19=\"\",\"\",データ入力シート１回目!BK19)","v":{"$error":"#VALUE!"}},{"$f":"IF(データ入力シート１回目!BL17=\"\",\"\",データ入力シート１回目!BL17)+IF(データ入力シート１回目!BL18=\"\",\"\",データ入力シート１回目!BL18)+IF(データ入力シート１回目!BL19=\"\",\"\",データ入力シート１回目!BL19)","v":{"$error":"#VALUE!"}},{"$f":"IF(データ入力シート１回目!BM17=\"\",\"\",データ入力シート１回目!BM17)+IF(データ入力シート１回目!BM18=\"\",\"\",データ入力シート１回目!BM18)+IF(データ入力シート１回目!BM19=\"\",\"\",データ入力シート１回目!BM19)","v":{"$error":"#VALUE!"}},{"$f":"IF(データ入力シート１回目!BN17=\"\",\"\",データ入力シート１回目!BN17)+IF(データ入力シート１回目!BN18=\"\",\"\",データ入力シート１回目!BN18)+IF(データ入力シート１回目!BN19=\"\",\"\",データ入力シート１回目!BN19)","v":{"$error":"#VALUE!"}},{"$f":"IF(データ入力シート１回目!BO17=\"\",\"\",データ入力シート１回目!BO17)+IF(データ入力シート１回目!BO18=\"\",\"\",データ入力シート１回目!BO18)+IF(データ入力シート１回目!BO19=\"\",\"\",データ入力シート１回目!BO19)","v":{"$error":"#VALUE!"}},{"$f":"IF(データ入力シート１回目!BP17=\"\",\"\",データ入力シート１回目!BP17)+IF(データ入力シート１回目!BP18=\"\",\"\",データ入力シート１回目!BP18)+IF(データ入力シート１回目!BP19=\"\",\"\",データ入力シート１回目!BP19)","v":{"$error":"#VALUE!"}},{"$f":"IF(データ入力シート１回目!BQ17=\"\",\"\",データ入力シート１回目!BQ17)+IF(データ入力シート１回目!BQ18=\"\",\"\",データ入力シート１回目!BQ18)+IF(データ入力シート１回目!BQ19=\"\",\"\",データ入力シート１回目!BQ19)","v":{"$error":"#VALUE!"}},{"$f":"IF(データ入力シート１回目!BR17=\"\",\"\",データ入力シート１回目!BR17)+IF(データ入力シート１回目!BR18=\"\",\"\",データ入力シート１回目!BR18)+IF(データ入力シート１回目!BR19=\"\",\"\",データ入力シート１回目!BR19)","v":{"$error":"#VALUE!"}},{"$f":"IF(データ入力シート１回目!BS17=\"\",\"\",データ入力シート１回目!BS17)+IF(データ入力シート１回目!BS18=\"\",\"\",データ入力シート１回目!BS18)+IF(データ入力シート１回目!BS19=\"\",\"\",データ入力シート１回目!BS19)","v":{"$error":"#VALUE!"}},{"$f":"IF(データ入力シート１回目!BT17=\"\",\"\",データ入力シート１回目!BT17)+IF(データ入力シート１回目!BT18=\"\",\"\",データ入力シート１回目!BT18)+IF(データ入力シート１回目!BT19=\"\",\"\",データ入力シート１回目!BT19)","v":{"$error":"#VALUE!"}},{"$f":"IF(データ入力シート１回目!BU17=\"\",\"\",データ入力シート１回目!BU17)+IF(データ入力シート１回目!BU18=\"\",\"\",データ入力シート１回目!BU18)+IF(データ入力シート１回目!BU19=\"\",\"\",データ入力シート１回目!BU19)","v":{"$error":"#VALUE!"}},{"$f":"IF(データ入力シート１回目!BV17=\"\",\"\",データ入力シート１回目!BV17)+IF(データ入力シート１回目!BV18=\"\",\"\",データ入力シート１回目!BV18)+IF(データ入力シート１回目!BV19=\"\",\"\",データ入力シート１回目!BV19)","v":{"$error":"#VALUE!"}},{"$f":"IF(データ入力シート１回目!BW17=\"\",\"\",データ入力シート１回目!BW17)+IF(データ入力シート１回目!BW18=\"\",\"\",データ入力シート１回目!BW18)+IF(データ入力シート１回目!BW19=\"\",\"\",データ入力シート１回目!BW19)","v":{"$error":"#VALUE!"}},{"$f":"IF(データ入力シート１回目!BX17=\"\",\"\",データ入力シート１回目!BX17)+IF(データ入力シート１回目!BX18=\"\",\"\",データ入力シート１回目!BX18)+IF(データ入力シート１回目!BX19=\"\",\"\",データ入力シート１回目!BX19)","v":{"$error":"#VALUE!"}},{"$f":"IF(データ入力シート１回目!BY17=\"\",\"\",データ入力シート１回目!BY17)+IF(データ入力シート１回目!BY18=\"\",\"\",データ入力シート１回目!BY18)+IF(データ入力シート１回目!BY19=\"\",\"\",データ入力シート１回目!BY19)","v":{"$error":"#VALUE!"}},{"$f":"IF(データ入力シート１回目!BZ17=\"\",\"\",データ入力シート１回目!BZ17)+IF(データ入力シート１回目!BZ18=\"\",\"\",データ入力シート１回目!BZ18)+IF(データ入力シート１回目!BZ19=\"\",\"\",データ入力シート１回目!BZ19)","v":{"$error":"#VALUE!"}},{"$f":"IF(データ入力シート１回目!CA17=\"\",\"\",データ入力シート１回目!CA17)+IF(データ入力シート１回目!CA18=\"\",\"\",データ入力シート１回目!CA18)+IF(データ入力シート１回目!CA19=\"\",\"\",データ入力シート１回目!CA19)","v":{"$error":"#VALUE!"}},{"$f":"IF(データ入力シート１回目!CB17=\"\",\"\",データ入力シート１回目!CB17)+IF(データ入力シート１回目!CB18=\"\",\"\",データ入力シート１回目!CB18)+IF(データ入力シート１回目!CB19=\"\",\"\",データ入力シート１回目!CB19)","v":{"$error":"#VALUE!"}},{"$f":"IF(データ入力シート１回目!CC17=\"\",\"\",データ入力シート１回目!CC17)+IF(データ入力シート１回目!CC18=\"\",\"\",データ入力シート１回目!CC18)+IF(データ入力シート１回目!CC19=\"\",\"\",データ入力シート１回目!CC19)","v":{"$error":"#VALUE!"}},{"$f":"IF(データ入力シート１回目!CD17=\"\",\"\",データ入力シート１回目!CD17)+IF(データ入力シート１回目!CD18=\"\",\"\",データ入力シート１回目!CD18)+IF(データ入力シート１回目!CD19=\"\",\"\",データ入力シート１回目!CD19)","v":{"$error":"#VALUE!"}},{"$f":"IF(データ入力シート１回目!CE17=\"\",\"\",データ入力シート１回目!CE17)+IF(データ入力シート１回目!CE18=\"\",\"\",データ入力シート１回目!CE18)+IF(データ入力シート１回目!CE19=\"\",\"\",データ入力シート１回目!CE19)","v":{"$error":"#VALUE!"}},{"$f":"IF(データ入力シート１回目!CF17=\"\",\"\",データ入力シート１回目!CF17)+IF(データ入力シート１回目!CF18=\"\",\"\",データ入力シート１回目!CF18)+IF(データ入力シート１回目!CF19=\"\",\"\",データ入力シート１回目!CF19)","v":{"$error":"#VALUE!"}},{"$f":"IF(データ入力シート１回目!CG17=\"\",\"\",データ入力シート１回目!CG17)+IF(データ入力シート１回目!CG18=\"\",\"\",データ入力シート１回目!CG18)+IF(データ入力シート１回目!CG19=\"\",\"\",データ入力シート１回目!CG19)","v":{"$error":"#VALUE!"}},{"$f":"IF(データ入力シート１回目!CH17=\"\",\"\",データ入力シート１回目!CH17)+IF(データ入力シート１回目!CH18=\"\",\"\",データ入力シート１回目!CH18)+IF(データ入力シート１回目!CH19=\"\",\"\",データ入力シート１回目!CH19)","v":{"$error":"#VALUE!"}},{"$f":"IF(データ入力シート１回目!CI17=\"\",\"\",データ入力シート１回目!CI17)+IF(データ入力シート１回目!CI18=\"\",\"\",データ入力シート１回目!CI18)+IF(データ入力シート１回目!CI19=\"\",\"\",データ入力シート１回目!CI19)","v":{"$error":"#VALUE!"}},{"$f":"IF(データ入力シート１回目!CJ17=\"\",\"\",データ入力シート１回目!CJ17)+IF(データ入力シート１回目!CJ18=\"\",\"\",データ入力シート１回目!CJ18)+IF(データ入力シート１回目!CJ19=\"\",\"\",データ入力シート１回目!CJ19)","v":{"$error":"#VALUE!"}},{"$f":"IF(データ入力シート１回目!CK17=\"\",\"\",データ入力シート１回目!CK17)+IF(データ入力シート１回目!CK18=\"\",\"\",データ入力シート１回目!CK18)+IF(データ入力シート１回目!CK19=\"\",\"\",データ入力シート１回目!CK19)","v":{"$error":"#VALUE!"}},{"$f":"IF(データ入力シート１回目!CL17=\"\",\"\",データ入力シート１回目!CL17)+IF(データ入力シート１回目!CL18=\"\",\"\",データ入力シート１回目!CL18)+IF(データ入力シート１回目!CL19=\"\",\"\",データ入力シート１回目!CL19)","v":{"$error":"#VALUE!"}},{"$f":"IF(データ入力シート１回目!CM17=\"\",\"\",データ入力シート１回目!CM17)+IF(データ入力シート１回目!CM18=\"\",\"\",データ入力シート１回目!CM18)+IF(データ入力シート１回目!CM19=\"\",\"\",データ入力シート１回目!CM19)","v":{"$error":"#VALUE!"}},{"$f":"IF(データ入力シート１回目!CN17=\"\",\"\",データ入力シート１回目!CN17)+IF(データ入力シート１回目!CN18=\"\",\"\",データ入力シート１回目!CN18)+IF(データ入力シート１回目!CN19=\"\",\"\",データ入力シート１回目!CN19)","v":{"$error":"#VALUE!"}},{"$f":"IF(データ入力シート１回目!CO17=\"\",\"\",データ入力シート１回目!CO17)+IF(データ入力シート１回目!CO18=\"\",\"\",データ入力シート１回目!CO18)+IF(データ入力シート１回目!CO19=\"\",\"\",データ入力シート１回目!CO19)","v":{"$error":"#VALUE!"}},{"$f":"IF(データ入力シート１回目!CP17=\"\",\"\",データ入力シート１回目!CP17)+IF(データ入力シート１回目!CP18=\"\",\"\",データ入力シート１回目!CP18)+IF(データ入力シート１回目!CP19=\"\",\"\",データ入力シート１回目!CP19)","v":{"$error":"#VALUE!"}},{"$f":"IF(データ入力シート１回目!CQ17=\"\",\"\",データ入力シート１回目!CQ17)+IF(データ入力シート１回目!CQ18=\"\",\"\",データ入力シート１回目!CQ18)+IF(データ入力シート１回目!CQ19=\"\",\"\",データ入力シート１回目!CQ19)","v":{"$error":"#VALUE!"}},{"$f":"IF(データ入力シート１回目!CR17=\"\",\"\",データ入力シート１回目!CR17)+IF(データ入力シート１回目!CR18=\"\",\"\",データ入力シート１回目!CR18)+IF(データ入力シート１回目!CR19=\"\",\"\",データ入力シート１回目!CR19)","v":{"$error":"#VALUE!"}},{"$f":"IF(データ入力シート１回目!CS17=\"\",\"\",データ入力シート１回目!CS17)+IF(データ入力シート１回目!CS18=\"\",\"\",データ入力シート１回目!CS18)+IF(データ入力シート１回目!CS19=\"\",\"\",データ入力シート１回目!CS19)","v":{"$error":"#VALUE!"}},{"$f":"IF(データ入力シート１回目!CT17=\"\",\"\",データ入力シート１回目!CT17)+IF(データ入力シート１回目!CT18=\"\",\"\",データ入力シート１回目!CT18)+IF(データ入力シート１回目!CT19=\"\",\"\",データ入力シート１回目!CT19)","v":{"$error":"#VALUE!"}},{"$f":"IF(データ入力シート１回目!CU17=\"\",\"\",データ入力シート１回目!CU17)+IF(データ入力シート１回目!CU18=\"\",\"\",データ入力シート１回目!CU18)+IF(データ入力シート１回目!CU19=\"\",\"\",データ入力シート１回目!CU19)","v":{"$error":"#VALUE!"}},{"$f":"IF(データ入力シート１回目!CV17=\"\",\"\",データ入力シート１回目!CV17)+IF(データ入力シート１回目!CV18=\"\",\"\",データ入力シート１回目!CV18)+IF(データ入力シート１回目!CV19=\"\",\"\",データ入力シート１回目!CV19)","v":{"$error":"#VALUE!"}},{"$f":"IF(データ入力シート１回目!CW17=\"\",\"\",データ入力シート１回目!CW17)+IF(データ入力シート１回目!CW18=\"\",\"\",データ入力シート１回目!CW18)+IF(データ入力シート１回目!CW19=\"\",\"\",データ入力シート１回目!CW19)","v":{"$error":"#VALUE!"}},{"$f":"IF(データ入力シート１回目!CX17=\"\",\"\",データ入力シート１回目!CX17)+IF(データ入力シート１回目!CX18=\"\",\"\",データ入力シート１回目!CX18)+IF(データ入力シート１回目!CX19=\"\",\"\",データ入力シート１回目!CX19)","v":{"$error":"#VALUE!"}},{"$f":"IF(データ入力シート１回目!CY17=\"\",\"\",データ入力シート１回目!CY17)+IF(データ入力シート１回目!CY18=\"\",\"\",データ入力シート１回目!CY18)+IF(データ入力シート１回目!CY19=\"\",\"\",データ入力シート１回目!CY19)","v":{"$error":"#VALUE!"}},{"$f":"IF(データ入力シート１回目!CZ17=\"\",\"\",データ入力シート１回目!CZ17)+IF(データ入力シート１回目!CZ18=\"\",\"\",データ入力シート１回目!CZ18)+IF(データ入力シート１回目!CZ19=\"\",\"\",データ入力シート１回目!CZ19)","v":{"$error":"#VALUE!"}}]
["人的資源について","P",{"$f":"IF(データ入力シート１回目!E20=\"\",\"\",データ入力シート１回目!E20)+IF(データ入力シート１回目!E21=\"\",\"\",データ入力シート１回目!E21)+IF(データ入力シート１回目!E22=\"\",\"\",データ入力シート１回目!E22)","v":{"$error":"#VALUE!"}},{"$f":"IF(データ入力シート１回目!F20=\"\",\"\",データ入力シート１回目!F20)+IF(データ入力シート１回目!F21=\"\",\"\",データ入力シート１回目!F21)+IF(データ入力シート１回目!F22=\"\",\"\",データ入力シート１回目!F22)","v":{"$error":"#VALUE!"}},{"$f":"IF(データ入力シート１回目!G20=\"\",\"\",データ入力シート１回目!G20)+IF(データ入力シート１回目!G21=\"\",\"\",データ入力シート１回目!G21)+IF(データ入力シート１回目!G22=\"\",\"\",データ入力シート１回目!G22)","v":{"$error":"#VALUE!"}},{"$f":"IF(データ入力シート１回目!H20=\"\",\"\",データ入力シート１回目!H20)+IF(データ入力シート１回目!H21=\"\",\"\",データ入力シート１回目!H21)+IF(データ入力シート１回目!H22=\"\",\"\",データ入力シート１回目!H22)","v":{"$error":"#VALUE!"}},{"$f":"IF(データ入力シート１回目!I20=\"\",\"\",データ入力シート１回目!I20)+IF(データ入力シート１回目!I21=\"\",\"\",データ入力シート１回目!I21)+IF(データ入力シート１回目!I22=\"\",\"\",データ入力シート１回目!I22)","v":{"$error":"#VALUE!"}},{"$f":"IF(データ入力シート１回目!J20=\"\",\"\",データ入力シート１回目!J20)+IF(データ入力シート１回目!J21=\"\",\"\",データ入力シート１回目!J21)+IF(データ入力シート１回目!J22=\"\",\"\",データ入力シート１回目!J22)","v":{"$error":"#VALUE!"}},{"$f":"IF(データ入力シート１回目!K20=\"\",\"\",データ入力シート１回目!K20)+IF(データ入力シート１回目!K21=\"\",\"\",データ入力シート１回目!K21)+IF(データ入力シート１回目!K22=\"\",\"\",データ入力シート１回目!K22)","v":{"$error":"#VALUE!"}},{"$f":"IF(データ入力シート１回目!L20=\"\",\"\",データ入力シート１回目!L20)+IF(データ入力シート１回目!L21=\"\",\"\",データ入力シート１回目!L21)+IF(データ入力シート１回目!L22=\"\",\"\",データ入力シート１回目!L22)","v":{"$error":"#VALUE!"}},{"$f":"IF(データ入力シート１回目!M20=\"\",\"\",データ入力シート１回目!M20)+IF(データ入力シート１回目!M21=\"\",\"\",データ入力シート１回目!M21)+IF(データ入力シート１回目!M22=\"\",\"\",データ入力シート１回目!M22)","v":{"$error":"#VALUE!"}},{"$f":"IF(データ入力シート１回目!N20=\"\",\"\",データ入力シート１回目!N20)+IF(データ入力シート１回目!N21=\"\",\"\",データ入力シート１回目!N21)+IF(データ入力シート１回目!N22=\"\",\"\",データ入力シート１回目!N22)","v":{"$error":"#VALUE!"}},{"$f":"IF(データ入力シート１回目!O20=\"\",\"\",データ入力シート１回目!O20)+IF(データ入力シート１回目!O21=\"\",\"\",データ入力シート１回目!O21)+IF(データ入力シート１回目!O22=\"\",\"\",データ入力シート１回目!O22)","v":{"$error":"#VALUE!"}},{"$f":"IF(データ入力シート１回目!P20=\"\",\"\",データ入力シート１回目!P20)+IF(データ入力シート１回目!P21=\"\",\"\",データ入力シート１回目!P21)+IF(データ入力シート１回目!P22=\"\",\"\",データ入力シート１回目!P22)","v":{"$error":"#VALUE!"}},{"$f":"IF(データ入力シート１回目!Q20=\"\",\"\",データ入力シート１回目!Q20)+IF(データ入力シート１回目!Q21=\"\",\"\",データ入力シート１回目!Q21)+IF(データ入力シート１回目!Q22=\"\",\"\",データ入力シート１回目!Q22)","v":{"$error":"#VALUE!"}},{"$f":"IF(データ入力シート１回目!R20=\"\",\"\",データ入力シート１回目!R20)+IF(データ入力シート１回目!R21=\"\",\"\",データ入力シート１回目!R21)+IF(データ入力シート１回目!R22=\"\",\"\",データ入力シート１回目!R22)","v":{"$error":"#VALUE!"}},{"$f":"IF(データ入力シート１回目!S20=\"\",\"\",データ入力シート１回目!S20)+IF(データ入力シート１回目!S21=\"\",\"\",データ入力シート１回目!S21)+IF(データ入力シート１回目!S22=\"\",\"\",データ入力シート１回目!S22)","v":{"$error":"#VALUE!"}},{"$f":"IF(データ入力シート１回目!T20=\"\",\"\",データ入力シート１回目!T20)+IF(データ入力シート１回目!T21=\"\",\"\",データ入力シート１回目!T21)+IF(データ入力シート１回目!T22=\"\",\"\",データ入力シート１回目!T22)","v":{"$error":"#VALUE!"}},{"$f":"IF(データ入力シート１回目!U20=\"\",\"\",データ入力シート１回目!U20)+IF(データ入力シート１回目!U21=\"\",\"\",データ入力シート１回目!U21)+IF(データ入力シート１回目!U22=\"\",\"\",データ入力シート１回目!U22)","v":{"$error":"#VALUE!"}},{"$f":"IF(データ入力シート１回目!V20=\"\",\"\",データ入力シート１回目!V20)+IF(データ入力シート１回目!V21=\"\",\"\",データ入力シート１回目!V21)+IF(データ入力シート１回目!V22=\"\",\"\",データ入力シート１回目!V22)","v":{"$error":"#VALUE!"}},{"$f":"IF(データ入力シート１回目!W20=\"\",\"\",データ入力シート１回目!W20)+IF(データ入力シート１回目!W21=\"\",\"\",データ入力シート１回目!W21)+IF(データ入力シート１回目!W22=\"\",\"\",データ入力シート１回目!W22)","v":{"$error":"#VALUE!"}},{"$f":"IF(データ入力シート１回目!X20=\"\",\"\",データ入力シート１回目!X20)+IF(データ入力シート１回目!X21=\"\",\"\",データ入力シート１回目!X21)+IF(データ入力シート１回目!X22=\"\",\"\",データ入力シート１回目!X22)","v":{"$error":"#VALUE!"}},{"$f":"IF(データ入力シート１回目!Y20=\"\",\"\",データ入力シート１回目!Y20)+IF(データ入力シート１回目!Y21=\"\",\"\",データ入力シート１回目!Y21)+IF(データ入力シート１回目!Y22=\"\",\"\",データ入力シート１回目!Y22)","v":{"$error":"#VALUE!"}},{"$f":"IF(データ入力シート１回目!Z20=\"\",\"\",データ入力シート１回目!Z20)+IF(データ入力シート１回目!Z21=\"\",\"\",データ入力シート１回目!Z21)+IF(データ入力シート１回目!Z22=\"\",\"\",データ入力シート１回目!Z22)","v":{"$error":"#VALUE!"}},{"$f":"IF(データ入力シート１回目!AA20=\"\",\"\",データ入力シート１回目!AA20)+IF(データ入力シート１回目!AA21=\"\",\"\",データ入力シート１回目!AA21)+IF(データ入力シート１回目!AA22=\"\",\"\",データ入力シート１回目!AA22)","v":{"$error":"#VALUE!"}},{"$f":"IF(データ入力シート１回目!AB20=\"\",\"\",データ入力シート１回目!AB20)+IF(データ入力シート１回目!AB21=\"\",\"\",データ入力シート１回目!AB21)+IF(データ入力シート１回目!AB22=\"\",\"\",データ入力シート１回目!AB22)","v":{"$error":"#VALUE!"}},{"$f":"IF(データ入力シート１回目!AC20=\"\",\"\",データ入力シート１回目!AC20)+IF(データ入力シート１回目!AC21=\"\",\"\",データ入力シート１回目!AC21)+IF(データ入力シート１回目!AC22=\"\",\"\",データ入力シート１回目!AC22)","v":{"$error":"#VALUE!"}},{"$f":"IF(データ入力シート１回目!AD20=\"\",\"\",データ入力シート１回目!AD20)+IF(データ入力シート１回目!AD21=\"\",\"\",データ入力シート１回目!AD21)+IF(データ入力シート１回目!AD22=\"\",\"\",データ入力シート１回目!AD22)","v":{"$error":"#VALUE!"}},{"$f":"IF(データ入力シート１回目!AE20=\"\",\"\",データ入力シート１回目!AE20)+IF(データ入力シート１回目!AE21=\"\",\"\",データ入力シート１回目!AE21)+IF(データ入力シート１回目!AE22=\"\",\"\",データ入力シート１回目!AE22)","v":{"$error":"#VALUE!"}},{"$f":"IF(データ入力シート１回目!AF20=\"\",\"\",データ入力シート１回目!AF20)+IF(データ入力シート１回目!AF21=\"\",\"\",データ入力シート１回目!AF21)+IF(データ入力シート１回目!AF22=\"\",\"\",データ入力シート１回目!AF22)","v":{"$error":"#VALUE!"}},{"$f":"IF(データ入力シート１回目!AG20=\"\",\"\",データ入力シート１回目!AG20)+IF(データ入力シート１回目!AG21=\"\",\"\",データ入力シート１回目!AG21)+IF(データ入力シート１回目!AG22=\"\",\"\",データ入力シート１回目!AG22)","v":{"$error":"#VALUE!"}},{"$f":"IF(データ入力シート１回目!AH20=\"\",\"\",データ入力シート１回目!AH20)+IF(データ入力シート１回目!AH21=\"\",\"\",データ入力シート１回目!AH21)+IF(データ入力シート１回目!AH22=\"\",\"\",データ入力シート１回目!AH22)","v":{"$error":"#VALUE!"}},{"$f":"IF(データ入力シート１回目!AI20=\"\",\"\",データ入力シート１回目!AI20)+IF(データ入力シート１回目!AI21=\"\",\"\",データ入力シート１回目!AI21)+IF(データ入力シート１回目!AI22=\"\",\"\",データ入力シート１回目!AI22)","v":{"$error":"#VALUE!"}},{"$f":"IF(データ入力シート１回目!AJ20=\"\",\"\",データ入力シート１回目!AJ20)+IF(データ入力シート１回目!AJ21=\"\",\"\",データ入力シート１回目!AJ21)+IF(データ入力シート１回目!AJ22=\"\",\"\",データ入力シート１回目!AJ22)","v":{"$error":"#VALUE!"}},{"$f":"IF(データ入力シート１回目!AK20=\"\",\"\",データ入力シート１回目!AK20)+IF(データ入力シート１回目!AK21=\"\",\"\",データ入力シート１回目!AK21)+IF(データ入力シート１回目!AK22=\"\",\"\",データ入力シート１回目!AK22)","v":{"$error":"#VALUE!"}},{"$f":"IF(データ入力シート１回目!AL20=\"\",\"\",データ入力シート１回目!AL20)+IF(データ入力シート１回目!AL21=\"\",\"\",データ入力シート１回目!AL21)+IF(データ入力シート１回目!AL22=\"\",\"\",データ入力シート１回目!AL22)","v":{"$error":"#VALUE!"}},{"$f":"IF(データ入力シート１回目!AM20=\"\",\"\",データ入力シート１回目!AM20)+IF(データ入力シート１回目!AM21=\"\",\"\",データ入力シート１回目!AM21)+IF(データ入力シート１回目!AM22=\"\",\"\",データ入力シート１回目!AM22)","v":{"$error":"#VALUE!"}},{"$f":"IF(データ入力シート１回目!AN20=\"\",\"\",データ入力シート１回目!AN20)+IF(データ入力シート１回目!AN21=\"\",\"\",データ入力シート１回目!AN21)+IF(データ入力シート１回目!AN22=\"\",\"\",データ入力シート１回目!AN22)","v":{"$error":"#VALUE!"}},{"$f":"IF(データ入力シート１回目!AO20=\"\",\"\",データ入力シート１回目!AO20)+IF(データ入力シート１回目!AO21=\"\",\"\",データ入力シート１回目!AO21)+IF(データ入力シート１回目!AO22=\"\",\"\",データ入力シート１回目!AO22)","v":{"$error":"#VALUE!"}},{"$f":"IF(データ入力シート１回目!AP20=\"\",\"\",データ入力シート１回目!AP20)+IF(データ入力シート１回目!AP21=\"\",\"\",データ入力シート１回目!AP21)+IF(データ入力シート１回目!AP22=\"\",\"\",データ入力シート１回目!AP22)","v":{"$error":"#VALUE!"}},{"$f":"IF(データ入力シート１回目!AQ20=\"\",\"\",データ入力シート１回目!AQ20)+IF(データ入力シート１回目!AQ21=\"\",\"\",データ入力シート１回目!AQ21)+IF(データ入力シート１回目!AQ22=\"\",\"\",データ入力シート１回目!AQ22)","v":{"$error":"#VALUE!"}},{"$f":"IF(データ入力シート１回目!AR20=\"\",\"\",データ入力シート１回目!AR20)+IF(データ入力シート１回目!AR21=\"\",\"\",データ入力シート１回目!AR21)+IF(データ入力シート１回目!AR22=\"\",\"\",データ入力シート１回目!AR22)","v":{"$error":"#VALUE!"}},{"$f":"IF(データ入力シート１回目!AS20=\"\",\"\",データ入力シート１回目!AS20)+IF(データ入力シート１回目!AS21=\"\",\"\",データ入力シート１回目!AS21)+IF(データ入力シート１回目!AS22=\"\",\"\",データ入力シート１回目!AS22)","v":{"$error":"#VALUE!"}},{"$f":"IF(データ入力シート１回目!AT20=\"\",\"\",データ入力シート１回目!AT20)+IF(データ入力シート１回目!AT21=\"\",\"\",データ入力シート１回目!AT21)+IF(データ入力シート１回目!AT22=\"\",\"\",データ入力シート１回目!AT22)","v":{"$error":"#VALUE!"}},{"$f":"IF(データ入力シート１回目!AU20=\"\",\"\",データ入力シート１回目!AU20)+IF(データ入力シート１回目!AU21=\"\",\"\",データ入力シート１回目!AU21)+IF(データ入力シート１回目!AU22=\"\",\"\",データ入力シート１回目!AU22)","v":{"$error":"#VALUE!"}},{"$f":"IF(データ入力シート１回目!AV20=\"\",\"\",データ入力シート１回目!AV20)+IF(データ入力シート１回目!AV21=\"\",\"\",データ入力シート１回目!AV21)+IF(データ入力シート１回目!AV22=\"\",\"\",データ入力シート１回目!AV22)","v":{"$error":"#VALUE!"}},{"$f":"IF(データ入力シート１回目!AW20=\"\",\"\",データ入力シート１回目!AW20)+IF(データ入力シート１回目!AW21=\"\",\"\",データ入力シート１回目!AW21)+IF(データ入力シート１回目!AW22=\"\",\"\",データ入力シート１回目!AW22)","v":{"$error":"#VALUE!"}},{"$f":"IF(データ入力シート１回目!AX20=\"\",\"\",データ入力シート１回目!AX20)+IF(データ入力シート１回目!AX21=\"\",\"\",データ入力シート１回目!AX21)+IF(データ入力シート１回目!AX22=\"\",\"\",データ入力シート１回目!AX22)","v":{"$error":"#VALUE!"}},{"$f":"IF(データ入力シート１回目!AY20=\"\",\"\",データ入力シート１回目!AY20)+IF(データ入力シート１回目!AY21=\"\",\"\",データ入力シート１回目!AY21)+IF(データ入力シート１回目!AY22=\"\",\"\",データ入力シート１回目!AY22)","v":{"$error":"#VALUE!"}},{"$f":"IF(データ入力シート１回目!AZ20=\"\",\"\",データ入力シート１回目!AZ20)+IF(データ入力シート１回目!AZ21=\"\",\"\",データ入力シート１回目!AZ21)+IF(データ入力シート１回目!AZ22=\"\",\"\",データ入力シート１回目!AZ22)","v":{"$error":"#VALUE!"}},{"$f":"IF(データ入力シート１回目!BA20=\"\",\"\",データ入力シート１回目!BA20)+IF(データ入力シート１回目!BA21=\"\",\"\",データ入力シート１回目!BA21)+IF(データ入力シート１回目!BA22=\"\",\"\",データ入力シート１回目!BA22)","v":{"$error":"#VALUE!"}},{"$f":"IF(データ入力シート１回目!BB20=\"\",\"\",データ入力シート１回目!BB20)+IF(データ入力シート１回目!BB21=\"\",\"\",データ入力シート１回目!BB21)+IF(データ入力シート１回目!BB22=\"\",\"\",データ入力シート１回目!BB22)","v":{"$error":"#VALUE!"}},{"$f":"IF(データ入力シート１回目!BC20=\"\",\"\",データ入力シート１回目!BC20)+IF(データ入力シート１回目!BC21=\"\",\"\",データ入力シート１回目!BC21)+IF(データ入力シート１回目!BC22=\"\",\"\",データ入力シート１回目!BC22)","v":{"$error":"#VALUE!"}},{"$f":"IF(データ入力シート１回目!BD20=\"\",\"\",データ入力シート１回目!BD20)+IF(データ入力シート１回目!BD21=\"\",\"\",データ入力シート１回目!BD21)+IF(データ入力シート１回目!BD22=\"\",\"\",データ入力シート１回目!BD22)","v":{"$error":"#VALUE!"}},{"$f":"IF(データ入力シート１回目!BE20=\"\",\"\",データ入力シート１回目!BE20)+IF(データ入力シート１回目!BE21=\"\",\"\",データ入力シート１回目!BE21)+IF(データ入力シート１回目!BE22=\"\",\"\",データ入力シート１回目!BE22)","v":{"$error":"#VALUE!"}},{"$f":"IF(データ入力シート１回目!BF20=\"\",\"\",データ入力シート１回目!BF20)+IF(データ入力シート１回目!BF21=\"\",\"\",データ入力シート１回目!BF21)+IF(データ入力シート１回目!BF22=\"\",\"\",データ入力シート１回目!BF22)","v":{"$error":"#VALUE!"}},{"$f":"IF(データ入力シート１回目!BG20=\"\",\"\",データ入力シート１回目!BG20)+IF(データ入力シート１回目!BG21=\"\",\"\",データ入力シート１回目!BG21)+IF(データ入力シート１回目!BG22=\"\",\"\",データ入力シート１回目!BG22)","v":{"$error":"#VALUE!"}},{"$f":"IF(データ入力シート１回目!BH20=\"\",\"\",データ入力シート１回目!BH20)+IF(データ入力シート１回目!BH21=\"\",\"\",データ入力シート１回目!BH21)+IF(データ入力シート１回目!BH22=\"\",\"\",データ入力シート１回目!BH22)","v":{"$error":"#VALUE!"}},{"$f":"IF(データ入力シート１回目!BI20=\"\",\"\",データ入力シート１回目!BI20)+IF(データ入力シート１回目!BI21=\"\",\"\",データ入力シート１回目!BI21)+IF(データ入力シート１回目!BI22=\"\",\"\",データ入力シート１回目!BI22)","v":{"$error":"#VALUE!"}},{"$f":"IF(データ入力シート１回目!BJ20=\"\",\"\",データ入力シート１回目!BJ20)+IF(データ入力シート１回目!BJ21=\"\",\"\",データ入力シート１回目!BJ21)+IF(データ入力シート１回目!BJ22=\"\",\"\",データ入力シート１回目!BJ22)","v":{"$error":"#VALUE!"}},{"$f":"IF(データ入力シート１回目!BK20=\"\",\"\",データ入力シート１回目!BK20)+IF(データ入力シート１回目!BK21=\"\",\"\",データ入力シート１回目!BK21)+IF(データ入力シート１回目!BK22=\"\",\"\",データ入力シート１回目!BK22)","v":{"$error":"#VALUE!"}},{"$f":"IF(データ入力シート１回目!BL20=\"\",\"\",データ入力シート１回目!BL20)+IF(データ入力シート１回目!BL21=\"\",\"\",データ入力シート１回目!BL21)+IF(データ入力シート１回目!BL22=\"\",\"\",データ入力シート１回目!BL22)","v":{"$error":"#VALUE!"}},{"$f":"IF(データ入力シート１回目!BM20=\"\",\"\",データ入力シート１回目!BM20)+IF(データ入力シート１回目!BM21=\"\",\"\",データ入力シート１回目!BM21)+IF(データ入力シート１回目!BM22=\"\",\"\",データ入力シート１回目!BM22)","v":{"$error":"#VALUE!"}},{"$f":"IF(データ入力シート１回目!BN20=\"\",\"\",データ入力シート１回目!BN20)+IF(データ入力シート１回目!BN21=\"\",\"\",データ入力シート１回目!BN21)+IF(データ入力シート１回目!BN22=\"\",\"\",データ入力シート１回目!BN22)","v":{"$error":"#VALUE!"}},{"$f":"IF(データ入力シート１回目!BO20=\"\",\"\",データ入力シート１回目!BO20)+IF(データ入力シート１回目!BO21=\"\",\"\",データ入力シート１回目!BO21)+IF(データ入力シート１回目!BO22=\"\",\"\",データ入力シート１回目!BO22)","v":{"$error":"#VALUE!"}},{"$f":"IF(データ入力シート１回目!BP20=\"\",\"\",データ入力シート１回目!BP20)+IF(データ入力シート１回目!BP21=\"\",\"\",データ入力シート１回目!BP21)+IF(データ入力シート１回目!BP22=\"\",\"\",データ入力シート１回目!BP22)","v":{"$error":"#VALUE!"}},{"$f":"IF(データ入力シート１回目!BQ20=\"\",\"\",データ入力シート１回目!BQ20)+IF(データ入力シート１回目!BQ21=\"\",\"\",データ入力シート１回目!BQ21)+IF(データ入力シート１回目!BQ22=\"\",\"\",データ入力シート１回目!BQ22)","v":{"$error":"#VALUE!"}},{"$f":"IF(データ入力シート１回目!BR20=\"\",\"\",データ入力シート１回目!BR20)+IF(データ入力シート１回目!BR21=\"\",\"\",データ入力シート１回目!BR21)+IF(データ入力シート１回目!BR22=\"\",\"\",データ入力シート１回目!BR22)","v":{"$error":"#VALUE!"}},{"$f":"IF(データ入力シート１回目!BS20=\"\",\"\",データ入力シート１回目!BS20)+IF(データ入力シート１回目!BS21=\"\",\"\",データ入力シート１回目!BS21)+IF(データ入力シート１回目!BS22=\"\",\"\",データ入力シート１回目!BS22)","v":{"$error":"#VALUE!"}},{"$f":"IF(データ入力シート１回目!BT20=\"\",\"\",データ入力シート１回目!BT20)+IF(データ入力シート１回目!BT21=\"\",\"\",データ入力シート１回目!BT21)+IF(データ入力シート１回目!BT22=\"\",\"\",データ入力シート１回目!BT22)","v":{"$error":"#VALUE!"}},{"$f":"IF(データ入力シート１回目!BU20=\"\",\"\",データ入力シート１回目!BU20)+IF(データ入力シート１回目!BU21=\"\",\"\",データ入力シート１回目!BU21)+IF(データ入力シート１回目!BU22=\"\",\"\",データ入力シート１回目!BU22)","v":{"$error":"#VALUE!"}},{"$f":"IF(データ入力シート１回目!BV20=\"\",\"\",データ入力シート１回目!BV20)+IF(データ入力シート１回目!BV21=\"\",\"\",データ入力シート１回目!BV21)+IF(データ入力シート１回目!BV22=\"\",\"\",データ入力シート１回目!BV22)","v":{"$error":"#VALUE!"}},{"$f":"IF(データ入力シート１回目!BW20=\"\",\"\",データ入力シート１回目!BW20)+IF(データ入力シート１回目!BW21=\"\",\"\",データ入力シート１回目!BW21)+IF(データ入力シート１回目!BW22=\"\",\"\",データ入力シート１回目!BW22)","v":{"$error":"#VALUE!"}},{"$f":"IF(データ入力シート１回目!BX20=\"\",\"\",データ入力シート１回目!BX20)+IF(データ入力シート１回目!BX21=\"\",\"\",データ入力シート１回目!BX21)+IF(データ入力シート１回目!BX22=\"\",\"\",データ入力シート１回目!BX22)","v":{"$error":"#VALUE!"}},{"$f":"IF(データ入力シート１回目!BY20=\"\",\"\",データ入力シート１回目!BY20)+IF(データ入力シート１回目!BY21=\"\",\"\",データ入力シート１回目!BY21)+IF(データ入力シート１回目!BY22=\"\",\"\",データ入力シート１回目!BY22)","v":{"$error":"#VALUE!"}},{"$f":"IF(データ入力シート１回目!BZ20=\"\",\"\",データ入力シート１回目!BZ20)+IF(データ入力シート１回目!BZ21=\"\",\"\",データ入力シート１回目!BZ21)+IF(データ入力シート１回目!BZ22=\"\",\"\",データ入力シート１回目!BZ22)","v":{"$error":"#VALUE!"}},{"$f":"IF(データ入力シート１回目!CA20=\"\",\"\",データ入力シート１回目!CA20)+IF(データ入力シート１回目!CA21=\"\",\"\",データ入力シート１回目!CA21)+IF(データ入力シート１回目!CA22=\"\",\"\",データ入力シート１回目!CA22)","v":{"$error":"#VALUE!"}},{"$f":"IF(データ入力シート１回目!CB20=\"\",\"\",データ入力シート１回目!CB20)+IF(データ入力シート１回目!CB21=\"\",\"\",データ入力シート１回目!CB21)+IF(データ入力シート１回目!CB22=\"\",\"\",データ入力シート１回目!CB22)","v":{"$error":"#VALUE!"}},{"$f":"IF(データ入力シート１回目!CC20=\"\",\"\",データ入力シート１回目!CC20)+IF(データ入力シート１回目!CC21=\"\",\"\",データ入力シート１回目!CC21)+IF(データ入力シート１回目!CC22=\"\",\"\",データ入力シート１回目!CC22)","v":{"$error":"#VALUE!"}},{"$f":"IF(データ入力シート１回目!CD20=\"\",\"\",データ入力シート１回目!CD20)+IF(データ入力シート１回目!CD21=\"\",\"\",データ入力シート１回目!CD21)+IF(データ入力シート１回目!CD22=\"\",\"\",データ入力シート１回目!CD22)","v":{"$error":"#VALUE!"}},{"$f":"IF(データ入力シート１回目!CE20=\"\",\"\",データ入力シート１回目!CE20)+IF(データ入力シート１回目!CE21=\"\",\"\",データ入力シート１回目!CE21)+IF(データ入力シート１回目!CE22=\"\",\"\",データ入力シート１回目!CE22)","v":{"$error":"#VALUE!"}},{"$f":"IF(データ入力シート１回目!CF20=\"\",\"\",データ入力シート１回目!CF20)+IF(データ入力シート１回目!CF21=\"\",\"\",データ入力シート１回目!CF21)+IF(データ入力シート１回目!CF22=\"\",\"\",データ入力シート１回目!CF22)","v":{"$error":"#VALUE!"}},{"$f":"IF(データ入力シート１回目!CG20=\"\",\"\",データ入力シート１回目!CG20)+IF(データ入力シート１回目!CG21=\"\",\"\",データ入力シート１回目!CG21)+IF(データ入力シート１回目!CG22=\"\",\"\",データ入力シート１回目!CG22)","v":{"$error":"#VALUE!"}},{"$f":"IF(データ入力シート１回目!CH20=\"\",\"\",データ入力シート１回目!CH20)+IF(データ入力シート１回目!CH21=\"\",\"\",データ入力シート１回目!CH21)+IF(データ入力シート１回目!CH22=\"\",\"\",データ入力シート１回目!CH22)","v":{"$error":"#VALUE!"}},{"$f":"IF(データ入力シート１回目!CI20=\"\",\"\",データ入力シート１回目!CI20)+IF(データ入力シート１回目!CI21=\"\",\"\",データ入力シート１回目!CI21)+IF(データ入力シート１回目!CI22=\"\",\"\",データ入力シート１回目!CI22)","v":{"$error":"#VALUE!"}},{"$f":"IF(データ入力シート１回目!CJ20=\"\",\"\",データ入力シート１回目!CJ20)+IF(データ入力シート１回目!CJ21=\"\",\"\",データ入力シート１回目!CJ21)+IF(データ入力シート１回目!CJ22=\"\",\"\",データ入力シート１回目!CJ22)","v":{"$error":"#VALUE!"}},{"$f":"IF(データ入力シート１回目!CK20=\"\",\"\",データ入力シート１回目!CK20)+IF(データ入力シート１回目!CK21=\"\",\"\",データ入力シート１回目!CK21)+IF(データ入力シート１回目!CK22=\"\",\"\",データ入力シート１回目!CK22)","v":{"$error":"#VALUE!"}},{"$f":"IF(データ入力シート１回目!CL20=\"\",\"\",データ入力シート１回目!CL20)+IF(データ入力シート１回目!CL21=\"\",\"\",データ入力シート１回目!CL21)+IF(データ入力シート１回目!CL22=\"\",\"\",データ入力シート１回目!CL22)","v":{"$error":"#VALUE!"}},{"$f":"IF(データ入力シート１回目!CM20=\"\",\"\",データ入力シート１回目!CM20)+IF(データ入力シート１回目!CM21=\"\",\"\",データ入力シート１回目!CM21)+IF(データ入力シート１回目!CM22=\"\",\"\",データ入力シート１回目!CM22)","v":{"$error":"#VALUE!"}},{"$f":"IF(データ入力シート１回目!CN20=\"\",\"\",データ入力シート１回目!CN20)+IF(データ入力シート１回目!CN21=\"\",\"\",データ入力シート１回目!CN21)+IF(データ入力シート１回目!CN22=\"\",\"\",データ入力シート１回目!CN22)","v":{"$error":"#VALUE!"}},{"$f":"IF(データ入力シート１回目!CO20=\"\",\"\",データ入力シート１回目!CO20)+IF(データ入力シート１回目!CO21=\"\",\"\",データ入力シート１回目!CO21)+IF(データ入力シート１回目!CO22=\"\",\"\",データ入力シート１回目!CO22)","v":{"$error":"#VALUE!"}},{"$f":"IF(データ入力シート１回目!CP20=\"\",\"\",データ入力シート１回目!CP20)+IF(データ入力シート１回目!CP21=\"\",\"\",データ入力シート１回目!CP21)+IF(データ入力シート１回目!CP22=\"\",\"\",データ入力シート１回目!CP22)","v":{"$error":"#VALUE!"}},{"$f":"IF(データ入力シート１回目!CQ20=\"\",\"\",データ入力シート１回目!CQ20)+IF(データ入力シート１回目!CQ21=\"\",\"\",データ入力シート１回目!CQ21)+IF(データ入力シート１回目!CQ22=\"\",\"\",データ入力シート１回目!CQ22)","v":{"$error":"#VALUE!"}},{"$f":"IF(データ入力シート１回目!CR20=\"\",\"\",データ入力シート１回目!CR20)+IF(データ入力シート１回目!CR21=\"\",\"\",データ入力シート１回目!CR21)+IF(データ入力シート１回目!CR22=\"\",\"\",データ入力シート１回目!CR22)","v":{"$error":"#VALUE!"}},{"$f":"IF(データ入力シート１回目!CS20=\"\",\"\",データ入力シート１回目!CS20)+IF(データ入力シート１回目!CS21=\"\",\"\",データ入力シート１回目!CS21)+IF(データ入力シート１回目!CS22=\"\",\"\",データ入力シート１回目!CS22)","v":{"$error":"#VALUE!"}},{"$f":"IF(データ入力シート１回目!CT20=\"\",\"\",データ入力シート１回目!CT20)+IF(データ入力シート１回目!CT21=\"\",\"\",データ入力シート１回目!CT21)+IF(データ入力シート１回目!CT22=\"\",\"\",データ入力シート１回目!CT22)","v":{"$error":"#VALUE!"}},{"$f":"IF(データ入力シート１回目!CU20=\"\",\"\",データ入力シート１回目!CU20)+IF(データ入力シート１回目!CU21=\"\",\"\",データ入力シート１回目!CU21)+IF(データ入力シート１回目!CU22=\"\",\"\",データ入力シート１回目!CU22)","v":{"$error":"#VALUE!"}},{"$f":"IF(データ入力シート１回目!CV20=\"\",\"\",データ入力シート１回目!CV20)+IF(データ入力シート１回目!CV21=\"\",\"\",データ入力シート１回目!CV21)+IF(データ入力シート１回目!CV22=\"\",\"\",データ入力シート１回目!CV22)","v":{"$error":"#VALUE!"}},{"$f":"IF(データ入力シート１回目!CW20=\"\",\"\",データ入力シート１回目!CW20)+IF(データ入力シート１回目!CW21=\"\",\"\",データ入力シート１回目!CW21)+IF(データ入力シート１回目!CW22=\"\",\"\",データ入力シート１回目!CW22)","v":{"$error":"#VALUE!"}},{"$f":"IF(データ入力シート１回目!CX20=\"\",\"\",データ入力シート１回目!CX20)+IF(データ入力シート１回目!CX21=\"\",\"\",データ入力シート１回目!CX21)+IF(データ入力シート１回目!CX22=\"\",\"\",データ入力シート１回目!CX22)","v":{"$error":"#VALUE!"}},{"$f":"IF(データ入力シート１回目!CY20=\"\",\"\",データ入力シート１回目!CY20)+IF(データ入力シート１回目!CY21=\"\",\"\",データ入力シート１回目!CY21)+IF(データ入力シート１回目!CY22=\"\",\"\",データ入力シート１回目!CY22)","v":{"$error":"#VALUE!"}},{"$f":"IF(データ入力シート１回目!CZ20=\"\",\"\",データ入力シート１回目!CZ20)+IF(データ入力シート１回目!CZ21=\"\",\"\",データ入力シート１回目!CZ21)+IF(データ入力シート１回目!CZ22=\"\",\"\",データ入力シート１回目!CZ22)","v":{"$error":"#VALUE!"}}]
[null,"D",{"$f":"IF(データ入力シート１回目!E23=\"\",\"\",データ入力シート１回目!E23)+IF(データ入力シート１回目!E24=\"\",\"\",データ入力シート１回目!E24)+IF(データ入力シート１回目!E25=\"\",\"\",データ入力シート１回目!E25)","v":{"$error":"#VALUE!"}},{"$f":"IF(データ入力シート１回目!F23=\"\",\"\",データ入力シート１回目!F23)+IF(データ入力シート１回目!F24=\"\",\"\",データ入力シート１回目!F24)+IF(データ入力シート１回目!F25=\"\",\"\",データ入力シート１回目!F25)","v":{"$error":"#VALUE!"}},{"$f":"IF(データ入力シート１回目!G23=\"\",\"\",データ入力シート１回目!G23)+IF(データ入力シート１回目!G24=\"\",\"\",データ入力シート１回目!G24)+IF(データ入力シート１回目!G25=\"\",\"\",データ入力シート１回目!G25)","v":{"$error":"#VALUE!"}},{"$f":"IF(データ入力シート１回目!H23=\"\",\"\",データ入力シート１回目!H23)+IF(データ入力シート１回目!H24=\"\",\"\",データ入力シート１回目!H24)+IF(データ入力シート１回目!H25=\"\",\"\",データ入力シート１回目!H25)","v":{"$error":"#VALUE!"}},{"$f":"IF(データ入力シート１回目!I23=\"\",\"\",データ入力シート１回目!I23)+IF(データ入力シート１回目!I24=\"\",\"\",データ入力シート１回目!I24)+IF(データ入力シート１回目!I25=\"\",\"\",データ入力シート１回目!I25)","v":{"$error":"#VALUE!"}},{"$f":"IF(データ入力シート１回目!J23=\"\",\"\",データ入力シート１回目!J23)+IF(データ入力シート１回目!J24=\"\",\"\",データ入力シート１回目!J24)+IF(データ入力シート１回目!J25=\"\",\"\",データ入力シート１回目!J25)","v":{"$error":"#VALUE!"}},{"$f":"IF(データ入力シート１回目!K23=\"\",\"\",データ入力シート１回目!K23)+IF(データ入力シート１回目!K24=\"\",\"\",データ入力シート１回目!K24)+IF(データ入力シート１回目!K25=\"\",\"\",データ入力シート１回目!K25)","v":{"$error":"#VALUE!"}},{"$f":"IF(データ入力シート１回目!L23=\"\",\"\",データ入力シート１回目!L23)+IF(データ入力シート１回目!L24=\"\",\"\",データ入力シート１回目!L24)+IF(データ入力シート１回目!L25=\"\",\"\",データ入力シート１回目!L25)","v":{"$error":"#VALUE!"}},{"$f":"IF(データ入力シート１回目!M23=\"\",\"\",データ入力シート１回目!M23)+IF(データ入力シート１回目!M24=\"\",\"\",データ入力シート１回目!M24)+IF(データ入力シート１回目!M25=\"\",\"\",データ入力シート１回目!M25)","v":{"$error":"#VALUE!"}},{"$f":"IF(データ入力シート１回目!N23=\"\",\"\",データ入力シート１回目!N23)+IF(データ入力シート１回目!N24=\"\",\"\",データ入力シート１回目!N24)+IF(データ入力シート１回目!N25=\"\",\"\",データ入力シート１回目!N25)","v":{"$error":"#VALUE!"}},{"$f":"IF(データ入力シート１回目!O23=\"\",\"\",データ入力シート１回目!O23)+IF(データ入力シート１回目!O24=\"\",\"\",データ入力シート１回目!O24)+IF(データ入力シート１回目!O25=\"\",\"\",データ入力シート１回目!O25)","v":{"$error":"#VALUE!"}},{"$f":"IF(データ入力シート１回目!P23=\"\",\"\",データ入力シート１回目!P23)+IF(データ入力シート１回目!P24=\"\",\"\",データ入力シート１回目!P24)+IF(データ入力シート１回目!P25=\"\",\"\",データ入力シート１回目!P25)","v":{"$error":"#VALUE!"}},{"$f":"IF(データ入力シート１回目!Q23=\"\",\"\",データ入力シート１回目!Q23)+IF(データ入力シート１回目!Q24=\"\",\"\",データ入力シート１回目!Q24)+IF(データ入力シート１回目!Q25=\"\",\"\",データ入力シート１回目!Q25)","v":{"$error":"#VALUE!"}},{"$f":"IF(データ入力シート１回目!R23=\"\",\"\",データ入力シート１回目!R23)+IF(データ入力シート１回目!R24=\"\",\"\",データ入力シート１回目!R24)+IF(データ入力シート１回目!R25=\"\",\"\",データ入力シート１回目!R25)","v":{"$error":"#VALUE!"}},{"$f":"IF(データ入力シート１回目!S23=\"\",\"\",データ入力シート１回目!S23)+IF(データ入力シート１回目!S24=\"\",\"\",データ入力シート１回目!S24)+IF(データ入力シート１回目!S25=\"\",\"\",データ入力シート１回目!S25)","v":{"$error":"#VALUE!"}},{"$f":"IF(データ入力シート１回目!T23=\"\",\"\",データ入力シート１回目!T23)+IF(データ入力シート１回目!T24=\"\",\"\",データ入力シート１回目!T24)+IF(データ入力シート１回目!T25=\"\",\"\",データ入力シート１回目!T25)","v":{"$error":"#VALUE!"}},{"$f":"IF(データ入力シート１回目!U23=\"\",\"\",データ入力シート１回目!U23)+IF(データ入力シート１回目!U24=\"\",\"\",データ入力シート１回目!U24)+IF(データ入力シート１回目!U25=\"\",\"\",データ入力シート１回目!U25)","v":{"$error":"#VALUE!"}},{"$f":"IF(データ入力シート１回目!V23=\"\",\"\",データ入力シート１回目!V23)+IF(データ入力シート１回目!V24=\"\",\"\",データ入力シート１回目!V24)+IF(データ入力シート１回目!V25=\"\",\"\",データ入力シート１回目!V25)","v":{"$error":"#VALUE!"}},{"$f":"IF(データ入力シート１回目!W23=\"\",\"\",データ入力シート１回目!W23)+IF(データ入力シート１回目!W24=\"\",\"\",データ入力シート１回目!W24)+IF(データ入力シート１回目!W25=\"\",\"\",データ入力シート１回目!W25)","v":{"$error":"#VALUE!"}},{"$f":"IF(データ入力シート１回目!X23=\"\",\"\",データ入力シート１回目!X23)+IF(データ入力シート１回目!X24=\"\",\"\",データ入力シート１回目!X24)+IF(データ入力シート１回目!X25=\"\",\"\",データ入力シート１回目!X25)","v":{"$error":"#VALUE!"}},{"$f":"IF(データ入力シート１回目!Y23=\"\",\"\",データ入力シート１回目!Y23)+IF(データ入力シート１回目!Y24=\"\",\"\",データ入力シート１回目!Y24)+IF(データ入力シート１回目!Y25=\"\",\"\",データ入力シート１回目!Y25)","v":{"$error":"#VALUE!"}},{"$f":"IF(データ入力シート１回目!Z23=\"\",\"\",データ入力シート１回目!Z23)+IF(データ入力シート１回目!Z24=\"\",\"\",データ入力シート１回目!Z24)+IF(データ入力シート１回目!Z25=\"\",\"\",データ入力シート１回目!Z25)","v":{"$error":"#VALUE!"}},{"$f":"IF(データ入力シート１回目!AA23=\"\",\"\",データ入力シート１回目!AA23)+IF(データ入力シート１回目!AA24=\"\",\"\",データ入力シート１回目!AA24)+IF(データ入力シート１回目!AA25=\"\",\"\",データ入力シート１回目!AA25)","v":{"$error":"#VALUE!"}},{"$f":"IF(データ入力シート１回目!AB23=\"\",\"\",データ入力シート１回目!AB23)+IF(データ入力シート１回目!AB24=\"\",\"\",データ入力シート１回目!AB24)+IF(データ入力シート１回目!AB25=\"\",\"\",データ入力シート１回目!AB25)","v":{"$error":"#VALUE!"}},{"$f":"IF(データ入力シート１回目!AC23=\"\",\"\",データ入力シート１回目!AC23)+IF(データ入力シート１回目!AC24=\"\",\"\",データ入力シート１回目!AC24)+IF(データ入力シート１回目!AC25=\"\",\"\",データ入力シート１回目!AC25)","v":{"$error":"#VALUE!"}},{"$f":"IF(データ入力シート１回目!AD23=\"\",\"\",データ入力シート１回目!AD23)+IF(データ入力シート１回目!AD24=\"\",\"\",データ入力シート１回目!AD24)+IF(データ入力シート１回目!AD25=\"\",\"\",データ入力シート１回目!AD25)","v":{"$error":"#VALUE!"}},{"$f":"IF(データ入力シート１回目!AE23=\"\",\"\",データ入力シート１回目!AE23)+IF(データ入力シート１回目!AE24=\"\",\"\",データ入力シート１回目!AE24)+IF(データ入力シート１回目!AE25=\"\",\"\",データ入力シート１回目!AE25)","v":{"$error":"#VALUE!"}},{"$f":"IF(データ入力シート１回目!AF23=\"\",\"\",データ入力シート１回目!AF23)+IF(データ入力シート１回目!AF24=\"\",\"\",データ入力シート１回目!AF24)+IF(データ入力シート１回目!AF25=\"\",\"\",データ入力シート１回目!AF25)","v":{"$error":"#VALUE!"}},{"$f":"IF(データ入力シート１回目!AG23=\"\",\"\",データ入力シート１回目!AG23)+IF(データ入力シート１回目!AG24=\"\",\"\",データ入力シート１回目!AG24)+IF(データ入力シート１回目!AG25=\"\",\"\",データ入力シート１回目!AG25)","v":{"$error":"#VALUE!"}},{"$f":"IF(データ入力シート１回目!AH23=\"\",\"\",データ入力シート１回目!AH23)+IF(データ入力シート１回目!AH24=\"\",\"\",データ入力シート１回目!AH24)+IF(データ入力シート１回目!AH25=\"\",\"\",データ入力シート１回目!AH25)","v":{"$error":"#VALUE!"}},{"$f":"IF(データ入力シート１回目!AI23=\"\",\"\",データ入力シート１回目!AI23)+IF(データ入力シート１回目!AI24=\"\",\"\",データ入力シート１回目!AI24)+IF(データ入力シート１回目!AI25=\"\",\"\",データ入力シート１回目!AI25)","v":{"$error":"#VALUE!"}},{"$f":"IF(データ入力シート１回目!AJ23=\"\",\"\",データ入力シート１回目!AJ23)+IF(データ入力シート１回目!AJ24=\"\",\"\",データ入力シート１回目!AJ24)+IF(データ入力シート１回目!AJ25=\"\",\"\",データ入力シート１回目!AJ25)","v":{"$error":"#VALUE!"}},{"$f":"IF(データ入力シート１回目!AK23=\"\",\"\",データ入力シート１回目!AK23)+IF(データ入力シート１回目!AK24=\"\",\"\",データ入力シート１回目!AK24)+IF(データ入力シート１回目!AK25=\"\",\"\",データ入力シート１回目!AK25)","v":{"$error":"#VALUE!"}},{"$f":"IF(データ入力シート１回目!AL23=\"\",\"\",データ入力シート１回目!AL23)+IF(データ入力シート１回目!AL24=\"\",\"\",データ入力シート１回目!AL24)+IF(データ入力シート１回目!AL25=\"\",\"\",データ入力シート１回目!AL25)","v":{"$error":"#VALUE!"}},{"$f":"IF(データ入力シート１回目!AM23=\"\",\"\",データ入力シート１回目!AM23)+IF(データ入力シート１回目!AM24=\"\",\"\",データ入力シート１回目!AM24)+IF(データ入力シート１回目!AM25=\"\",\"\",データ入力シート１回目!AM25)","v":{"$error":"#VALUE!"}},{"$f":"IF(データ入力シート１回目!AN23=\"\",\"\",データ入力シート１回目!AN23)+IF(データ入力シート１回目!AN24=\"\",\"\",データ入力シート１回目!AN24)+IF(データ入力シート１回目!AN25=\"\",\"\",データ入力シート１回目!AN25)","v":{"$error":"#VALUE!"}},{"$f":"IF(データ入力シート１回目!AO23=\"\",\"\",データ入力シート１回目!AO23)+IF(データ入力シート１回目!AO24=\"\",\"\",データ入力シート１回目!AO24)+IF(データ入力シート１回目!AO25=\"\",\"\",データ入力シート１回目!AO25)","v":{"$error":"#VALUE!"}},{"$f":"IF(データ入力シート１回目!AP23=\"\",\"\",データ入力シート１回目!AP23)+IF(データ入力シート１回目!AP24=\"\",\"\",データ入力シート１回目!AP24)+IF(データ入力シート１回目!AP25=\"\",\"\",データ入力シート１回目!AP25)","v":{"$error":"#VALUE!"}},{"$f":"IF(データ入力シート１回目!AQ23=\"\",\"\",データ入力シート１回目!AQ23)+IF(データ入力シート１回目!AQ24=\"\",\"\",データ入力シート１回目!AQ24)+IF(データ入力シート１回目!AQ25=\"\",\"\",データ入力シート１回目!AQ25)","v":{"$error":"#VALUE!"}},{"$f":"IF(データ入力シート１回目!AR23=\"\",\"\",データ入力シート１回目!AR23)+IF(データ入力シート１回目!AR24=\"\",\"\",データ入力シート１回目!AR24)+IF(データ入力シート１回目!AR25=\"\",\"\",データ入力シート１回目!AR25)","v":{"$error":"#VALUE!"}},{"$f":"IF(データ入力シート１回目!AS23=\"\",\"\",データ入力シート１回目!AS23)+IF(データ入力シート１回目!AS24=\"\",\"\",データ入力シート１回目!AS24)+IF(データ入力シート１回目!AS25=\"\",\"\",データ入力シート１回目!AS25)","v":{"$error":"#VALUE!"}},{"$f":"IF(データ入力シート１回目!AT23=\"\",\"\",データ入力シート１回目!AT23)+IF(データ入力シート１回目!AT24=\"\",\"\",データ入力シート１回目!AT24)+IF(データ入力シート１回目!AT25=\"\",\"\",データ入力シート１回目!AT25)","v":{"$error":"#VALUE!"}},{"$f":"IF(データ入力シート１回目!AU23=\"\",\"\",データ入力シート１回目!AU23)+IF(データ入力シート１回目!AU24=\"\",\"\",データ入力シート１回目!AU24)+IF(データ入力シート１回目!AU25=\"\",\"\",データ入力シート１回目!AU25)","v":{"$error":"#VALUE!"}},{"$f":"IF(データ入力シート１回目!AV23=\"\",\"\",データ入力シート１回目!AV23)+IF(データ入力シート１回目!AV24=\"\",\"\",データ入力シート１回目!AV24)+IF(データ入力シート１回目!AV25=\"\",\"\",データ入力シート１回目!AV25)","v":{"$error":"#VALUE!"}},{"$f":"IF(データ入力シート１回目!AW23=\"\",\"\",データ入力シート１回目!AW23)+IF(データ入力シート１回目!AW24=\"\",\"\",データ入力シート１回目!AW24)+IF(データ入力シート１回目!AW25=\"\",\"\",データ入力シート１回目!AW25)","v":{"$error":"#VALUE!"}},{"$f":"IF(データ入力シート１回目!AX23=\"\",\"\",データ入力シート１回目!AX23)+IF(データ入力シート１回目!AX24=\"\",\"\",データ入力シート１回目!AX24)+IF(データ入力シート１回目!AX25=\"\",\"\",データ入力シート１回目!AX25)","v":{"$error":"#VALUE!"}},{"$f":"IF(データ入力シート１回目!AY23=\"\",\"\",データ入力シート１回目!AY23)+IF(データ入力シート１回目!AY24=\"\",\"\",データ入力シート１回目!AY24)+IF(データ入力シート１回目!AY25=\"\",\"\",データ入力シート１回目!AY25)","v":{"$error":"#VALUE!"}},{"$f":"IF(データ入力シート１回目!AZ23=\"\",\"\",データ入力シート１回目!AZ23)+IF(データ入力シート１回目!AZ24=\"\",\"\",データ入力シート１回目!AZ24)+IF(データ入力シート１回目!AZ25=\"\",\"\",データ入力シート１回目!AZ25)","v":{"$error":"#VALUE!"}},{"$f":"IF(データ入力シート１回目!BA23=\"\",\"\",データ入力シート１回目!BA23)+IF(データ入力シート１回目!BA24=\"\",\"\",データ入力シート１回目!BA24)+IF(データ入力シート１回目!BA25=\"\",\"\",データ入力シート１回目!BA25)","v":{"$error":"#VALUE!"}},{"$f":"IF(データ入力シート１回目!BB23=\"\",\"\",データ入力シート１回目!BB23)+IF(データ入力シート１回目!BB24=\"\",\"\",データ入力シート１回目!BB24)+IF(データ入力シート１回目!BB25=\"\",\"\",データ入力シート１回目!BB25)","v":{"$error":"#VALUE!"}},{"$f":"IF(データ入力シート１回目!BC23=\"\",\"\",データ入力シート１回目!BC23)+IF(データ入力シート１回目!BC24=\"\",\"\",データ入力シート１回目!BC24)+IF(データ入力シート１回目!BC25=\"\",\"\",データ入力シート１回目!BC25)","v":{"$error":"#VALUE!"}},{"$f":"IF(データ入力シート１回目!BD23=\"\",\"\",データ入力シート１回目!BD23)+IF(データ入力シート１回目!BD24=\"\",\"\",データ入力シート１回目!BD24)+IF(データ入力シート１回目!BD25=\"\",\"\",データ入力シート１回目!BD25)","v":{"$error":"#VALUE!"}},{"$f":"IF(データ入力シート１回目!BE23=\"\",\"\",データ入力シート１回目!BE23)+IF(データ入力シート１回目!BE24=\"\",\"\",データ入力シート１回目!BE24)+IF(データ入力シート１回目!BE25=\"\",\"\",データ入力シート１回目!BE25)","v":{"$error":"#VALUE!"}},{"$f":"IF(データ入力シート１回目!BF23=\"\",\"\",データ入力シート１回目!BF23)+IF(データ入力シート１回目!BF24=\"\",\"\",データ入力シート１回目!BF24)+IF(データ入力シート１回目!BF25=\"\",\"\",データ入力シート１回目!BF25)","v":{"$error":"#VALUE!"}},{"$f":"IF(データ入力シート１回目!BG23=\"\",\"\",データ入力シート１回目!BG23)+IF(データ入力シート１回目!BG24=\"\",\"\",データ入力シート１回目!BG24)+IF(データ入力シート１回目!BG25=\"\",\"\",データ入力シート１回目!BG25)","v":{"$error":"#VALUE!"}},{"$f":"IF(データ入力シート１回目!BH23=\"\",\"\",データ入力シート１回目!BH23)+IF(データ入力シート１回目!BH24=\"\",\"\",データ入力シート１回目!BH24)+IF(データ入力シート１回目!BH25=\"\",\"\",データ入力シート１回目!BH25)","v":{"$error":"#VALUE!"}},{"$f":"IF(データ入力シート１回目!BI23=\"\",\"\",データ入力シート１回目!BI23)+IF(データ入力シート１回目!BI24=\"\",\"\",データ入力シート１回目!BI24)+IF(データ入力シート１回目!BI25=\"\",\"\",データ入力シート１回目!BI25)","v":{"$error":"#VALUE!"}},{"$f":"IF(データ入力シート１回目!BJ23=\"\",\"\",データ入力シート１回目!BJ23)+IF(データ入力シート１回目!BJ24=\"\",\"\",データ入力シート１回目!BJ24)+IF(データ入力シート１回目!BJ25=\"\",\"\",データ入力シート１回目!BJ25)","v":{"$error":"#VALUE!"}},{"$f":"IF(データ入力シート１回目!BK23=\"\",\"\",データ入力シート１回目!BK23)+IF(データ入力シート１回目!BK24=\"\",\"\",データ入力シート１回目!BK24)+IF(データ入力シート１回目!BK25=\"\",\"\",データ入力シート１回目!BK25)","v":{"$error":"#VALUE!"}},{"$f":"IF(データ入力シート１回目!BL23=\"\",\"\",データ入力シート１回目!BL23)+IF(データ入力シート１回目!BL24=\"\",\"\",データ入力シート１回目!BL24)+IF(データ入力シート１回目!BL25=\"\",\"\",データ入力シート１回目!BL25)","v":{"$error":"#VALUE!"}},{"$f":"IF(データ入力シート１回目!BM23=\"\",\"\",データ入力シート１回目!BM23)+IF(データ入力シート１回目!BM24=\"\",\"\",データ入力シート１回目!BM24)+IF(データ入力シート１回目!BM25=\"\",\"\",データ入力シート１回目!BM25)","v":{"$error":"#VALUE!"}},{"$f":"IF(データ入力シート１回目!BN23=\"\",\"\",データ入力シート１回目!BN23)+IF(データ入力シート１回目!BN24=\"\",\"\",データ入力シート１回目!BN24)+IF(データ入力シート１回目!BN25=\"\",\"\",データ入力シート１回目!BN25)","v":{"$error":"#VALUE!"}},{"$f":"IF(データ入力シート１回目!BO23=\"\",\"\",データ入力シート１回目!BO23)+IF(データ入力シート１回目!BO24=\"\",\"\",データ入力シート１回目!BO24)+IF(データ入力シート１回目!BO25=\"\",\"\",データ入力シート１回目!BO25)","v":{"$error":"#VALUE!"}},{"$f":"IF(データ入力シート１回目!BP23=\"\",\"\",データ入力シート１回目!BP23)+IF(データ入力シート１回目!BP24=\"\",\"\",データ入力シート１回目!BP24)+IF(データ入力シート１回目!BP25=\"\",\"\",データ入力シート１回目!BP25)","v":{"$error":"#VALUE!"}},{"$f":"IF(データ入力シート１回目!BQ23=\"\",\"\",データ入力シート１回目!BQ23)+IF(データ入力シート１回目!BQ24=\"\",\"\",データ入力シート１回目!BQ24)+IF(データ入力シート１回目!BQ25=\"\",\"\",データ入力シート１回目!BQ25)","v":{"$error":"#VALUE!"}},{"$f":"IF(データ入力シート１回目!BR23=\"\",\"\",データ入力シート１回目!BR23)+IF(データ入力シート１回目!BR24=\"\",\"\",データ入力シート１回目!BR24)+IF(データ入力シート１回目!BR25=\"\",\"\",データ入力シート１回目!BR25)","v":{"$error":"#VALUE!"}},{"$f":"IF(データ入力シート１回目!BS23=\"\",\"\",データ入力シート１回目!BS23)+IF(データ入力シート１回目!BS24=\"\",\"\",データ入力シート１回目!BS24)+IF(データ入力シート１回目!BS25=\"\",\"\",データ入力シート１回目!BS25)","v":{"$error":"#VALUE!"}},{"$f":"IF(データ入力シート１回目!BT23=\"\",\"\",データ入力シート１回目!BT23)+IF(データ入力シート１回目!BT24=\"\",\"\",データ入力シート１回目!BT24)+IF(データ入力シート１回目!BT25=\"\",\"\",データ入力シート１回目!BT25)","v":{"$error":"#VALUE!"}},{"$f":"IF(データ入力シート１回目!BU23=\"\",\"\",データ入力シート１回目!BU23)+IF(データ入力シート１回目!BU24=\"\",\"\",データ入力シート１回目!BU24)+IF(データ入力シート１回目!BU25=\"\",\"\",データ入力シート１回目!BU25)","v":{"$error":"#VALUE!"}},{"$f":"IF(データ入力シート１回目!BV23=\"\",\"\",データ入力シート１回目!BV23)+IF(データ入力シート１回目!BV24=\"\",\"\",データ入力シート１回目!BV24)+IF(データ入力シート１回目!BV25=\"\",\"\",データ入力シート１回目!BV25)","v":{"$error":"#VALUE!"}},{"$f":"IF(データ入力シート１回目!BW23=\"\",\"\",データ入力シート１回目!BW23)+IF(データ入力シート１回目!BW24=\"\",\"\",データ入力シート１回目!BW24)+IF(データ入力シート１回目!BW25=\"\",\"\",データ入力シート１回目!BW25)","v":{"$error":"#VALUE!"}},{"$f":"IF(データ入力シート１回目!BX23=\"\",\"\",データ入力シート１回目!BX23)+IF(データ入力シート１回目!BX24=\"\",\"\",データ入力シート１回目!BX24)+IF(データ入力シート１回目!BX25=\"\",\"\",データ入力シート１回目!BX25)","v":{"$error":"#VALUE!"}},{"$f":"IF(データ入力シート１回目!BY23=\"\",\"\",データ入力シート１回目!BY23)+IF(データ入力シート１回目!BY24=\"\",\"\",データ入力シート１回目!BY24)+IF(データ入力シート１回目!BY25=\"\",\"\",データ入力シート１回目!BY25)","v":{"$error":"#VALUE!"}},{"$f":"IF(データ入力シート１回目!BZ23=\"\",\"\",データ入力シート１回目!BZ23)+IF(データ入力シート１回目!BZ24=\"\",\"\",データ入力シート１回目!BZ24)+IF(データ入力シート１回目!BZ25=\"\",\"\",データ入力シート１回目!BZ25)","v":{"$error":"#VALUE!"}},{"$f":"IF(データ入力シート１回目!CA23=\"\",\"\",データ入力シート１回目!CA23)+IF(データ入力シート１回目!CA24=\"\",\"\",データ入力シート１回目!CA24)+IF(データ入力シート１回目!CA25=\"\",\"\",データ入力シート１回目!CA25)","v":{"$error":"#VALUE!"}},{"$f":"IF(データ入力シート１回目!CB23=\"\",\"\",データ入力シート１回目!CB23)+IF(データ入力シート１回目!CB24=\"\",\"\",データ入力シート１回目!CB24)+IF(データ入力シート１回目!CB25=\"\",\"\",データ入力シート１回目!CB25)","v":{"$error":"#VALUE!"}},{"$f":"IF(データ入力シート１回目!CC23=\"\",\"\",データ入力シート１回目!CC23)+IF(データ入力シート１回目!CC24=\"\",\"\",データ入力シート１回目!CC24)+IF(データ入力シート１回目!CC25=\"\",\"\",データ入力シート１回目!CC25)","v":{"$error":"#VALUE!"}},{"$f":"IF(データ入力シート１回目!CD23=\"\",\"\",データ入力シート１回目!CD23)+IF(データ入力シート１回目!CD24=\"\",\"\",データ入力シート１回目!CD24)+IF(データ入力シート１回目!CD25=\"\",\"\",データ入力シート１回目!CD25)","v":{"$error":"#VALUE!"}},{"$f":"IF(データ入力シート１回目!CE23=\"\",\"\",データ入力シート１回目!CE23)+IF(データ入力シート１回目!CE24=\"\",\"\",データ入力シート１回目!CE24)+IF(データ入力シート１回目!CE25=\"\",\"\",データ入力シート１回目!CE25)","v":{"$error":"#VALUE!"}},{"$f":"IF(データ入力シート１回目!CF23=\"\",\"\",データ入力シート１回目!CF23)+IF(データ入力シート１回目!CF24=\"\",\"\",データ入力シート１回目!CF24)+IF(データ入力シート１回目!CF25=\"\",\"\",データ入力シート１回目!CF25)","v":{"$error":"#VALUE!"}},{"$f":"IF(データ入力シート１回目!CG23=\"\",\"\",データ入力シート１回目!CG23)+IF(データ入力シート１回目!CG24=\"\",\"\",データ入力シート１回目!CG24)+IF(データ入力シート１回目!CG25=\"\",\"\",データ入力シート１回目!CG25)","v":{"$error":"#VALUE!"}},{"$f":"IF(データ入力シート１回目!CH23=\"\",\"\",データ入力シート１回目!CH23)+IF(データ入力シート１回目!CH24=\"\",\"\",データ入力シート１回目!CH24)+IF(データ入力シート１回目!CH25=\"\",\"\",データ入力シート１回目!CH25)","v":{"$error":"#VALUE!"}},{"$f":"IF(データ入力シート１回目!CI23=\"\",\"\",データ入力シート１回目!CI23)+IF(データ入力シート１回目!CI24=\"\",\"\",データ入力シート１回目!CI24)+IF(データ入力シート１回目!CI25=\"\",\"\",データ入力シート１回目!CI25)","v":{"$error":"#VALUE!"}},{"$f":"IF(データ入力シート１回目!CJ23=\"\",\"\",データ入力シート１回目!CJ23)+IF(データ入力シート１回目!CJ24=\"\",\"\",データ入力シート１回目!CJ24)+IF(データ入力シート１回目!CJ25=\"\",\"\",データ入力シート１回目!CJ25)","v":{"$error":"#VALUE!"}},{"$f":"IF(データ入力シート１回目!CK23=\"\",\"\",データ入力シート１回目!CK23)+IF(データ入力シート１回目!CK24=\"\",\"\",データ入力シート１回目!CK24)+IF(データ入力シート１回目!CK25=\"\",\"\",データ入力シート１回目!CK25)","v":{"$error":"#VALUE!"}},{"$f":"IF(データ入力シート１回目!CL23=\"\",\"\",データ入力シート１回目!CL23)+IF(データ入力シート１回目!CL24=\"\",\"\",データ入力シート１回目!CL24)+IF(データ入力シート１回目!CL25=\"\",\"\",データ入力シート１回目!CL25)","v":{"$error":"#VALUE!"}},{"$f":"IF(データ入力シート１回目!CM23=\"\",\"\",データ入力シート１回目!CM23)+IF(データ入力シート１回目!CM24=\"\",\"\",データ入力シート１回目!CM24)+IF(データ入力シート１回目!CM25=\"\",\"\",データ入力シート１回目!CM25)","v":{"$error":"#VALUE!"}},{"$f":"IF(データ入力シート１回目!CN23=\"\",\"\",データ入力シート１回目!CN23)+IF(データ入力シート１回目!CN24=\"\",\"\",データ入力シート１回目!CN24)+IF(データ入力シート１回目!CN25=\"\",\"\",データ入力シート１回目!CN25)","v":{"$error":"#VALUE!"}},{"$f":"IF(データ入力シート１回目!CO23=\"\",\"\",データ入力シート１回目!CO23)+IF(データ入力シート１回目!CO24=\"\",\"\",データ入力シート１回目!CO24)+IF(データ入力シート１回目!CO25=\"\",\"\",データ入力シート１回目!CO25)","v":{"$error":"#VALUE!"}},{"$f":"IF(データ入力シート１回目!CP23=\"\",\"\",データ入力シート１回目!CP23)+IF(データ入力シート１回目!CP24=\"\",\"\",データ入力シート１回目!CP24)+IF(データ入力シート１回目!CP25=\"\",\"\",データ入力シート１回目!CP25)","v":{"$error":"#VALUE!"}},{"$f":"IF(データ入力シート１回目!CQ23=\"\",\"\",データ入力シート１回目!CQ23)+IF(データ入力シート１回目!CQ24=\"\",\"\",データ入力シート１回目!CQ24)+IF(データ入力シート１回目!CQ25=\"\",\"\",データ入力シート１回目!CQ25)","v":{"$error":"#VALUE!"}},{"$f":"IF(データ入力シート１回目!CR23=\"\",\"\",データ入力シート１回目!CR23)+IF(データ入力シート１回目!CR24=\"\",\"\",データ入力シート１回目!CR24)+IF(データ入力シート１回目!CR25=\"\",\"\",データ入力シート１回目!CR25)","v":{"$error":"#VALUE!"}},{"$f":"IF(データ入力シート１回目!CS23=\"\",\"\",データ入力シート１回目!CS23)+IF(データ入力シート１回目!CS24=\"\",\"\",データ入力シート１回目!CS24)+IF(データ入力シート１回目!CS25=\"\",\"\",データ入力シート１回目!CS25)","v":{"$error":"#VALUE!"}},{"$f":"IF(データ入力シート１回目!CT23=\"\",\"\",データ入力シート１回目!CT23)+IF(データ入力シート１回目!CT24=\"\",\"\",データ入力シート１回目!CT24)+IF(データ入力シート１回目!CT25=\"\",\"\",データ入力シート１回目!CT25)","v":{"$error":"#VALUE!"}},{"$f":"IF(データ入力シート１回目!CU23=\"\",\"\",データ入力シート１回目!CU23)+IF(データ入力シート１回目!CU24=\"\",\"\",データ入力シート１回目!CU24)+IF(データ入力シート１回目!CU25=\"\",\"\",データ入力シート１回目!CU25)","v":{"$error":"#VALUE!"}},{"$f":"IF(データ入力シート１回目!CV23=\"\",\"\",データ入力シート１回目!CV23)+IF(データ入力シート１回目!CV24=\"\",\"\",データ入力シート１回目!CV24)+IF(データ入力シート１回目!CV25=\"\",\"\",データ入力シート１回目!CV25)","v":{"$error":"#VALUE!"}},{"$f":"IF(データ入力シート１回目!CW23=\"\",\"\",データ入力シート１回目!CW23)+IF(データ入力シート１回目!CW24=\"\",\"\",データ入力シート１回目!CW24)+IF(データ入力シート１回目!CW25=\"\",\"\",データ入力シート１回目!CW25)","v":{"$error":"#VALUE!"}},{"$f":"IF(データ入力シート１回目!CX23=\"\",\"\",データ入力シート１回目!CX23)+IF(データ入力シート１回目!CX24=\"\",\"\",データ入力シート１回目!CX24)+IF(データ入力シート１回目!CX25=\"\",\"\",データ入力シート１回目!CX25)","v":{"$error":"#VALUE!"}},{"$f":"IF(データ入力シート１回目!CY23=\"\",\"\",データ入力シート１回目!CY23)+IF(データ入力シート１回目!CY24=\"\",\"\",データ入力シート１回目!CY24)+IF(データ入力シート１回目!CY25=\"\",\"\",データ入力シート１回目!CY25)","v":{"$error":"#VALUE!"}},{"$f":"IF(データ入力シート１回目!CZ23=\"\",\"\",データ入力シート１回目!CZ23)+IF(データ入力シート１回目!CZ24=\"\",\"\",データ入力シート１回目!CZ24)+IF(データ入力シート１回目!CZ25=\"\",\"\",データ入力シート１回目!CZ25)","v":{"$error":"#VALUE!"}}]
[null,"C",{"$f":"IF(データ入力シート１回目!E26=\"\",\"\",データ入力シート１回目!E26)+IF(データ入力シート１回目!E27=\"\",\"\",データ入力シート１回目!E27)+IF(データ入力シート１回目!E28=\"\",\"\",データ入力シート１回目!E28)","v":{"$error":"#VALUE!"}},{"$f":"IF(データ入力シート１回目!F26=\"\",\"\",データ入力シート１回目!F26)+IF(データ入力シート１回目!F27=\"\",\"\",データ入力シート１回目!F27)+IF(データ入力シート１回目!F28=\"\",\"\",データ入力シート１回目!F28)","v":{"$error":"#VALUE!"}},{"$f":"IF(データ入力シート１回目!G26=\"\",\"\",データ入力シート１回目!G26)+IF(データ入力シート１回目!G27=\"\",\"\",データ入力シート１回目!G27)+IF(データ入力シート１回目!G28=\"\",\"\",データ入力シート１回目!G28)","v":{"$error":"#VALUE!"}},{"$f":"IF(データ入力シート１回目!H26=\"\",\"\",データ入力シート１回目!H26)+IF(データ入力シート１回目!H27=\"\",\"\",データ入力シート１回目!H27)+IF(データ入力シート１回目!H28=\"\",\"\",データ入力シート１回目!H28)","v":{"$error":"#VALUE!"}},{"$f":"IF(データ入力シート１回目!I26=\"\",\"\",データ入力シート１回目!I26)+IF(データ入力シート１回目!I27=\"\",\"\",データ入力シート１回目!I27)+IF(データ入力シート１回目!I28=\"\",\"\",データ入力シート１回目!I28)","v":{"$error":"#VALUE!"}},{"$f":"IF(データ入力シート１回目!J26=\"\",\"\",データ入力シート１回目!J26)+IF(データ入力シート１回目!J27=\"\",\"\",データ入力シート１回目!J27)+IF(データ入力シート１回目!J28=\"\",\"\",データ入力シート１回目!J28)","v":{"$error":"#VALUE!"}},{"$f":"IF(データ入力シート１回目!K26=\"\",\"\",データ入力シート１回目!K26)+IF(データ入力シート１回目!K27=\"\",\"\",データ入力シート１回目!K27)+IF(データ入力シート１回目!K28=\"\",\"\",データ入力シート１回目!K28)","v":{"$error":"#VALUE!"}},{"$f":"IF(データ入力シート１回目!L26=\"\",\"\",データ入力シート１回目!L26)+IF(データ入力シート１回目!L27=\"\",\"\",データ入力シート１回目!L27)+IF(データ入力シート１回目!L28=\"\",\"\",データ入力シート１回目!L28)","v":{"$error":"#VALUE!"}},{"$f":"IF(データ入力シート１回目!M26=\"\",\"\",データ入力シート１回目!M26)+IF(データ入力シート１回目!M27=\"\",\"\",データ入力シート１回目!M27)+IF(データ入力シート１回目!M28=\"\",\"\",データ入力シート１回目!M28)","v":{"$error":"#VALUE!"}},{"$f":"IF(データ入力シート１回目!N26=\"\",\"\",データ入力シート１回目!N26)+IF(データ入力シート１回目!N27=\"\",\"\",データ入力シート１回目!N27)+IF(データ入力シート１回目!N28=\"\",\"\",データ入力シート１回目!N28)","v":{"$error":"#VALUE!"}},{"$f":"IF(データ入力シート１回目!O26=\"\",\"\",データ入力シート１回目!O26)+IF(データ入力シート１回目!O27=\"\",\"\",データ入力シート１回目!O27)+IF(データ入力シート１回目!O28=\"\",\"\",データ入力シート１回目!O28)","v":{"$error":"#VALUE!"}},{"$f":"IF(データ入力シート１回目!P26=\"\",\"\",データ入力シート１回目!P26)+IF(データ入力シート１回目!P27=\"\",\"\",データ入力シート１回目!P27)+IF(データ入力シート１回目!P28=\"\",\"\",データ入力シート１回目!P28)","v":{"$error":"#VALUE!"}},{"$f":"IF(データ入力シート１回目!Q26=\"\",\"\",データ入力シート１回目!Q26)+IF(データ入力シート１回目!Q27=\"\",\"\",データ入力シート１回目!Q27)+IF(データ入力シート１回目!Q28=\"\",\"\",データ入力シート１回目!Q28)","v":{"$error":"#VALUE!"}},{"$f":"IF(データ入力シート１回目!R26=\"\",\"\",データ入力シート１回目!R26)+IF(データ入力シート１回目!R27=\"\",\"\",データ入力シート１回目!R27)+IF(データ入力シート１回目!R28=\"\",\"\",データ入力シート１回目!R28)","v":{"$error":"#VALUE!"}},{"$f":"IF(データ入力シート１回目!S26=\"\",\"\",データ入力シート１回目!S26)+IF(データ入力シート１回目!S27=\"\",\"\",データ入力シート１回目!S27)+IF(データ入力シート１回目!S28=\"\",\"\",データ入力シート１回目!S28)","v":{"$error":"#VALUE!"}},{"$f":"IF(データ入力シート１回目!T26=\"\",\"\",データ入力シート１回目!T26)+IF(データ入力シート１回目!T27=\"\",\"\",データ入力シート１回目!T27)+IF(データ入力シート１回目!T28=\"\",\"\",データ入力シート１回目!T28)","v":{"$error":"#VALUE!"}},{"$f":"IF(データ入力シート１回目!U26=\"\",\"\",データ入力シート１回目!U26)+IF(データ入力シート１回目!U27=\"\",\"\",データ入力シート１回目!U27)+IF(データ入力シート１回目!U28=\"\",\"\",データ入力シート１回目!U28)","v":{"$error":"#VALUE!"}},{"$f":"IF(データ入力シート１回目!V26=\"\",\"\",データ入力シート１回目!V26)+IF(データ入力シート１回目!V27=\"\",\"\",データ入力シート１回目!V27)+IF(データ入力シート１回目!V28=\"\",\"\",データ入力シート１回目!V28)","v":{"$error":"#VALUE!"}},{"$f":"IF(データ入力シート１回目!W26=\"\",\"\",データ入力シート１回目!W26)+IF(データ入力シート１回目!W27=\"\",\"\",データ入力シート１回目!W27)+IF(データ入力シート１回目!W28=\"\",\"\",データ入力シート１回目!W28)","v":{"$error":"#VALUE!"}},{"$f":"IF(データ入力シート１回目!X26=\"\",\"\",データ入力シート１回目!X26)+IF(データ入力シート１回目!X27=\"\",\"\",データ入力シート１回目!X27)+IF(データ入力シート１回目!X28=\"\",\"\",データ入力シート１回目!X28)","v":{"$error":"#VALUE!"}},{"$f":"IF(データ入力シート１回目!Y26=\"\",\"\",データ入力シート１回目!Y26)+IF(データ入力シート１回目!Y27=\"\",\"\",データ入力シート１回目!Y27)+IF(データ入力シート１回目!Y28=\"\",\"\",データ入力シート１回目!Y28)","v":{"$error":"#VALUE!"}},{"$f":"IF(データ入力シート１回目!Z26=\"\",\"\",データ入力シート１回目!Z26)+IF(データ入力シート１回目!Z27=\"\",\"\",データ入力シート１回目!Z27)+IF(データ入力シート１回目!Z28=\"\",\"\",データ入力シート１回目!Z28)","v":{"$error":"#VALUE!"}},{"$f":"IF(データ入力シート１回目!AA26=\"\",\"\",データ入力シート１回目!AA26)+IF(データ入力シート１回目!AA27=\"\",\"\",データ入力シート１回目!AA27)+IF(データ入力シート１回目!AA28=\"\",\"\",データ入力シート１回目!AA28)","v":{"$error":"#VALUE!"}},{"$f":"IF(データ入力シート１回目!AB26=\"\",\"\",データ入力シート１回目!AB26)+IF(データ入力シート１回目!AB27=\"\",\"\",データ入力シート１回目!AB27)+IF(データ入力シート１回目!AB28=\"\",\"\",データ入力シート１回目!AB28)","v":{"$error":"#VALUE!"}},{"$f":"IF(データ入力シート１回目!AC26=\"\",\"\",データ入力シート１回目!AC26)+IF(データ入力シート１回目!AC27=\"\",\"\",データ入力シート１回目!AC27)+IF(データ入力シート１回目!AC28=\"\",\"\",データ入力シート１回目!AC28)","v":{"$error":"#VALUE!"}},{"$f":"IF(データ入力シート１回目!AD26=\"\",\"\",データ入力シート１回目!AD26)+IF(データ入力シート１回目!AD27=\"\",\"\",データ入力シート１回目!AD27)+IF(データ入力シート１回目!AD28=\"\",\"\",データ入力シート１回目!AD28)","v":{"$error":"#VALUE!"}},{"$f":"IF(データ入力シート１回目!AE26=\"\",\"\",データ入力シート１回目!AE26)+IF(データ入力シート１回目!AE27=\"\",\"\",データ入力シート１回目!AE27)+IF(データ入力シート１回目!AE28=\"\",\"\",データ入力シート１回目!AE28)","v":{"$error":"#VALUE!"}},{"$f":"IF(データ入力シート１回目!AF26=\"\",\"\",データ入力シート１回目!AF26)+IF(データ入力シート１回目!AF27=\"\",\"\",データ入力シート１回目!AF27)+IF(データ入力シート１回目!AF28=\"\",\"\",データ入力シート１回目!AF28)","v":{"$error":"#VALUE!"}},{"$f":"IF(データ入力シート１回目!AG26=\"\",\"\",データ入力シート１回目!AG26)+IF(データ入力シート１回目!AG27=\"\",\"\",データ入力シート１回目!AG27)+IF(データ入力シート１回目!AG28=\"\",\"\",データ入力シート１回目!AG28)","v":{"$error":"#VALUE!"}},{"$f":"IF(データ入力シート１回目!AH26=\"\",\"\",データ入力シート１回目!AH26)+IF(データ入力シート１回目!AH27=\"\",\"\",データ入力シート１回目!AH27)+IF(データ入力シート１回目!AH28=\"\",\"\",データ入力シート１回目!AH28)","v":{"$error":"#VALUE!"}},{"$f":"IF(データ入力シート１回目!AI26=\"\",\"\",データ入力シート１回目!AI26)+IF(データ入力シート１回目!AI27=\"\",\"\",データ入力シート１回目!AI27)+IF(データ入力シート１回目!AI28=\"\",\"\",データ入力シート１回目!AI28)","v":{"$error":"#VALUE!"}},{"$f":"IF(データ入力シート１回目!AJ26=\"\",\"\",データ入力シート１回目!AJ26)+IF(データ入力シート１回目!AJ27=\"\",\"\",データ入力シート１回目!AJ27)+IF(データ入力シート１回目!AJ28=\"\",\"\",データ入力シート１回目!AJ28)","v":{"$error":"#VALUE!"}},{"$f":"IF(データ入力シート１回目!AK26=\"\",\"\",データ入力シート１回目!AK26)+IF(データ入力シート１回目!AK27=\"\",\"\",データ入力シート１回目!AK27)+IF(データ入力シート１回目!AK28=\"\",\"\",データ入力シート１回目!AK28)","v":{"$error":"#VALUE!"}},{"$f":"IF(データ入力シート１回目!AL26=\"\",\"\",データ入力シート１回目!AL26)+IF(データ入力シート１回目!AL27=\"\",\"\",データ入力シート１回目!AL27)+IF(データ入力シート１回目!AL28=\"\",\"\",データ入力シート１回目!AL28)","v":{"$error":"#VALUE!"}},{"$f":"IF(データ入力シート１回目!AM26=\"\",\"\",データ入力シート１回目!AM26)+IF(データ入力シート１回目!AM27=\"\",\"\",データ入力シート１回目!AM27)+IF(データ入力シート１回目!AM28=\"\",\"\",データ入力シート１回目!AM28)","v":{"$error":"#VALUE!"}},{"$f":"IF(データ入力シート１回目!AN26=\"\",\"\",データ入力シート１回目!AN26)+IF(データ入力シート１回目!AN27=\"\",\"\",データ入力シート１回目!AN27)+IF(データ入力シート１回目!AN28=\"\",\"\",データ入力シート１回目!AN28)","v":{"$error":"#VALUE!"}},{"$f":"IF(データ入力シート１回目!AO26=\"\",\"\",データ入力シート１回目!AO26)+IF(データ入力シート１回目!AO27=\"\",\"\",データ入力シート１回目!AO27)+IF(データ入力シート１回目!AO28=\"\",\"\",データ入力シート１回目!AO28)","v":{"$error":"#VALUE!"}},{"$f":"IF(データ入力シート１回目!AP26=\"\",\"\",データ入力シート１回目!AP26)+IF(データ入力シート１回目!AP27=\"\",\"\",データ入力シート１回目!AP27)+IF(データ入力シート１回目!AP28=\"\",\"\",データ入力シート１回目!AP28)","v":{"$error":"#VALUE!"}},{"$f":"IF(データ入力シート１回目!AQ26=\"\",\"\",データ入力シート１回目!AQ26)+IF(データ入力シート１回目!AQ27=\"\",\"\",データ入力シート１回目!AQ27)+IF(データ入力シート１回目!AQ28=\"\",\"\",データ入力シート１回目!AQ28)","v":{"$error":"#VALUE!"}},{"$f":"IF(データ入力シート１回目!AR26=\"\",\"\",データ入力シート１回目!AR26)+IF(データ入力シート１回目!AR27=\"\",\"\",データ入力シート１回目!AR27)+IF(データ入力シート１回目!AR28=\"\",\"\",データ入力シート１回目!AR28)","v":{"$error":"#VALUE!"}},{"$f":"IF(データ入力シート１回目!AS26=\"\",\"\",データ入力シート１回目!AS26)+IF(データ入力シート１回目!AS27=\"\",\"\",データ入力シート１回目!AS27)+IF(データ入力シート１回目!AS28=\"\",\"\",データ入力シート１回目!AS28)","v":{"$error":"#VALUE!"}},{"$f":"IF(データ入力シート１回目!AT26=\"\",\"\",データ入力シート１回目!AT26)+IF(データ入力シート１回目!AT27=\"\",\"\",データ入力シート１回目!AT27)+IF(データ入力シート１回目!AT28=\"\",\"\",データ入力シート１回目!AT28)","v":{"$error":"#VALUE!"}},{"$f":"IF(データ入力シート１回目!AU26=\"\",\"\",データ入力シート１回目!AU26)+IF(データ入力シート１回目!AU27=\"\",\"\",データ入力シート１回目!AU27)+IF(データ入力シート１回目!AU28=\"\",\"\",データ入力シート１回目!AU28)","v":{"$error":"#VALUE!"}},{"$f":"IF(データ入力シート１回目!AV26=\"\",\"\",データ入力シート１回目!AV26)+IF(データ入力シート１回目!AV27=\"\",\"\",データ入力シート１回目!AV27)+IF(データ入力シート１回目!AV28=\"\",\"\",データ入力シート１回目!AV28)","v":{"$error":"#VALUE!"}},{"$f":"IF(データ入力シート１回目!AW26=\"\",\"\",データ入力シート１回目!AW26)+IF(データ入力シート１回目!AW27=\"\",\"\",データ入力シート１回目!AW27)+IF(データ入力シート１回目!AW28=\"\",\"\",データ入力シート１回目!AW28)","v":{"$error":"#VALUE!"}},{"$f":"IF(データ入力シート１回目!AX26=\"\",\"\",データ入力シート１回目!AX26)+IF(データ入力シート１回目!AX27=\"\",\"\",データ入力シート１回目!AX27)+IF(データ入力シート１回目!AX28=\"\",\"\",データ入力シート１回目!AX28)","v":{"$error":"#VALUE!"}},{"$f":"IF(データ入力シート１回目!AY26=\"\",\"\",データ入力シート１回目!AY26)+IF(データ入力シート１回目!AY27=\"\",\"\",データ入力シート１回目!AY27)+IF(データ入力シート１回目!AY28=\"\",\"\",データ入力シート１回目!AY28)","v":{"$error":"#VALUE!"}},{"$f":"IF(データ入力シート１回目!AZ26=\"\",\"\",データ入力シート１回目!AZ26)+IF(データ入力シート１回目!AZ27=\"\",\"\",データ入力シート１回目!AZ27)+IF(データ入力シート１回目!AZ28=\"\",\"\",データ入力シート１回目!AZ28)","v":{"$error":"#VALUE!"}},{"$f":"IF(データ入力シート１回目!BA26=\"\",\"\",データ入力シート１回目!BA26)+IF(データ入力シート１回目!BA27=\"\",\"\",データ入力シート１回目!BA27)+IF(データ入力シート１回目!BA28=\"\",\"\",データ入力シート１回目!BA28)","v":{"$error":"#VALUE!"}},{"$f":"IF(データ入力シート１回目!BB26=\"\",\"\",データ入力シート１回目!BB26)+IF(データ入力シート１回目!BB27=\"\",\"\",データ入力シート１回目!BB27)+IF(データ入力シート１回目!BB28=\"\",\"\",データ入力シート１回目!BB28)","v":{"$error":"#VALUE!"}},{"$f":"IF(データ入力シート１回目!BC26=\"\",\"\",データ入力シート１回目!BC26)+IF(データ入力シート１回目!BC27=\"\",\"\",データ入力シート１回目!BC27)+IF(データ入力シート１回目!BC28=\"\",\"\",データ入力シート１回目!BC28)","v":{"$error":"#VALUE!"}},{"$f":"IF(データ入力シート１回目!BD26=\"\",\"\",データ入力シート１回目!BD26)+IF(データ入力シート１回目!BD27=\"\",\"\",データ入力シート１回目!BD27)+IF(データ入力シート１回目!BD28=\"\",\"\",データ入力シート１回目!BD28)","v":{"$error":"#VALUE!"}},{"$f":"IF(データ入力シート１回目!BE26=\"\",\"\",データ入力シート１回目!BE26)+IF(データ入力シート１回目!BE27=\"\",\"\",データ入力シート１回目!BE27)+IF(データ入力シート１回目!BE28=\"\",\"\",データ入力シート１回目!BE28)","v":{"$error":"#VALUE!"}},{"$f":"IF(データ入力シート１回目!BF26=\"\",\"\",データ入力シート１回目!BF26)+IF(データ入力シート１回目!BF27=\"\",\"\",データ入力シート１回目!BF27)+IF(データ入力シート１回目!BF28=\"\",\"\",データ入力シート１回目!BF28)","v":{"$error":"#VALUE!"}},{"$f":"IF(データ入力シート１回目!BG26=\"\",\"\",データ入力シート１回目!BG26)+IF(データ入力シート１回目!BG27=\"\",\"\",データ入力シート１回目!BG27)+IF(データ入力シート１回目!BG28=\"\",\"\",データ入力シート１回目!BG28)","v":{"$error":"#VALUE!"}},{"$f":"IF(データ入力シート１回目!BH26=\"\",\"\",データ入力シート１回目!BH26)+IF(データ入力シート１回目!BH27=\"\",\"\",データ入力シート１回目!BH27)+IF(データ入力シート１回目!BH28=\"\",\"\",データ入力シート１回目!BH28)","v":{"$error":"#VALUE!"}},{"$f":"IF(データ入力シート１回目!BI26=\"\",\"\",データ入力シート１回目!BI26)+IF(データ入力シート１回目!BI27=\"\",\"\",データ入力シート１回目!BI27)+IF(データ入力シート１回目!BI28=\"\",\"\",データ入力シート１回目!BI28)","v":{"$error":"#VALUE!"}},{"$f":"IF(データ入力シート１回目!BJ26=\"\",\"\",データ入力シート１回目!BJ26)+IF(データ入力シート１回目!BJ27=\"\",\"\",データ入力シート１回目!BJ27)+IF(データ入力シート１回目!BJ28=\"\",\"\",データ入力シート１回目!BJ28)","v":{"$error":"#VALUE!"}},{"$f":"IF(データ入力シート１回目!BK26=\"\",\"\",データ入力シート１回目!BK26)+IF(データ入力シート１回目!BK27=\"\",\"\",データ入力シート１回目!BK27)+IF(データ入力シート１回目!BK28=\"\",\"\",データ入力シート１回目!BK28)","v":{"$error":"#VALUE!"}},{"$f":"IF(データ入力シート１回目!BL26=\"\",\"\",データ入力シート１回目!BL26)+IF(データ入力シート１回目!BL27=\"\",\"\",データ入力シート１回目!BL27)+IF(データ入力シート１回目!BL28=\"\",\"\",データ入力シート１回目!BL28)","v":{"$error":"#VALUE!"}},{"$f":"IF(データ入力シート１回目!BM26=\"\",\"\",データ入力シート１回目!BM26)+IF(データ入力シート１回目!BM27=\"\",\"\",データ入力シート１回目!BM27)+IF(データ入力シート１回目!BM28=\"\",\"\",データ入力シート１回目!BM28)","v":{"$error":"#VALUE!"}},{"$f":"IF(データ入力シート１回目!BN26=\"\",\"\",データ入力シート１回目!BN26)+IF(データ入力シート１回目!BN27=\"\",\"\",データ入力シート１回目!BN27)+IF(データ入力シート１回目!BN28=\"\",\"\",データ入力シート１回目!BN28)","v":{"$error":"#VALUE!"}},{"$f":"IF(データ入力シート１回目!BO26=\"\",\"\",データ入力シート１回目!BO26)+IF(データ入力シート１回目!BO27=\"\",\"\",データ入力シート１回目!BO27)+IF(データ入力シート１回目!BO28=\"\",\"\",データ入力シート１回目!BO28)","v":{"$error":"#VALUE!"}},{"$f":"IF(データ入力シート１回目!BP26=\"\",\"\",データ入力シート１回目!BP26)+IF(データ入力シート１回目!BP27=\"\",\"\",データ入力シート１回目!BP27)+IF(データ入力シート１回目!BP28=\"\",\"\",データ入力シート１回目!BP28)","v":{"$error":"#VALUE!"}},{"$f":"IF(データ入力シート１回目!BQ26=\"\",\"\",データ入力シート１回目!BQ26)+IF(データ入力シート１回目!BQ27=\"\",\"\",データ入力シート１回目!BQ27)+IF(データ入力シート１回目!BQ28=\"\",\"\",データ入力シート１回目!BQ28)","v":{"$error":"#VALUE!"}},{"$f":"IF(データ入力シート１回目!BR26=\"\",\"\",データ入力シート１回目!BR26)+IF(データ入力シート１回目!BR27=\"\",\"\",データ入力シート１回目!BR27)+IF(データ入力シート１回目!BR28=\"\",\"\",データ入力シート１回目!BR28)","v":{"$error":"#VALUE!"}},{"$f":"IF(データ入力シート１回目!BS26=\"\",\"\",データ入力シート１回目!BS26)+IF(データ入力シート１回目!BS27=\"\",\"\",データ入力シート１回目!BS27)+IF(データ入力シート１回目!BS28=\"\",\"\",データ入力シート１回目!BS28)","v":{"$error":"#VALUE!"}},{"$f":"IF(データ入力シート１回目!BT26=\"\",\"\",データ入力シート１回目!BT26)+IF(データ入力シート１回目!BT27=\"\",\"\",データ入力シート１回目!BT27)+IF(データ入力シート１回目!BT28=\"\",\"\",データ入力シート１回目!BT28)","v":{"$error":"#VALUE!"}},{"$f":"IF(データ入力シート１回目!BU26=\"\",\"\",データ入力シート１回目!BU26)+IF(データ入力シート１回目!BU27=\"\",\"\",データ入力シート１回目!BU27)+IF(データ入力シート１回目!BU28=\"\",\"\",データ入力シート１回目!BU28)","v":{"$error":"#VALUE!"}},{"$f":"IF(データ入力シート１回目!BV26=\"\",\"\",データ入力シート１回目!BV26)+IF(データ入力シート１回目!BV27=\"\",\"\",データ入力シート１回目!BV27)+IF(データ入力シート１回目!BV28=\"\",\"\",データ入力シート１回目!BV28)","v":{"$error":"#VALUE!"}},{"$f":"IF(データ入力シート１回目!BW26=\"\",\"\",データ入力シート１回目!BW26)+IF(データ入力シート１回目!BW27=\"\",\"\",データ入力シート１回目!BW27)+IF(データ入力シート１回目!BW28=\"\",\"\",データ入力シート１回目!BW28)","v":{"$error":"#VALUE!"}},{"$f":"IF(データ入力シート１回目!BX26=\"\",\"\",データ入力シート１回目!BX26)+IF(データ入力シート１回目!BX27=\"\",\"\",データ入力シート１回目!BX27)+IF(データ入力シート１回目!BX28=\"\",\"\",データ入力シート１回目!BX28)","v":{"$error":"#VALUE!"}},{"$f":"IF(データ入力シート１回目!BY26=\"\",\"\",データ入力シート１回目!BY26)+IF(データ入力シート１回目!BY27=\"\",\"\",データ入力シート１回目!BY27)+IF(データ入力シート１回目!BY28=\"\",\"\",データ入力シート１回目!BY28)","v":{"$error":"#VALUE!"}},{"$f":"IF(データ入力シート１回目!BZ26=\"\",\"\",データ入力シート１回目!BZ26)+IF(データ入力シート１回目!BZ27=\"\",\"\",データ入力シート１回目!BZ27)+IF(データ入力シート１回目!BZ28=\"\",\"\",データ入力シート１回目!BZ28)","v":{"$error":"#VALUE!"}},{"$f":"IF(データ入力シート１回目!CA26=\"\",\"\",データ入力シート１回目!CA26)+IF(データ入力シート１回目!CA27=\"\",\"\",データ入力シート１回目!CA27)+IF(データ入力シート１回目!CA28=\"\",\"\",データ入力シート１回目!CA28)","v":{"$error":"#VALUE!"}},{"$f":"IF(データ入力シート１回目!CB26=\"\",\"\",データ入力シート１回目!CB26)+IF(データ入力シート１回目!CB27=\"\",\"\",データ入力シート１回目!CB27)+IF(データ入力シート１回目!CB28=\"\",\"\",データ入力シート１回目!CB28)","v":{"$error":"#VALUE!"}},{"$f":"IF(データ入力シート１回目!CC26=\"\",\"\",データ入力シート１回目!CC26)+IF(データ入力シート１回目!CC27=\"\",\"\",データ入力シート１回目!CC27)+IF(データ入力シート１回目!CC28=\"\",\"\",データ入力シート１回目!CC28)","v":{"$error":"#VALUE!"}},{"$f":"IF(データ入力シート１回目!CD26=\"\",\"\",データ入力シート１回目!CD26)+IF(データ入力シート１回目!CD27=\"\",\"\",データ入力シート１回目!CD27)+IF(データ入力シート１回目!CD28=\"\",\"\",データ入力シート１回目!CD28)","v":{"$error":"#VALUE!"}},{"$f":"IF(データ入力シート１回目!CE26=\"\",\"\",データ入力シート１回目!CE26)+IF(データ入力シート１回目!CE27=\"\",\"\",データ入力シート１回目!CE27)+IF(データ入力シート１回目!CE28=\"\",\"\",データ入力シート１回目!CE28)","v":{"$error":"#VALUE!"}},{"$f":"IF(データ入力シート１回目!CF26=\"\",\"\",データ入力シート１回目!CF26)+IF(データ入力シート１回目!CF27=\"\",\"\",データ入力シート１回目!CF27)+IF(データ入力シート１回目!CF28=\"\",\"\",データ入力シート１回目!CF28)","v":{"$error":"#VALUE!"}},{"$f":"IF(データ入力シート１回目!CG26=\"\",\"\",データ入力シート１回目!CG26)+IF(データ入力シート１回目!CG27=\"\",\"\",データ入力シート１回目!CG27)+IF(データ入力シート１回目!CG28=\"\",\"\",データ入力シート１回目!CG28)","v":{"$error":"#VALUE!"}},{"$f":"IF(データ入力シート１回目!CH26=\"\",\"\",データ入力シート１回目!CH26)+IF(データ入力シート１回目!CH27=\"\",\"\",データ入力シート１回目!CH27)+IF(データ入力シート１回目!CH28=\"\",\"\",データ入力シート１回目!CH28)","v":{"$error":"#VALUE!"}},{"$f":"IF(データ入力シート１回目!CI26=\"\",\"\",データ入力シート１回目!CI26)+IF(データ入力シート１回目!CI27=\"\",\"\",データ入力シート１回目!CI27)+IF(データ入力シート１回目!CI28=\"\",\"\",データ入力シート１回目!CI28)","v":{"$error":"#VALUE!"}},{"$f":"IF(データ入力シート１回目!CJ26=\"\",\"\",データ入力シート１回目!CJ26)+IF(データ入力シート１回目!CJ27=\"\",\"\",データ入力シート１回目!CJ27)+IF(データ入力シート１回目!CJ28=\"\",\"\",データ入力シート１回目!CJ28)","v":{"$error":"#VALUE!"}},{"$f":"IF(データ入力シート１回目!CK26=\"\",\"\",データ入力シート１回目!CK26)+IF(データ入力シート１回目!CK27=\"\",\"\",データ入力シート１回目!CK27)+IF(データ入力シート１回目!CK28=\"\",\"\",データ入力シート１回目!CK28)","v":{"$error":"#VALUE!"}},{"$f":"IF(データ入力シート１回目!CL26=\"\",\"\",データ入力シート１回目!CL26)+IF(データ入力シート１回目!CL27=\"\",\"\",データ入力シート１回目!CL27)+IF(データ入力シート１回目!CL28=\"\",\"\",データ入力シート１回目!CL28)","v":{"$error":"#VALUE!"}},{"$f":"IF(データ入力シート１回目!CM26=\"\",\"\",データ入力シート１回目!CM26)+IF(データ入力シート１回目!CM27=\"\",\"\",データ入力シート１回目!CM27)+IF(データ入力シート１回目!CM28=\"\",\"\",データ入力シート１回目!CM28)","v":{"$error":"#VALUE!"}},{"$f":"IF(データ入力シート１回目!CN26=\"\",\"\",データ入力シート１回目!CN26)+IF(データ入力シート１回目!CN27=\"\",\"\",データ入力シート１回目!CN27)+IF(データ入力シート１回目!CN28=\"\",\"\",データ入力シート１回目!CN28)","v":{"$error":"#VALUE!"}},{"$f":"IF(データ入力シート１回目!CO26=\"\",\"\",データ入力シート１回目!CO26)+IF(データ入力シート１回目!CO27=\"\",\"\",データ入力シート１回目!CO27)+IF(データ入力シート１回目!CO28=\"\",\"\",データ入力シート１回目!CO28)","v":{"$error":"#VALUE!"}},{"$f":"IF(データ入力シート１回目!CP26=\"\",\"\",データ入力シート１回目!CP26)+IF(データ入力シート１回目!CP27=\"\",\"\",データ入力シート１回目!CP27)+IF(データ入力シート１回目!CP28=\"\",\"\",データ入力シート１回目!CP28)","v":{"$error":"#VALUE!"}},{"$f":"IF(データ入力シート１回目!CQ26=\"\",\"\",データ入力シート１回目!CQ26)+IF(データ入力シート１回目!CQ27=\"\",\"\",データ入力シート１回目!CQ27)+IF(データ入力シート１回目!CQ28=\"\",\"\",データ入力シート１回目!CQ28)","v":{"$error":"#VALUE!"}},{"$f":"IF(データ入力シート１回目!CR26=\"\",\"\",データ入力シート１回目!CR26)+IF(データ入力シート１回目!CR27=\"\",\"\",データ入力シート１回目!CR27)+IF(データ入力シート１回目!CR28=\"\",\"\",データ入力シート１回目!CR28)","v":{"$error":"#VALUE!"}},{"$f":"IF(データ入力シート１回目!CS26=\"\",\"\",データ入力シート１回目!CS26)+IF(データ入力シート１回目!CS27=\"\",\"\",データ入力シート１回目!CS27)+IF(データ入力シート１回目!CS28=\"\",\"\",データ入力シート１回目!CS28)","v":{"$error":"#VALUE!"}},{"$f":"IF(データ入力シート１回目!CT26=\"\",\"\",データ入力シート１回目!CT26)+IF(データ入力シート１回目!CT27=\"\",\"\",データ入力シート１回目!CT27)+IF(データ入力シート１回目!CT28=\"\",\"\",データ入力シート１回目!CT28)","v":{"$error":"#VALUE!"}},{"$f":"IF(データ入力シート１回目!CU26=\"\",\"\",データ入力シート１回目!CU26)+IF(データ入力シート１回目!CU27=\"\",\"\",データ入力シート１回目!CU27)+IF(データ入力シート１回目!CU28=\"\",\"\",データ入力シート１回目!CU28)","v":{"$error":"#VALUE!"}},{"$f":"IF(データ入力シート１回目!CV26=\"\",\"\",データ入力シート１回目!CV26)+IF(データ入力シート１回目!CV27=\"\",\"\",データ入力シート１回目!CV27)+IF(データ入力シート１回目!CV28=\"\",\"\",データ入力シート１回目!CV28)","v":{"$error":"#VALUE!"}},{"$f":"IF(データ入力シート１回目!CW26=\"\",\"\",データ入力シート１回目!CW26)+IF(データ入力シート１回目!CW27=\"\",\"\",データ入力シート１回目!CW27)+IF(データ入力シート１回目!CW28=\"\",\"\",データ入力シート１回目!CW28)","v":{"$error":"#VALUE!"}},{"$f":"IF(データ入力シート１回目!CX26=\"\",\"\",データ入力シート１回目!CX26)+IF(データ入力シート１回目!CX27=\"\",\"\",データ入力シート１回目!CX27)+IF(データ入力シート１回目!CX28=\"\",\"\",データ入力シート１回目!CX28)","v":{"$error":"#VALUE!"}},{"$f":"IF(データ入力シート１回目!CY26=\"\",\"\",データ入力シート１回目!CY26)+IF(データ入力シート１回目!CY27=\"\",\"\",データ入力シート１回目!CY27)+IF(データ入力シート１回目!CY28=\"\",\"\",データ入力シート１回目!CY28)","v":{"$error":"#VALUE!"}},{"$f":"IF(データ入力シート１回目!CZ26=\"\",\"\",データ入力シート１回目!CZ26)+IF(データ入力シート１回目!CZ27=\"\",\"\",データ入力シート１回目!CZ27)+IF(データ入力シート１回目!CZ28=\"\",\"\",データ入力シート１回目!CZ28)","v":{"$error":"#VALUE!"}}]
[null,"A",{"$f":"IF(データ入力シート１回目!E29=\"\",\"\",データ入力シート１回目!E29)+IF(データ入力シート１回目!E30=\"\",\"\",データ入力シート１回目!E30)+IF(データ入力シート１回目!E31=\"\",\"\",データ入力シート１回目!E31)","v":{"$error":"#VALUE!"}},{"$f":"IF(データ入力シート１回目!F29=\"\",\"\",データ入力シート１回目!F29)+IF(データ入力シート１回目!F30=\"\",\"\",データ入力シート１回目!F30)+IF(データ入力シート１回目!F31=\"\",\"\",データ入力シート１回目!F31)","v":{"$error":"#VALUE!"}},{"$f":"IF(データ入力シート１回目!G29=\"\",\"\",データ入力シート１回目!G29)+IF(データ入力シート１回目!G30=\"\",\"\",データ入力シート１回目!G30)+IF(データ入力シート１回目!G31=\"\",\"\",データ入力シート１回目!G31)","v":{"$error":"#VALUE!"}},{"$f":"IF(データ入力シート１回目!H29=\"\",\"\",データ入力シート１回目!H29)+IF(データ入力シート１回目!H30=\"\",\"\",データ入力シート１回目!H30)+IF(データ入力シート１回目!H31=\"\",\"\",データ入力シート１回目!H31)","v":{"$error":"#VALUE!"}},{"$f":"IF(データ入力シート１回目!I29=\"\",\"\",データ入力シート１回目!I29)+IF(データ入力シート１回目!I30=\"\",\"\",データ入力シート１回目!I30)+IF(データ入力シート１回目!I31=\"\",\"\",データ入力シート１回目!I31)","v":{"$error":"#VALUE!"}},{"$f":"IF(データ入力シート１回目!J29=\"\",\"\",データ入力シート１回目!J29)+IF(データ入力シート１回目!J30=\"\",\"\",データ入力シート１回目!J30)+IF(データ入力シート１回目!J31=\"\",\"\",データ入力シート１回目!J31)","v":{"$error":"#VALUE!"}},{"$f":"IF(データ入力シート１回目!K29=\"\",\"\",データ入力シート１回目!K29)+IF(データ入力シート１回目!K30=\"\",\"\",データ入力シート１回目!K30)+IF(データ入力シート１回目!K31=\"\",\"\",データ入力シート１回目!K31)","v":{"$error":"#VALUE!"}},{"$f":"IF(データ入力シート１回目!L29=\"\",\"\",データ入力シート１回目!L29)+IF(データ入力シート１回目!L30=\"\",\"\",データ入力シート１回目!L30)+IF(データ入力シート１回目!L31=\"\",\"\",データ入力シート１回目!L31)","v":{"$error":"#VALUE!"}},{"$f":"IF(データ入力シート１回目!M29=\"\",\"\",データ入力シート１回目!M29)+IF(データ入力シート１回目!M30=\"\",\"\",データ入力シート１回目!M30)+IF(データ入力シート１回目!M31=\"\",\"\",データ入力シート１回目!M31)","v":{"$error":"#VALUE!"}},{"$f":"IF(データ入力シート１回目!N29=\"\",\"\",データ入力シート１回目!N29)+IF(データ入力シート１回目!N30=\"\",\"\",データ入力シート１回目!N30)+IF(データ入力シート１回目!N31=\"\",\"\",データ入力シート１回目!N31)","v":{"$error":"#VALUE!"}},{"$f":"IF(データ入力シート１回目!O29=\"\",\"\",データ入力シート１回目!O29)+IF(データ入力シート１回目!O30=\"\",\"\",データ入力シート１回目!O30)+IF(データ入力シート１回目!O31=\"\",\"\",データ入力シート１回目!O31)","v":{"$error":"#VALUE!"}},{"$f":"IF(データ入力シート１回目!P29=\"\",\"\",データ入力シート１回目!P29)+IF(データ入力シート１回目!P30=\"\",\"\",データ入力シート１回目!P30)+IF(データ入力シート１回目!P31=\"\",\"\",データ入力シート１回目!P31)","v":{"$error":"#VALUE!"}},{"$f":"IF(データ入力シート１回目!Q29=\"\",\"\",データ入力シート１回目!Q29)+IF(データ入力シート１回目!Q30=\"\",\"\",データ入力シート１回目!Q30)+IF(データ入力シート１回目!Q31=\"\",\"\",データ入力シート１回目!Q31)","v":{"$error":"#VALUE!"}},{"$f":"IF(データ入力シート１回目!R29=\"\",\"\",データ入力シート１回目!R29)+IF(データ入力シート１回目!R30=\"\",\"\",データ入力シート１回目!R30)+IF(データ入力シート１回目!R31=\"\",\"\",データ入力シート１回目!R31)","v":{"$error":"#VALUE!"}},{"$f":"IF(データ入力シート１回目!S29=\"\",\"\",データ入力シート１回目!S29)+IF(データ入力シート１回目!S30=\"\",\"\",データ入力シート１回目!S30)+IF(データ入力シート１回目!S31=\"\",\"\",データ入力シート１回目!S31)","v":{"$error":"#VALUE!"}},{"$f":"IF(データ入力シート１回目!T29=\"\",\"\",データ入力シート１回目!T29)+IF(データ入力シート１回目!T30=\"\",\"\",データ入力シート１回目!T30)+IF(データ入力シート１回目!T31=\"\",\"\",データ入力シート１回目!T31)","v":{"$error":"#VALUE!"}},{"$f":"IF(データ入力シート１回目!U29=\"\",\"\",データ入力シート１回目!U29)+IF(データ入力シート１回目!U30=\"\",\"\",データ入力シート１回目!U30)+IF(データ入力シート１回目!U31=\"\",\"\",データ入力シート１回目!U31)","v":{"$error":"#VALUE!"}},{"$f":"IF(データ入力シート１回目!V29=\"\",\"\",データ入力シート１回目!V29)+IF(データ入力シート１回目!V30=\"\",\"\",データ入力シート１回目!V30)+IF(データ入力シート１回目!V31=\"\",\"\",データ入力シート１回目!V31)","v":{"$error":"#VALUE!"}},{"$f":"IF(データ入力シート１回目!W29=\"\",\"\",データ入力シート１回目!W29)+IF(データ入力シート１回目!W30=\"\",\"\",データ入力シート１回目!W30)+IF(データ入力シート１回目!W31=\"\",\"\",データ入力シート１回目!W31)","v":{"$error":"#VALUE!"}},{"$f":"IF(データ入力シート１回目!X29=\"\",\"\",データ入力シート１回目!X29)+IF(データ入力シート１回目!X30=\"\",\"\",データ入力シート１回目!X30)+IF(データ入力シート１回目!X31=\"\",\"\",データ入力シート１回目!X31)","v":{"$error":"#VALUE!"}},{"$f":"IF(データ入力シート１回目!Y29=\"\",\"\",データ入力シート１回目!Y29)+IF(データ入力シート１回目!Y30=\"\",\"\",データ入力シート１回目!Y30)+IF(データ入力シート１回目!Y31=\"\",\"\",データ入力シート１回目!Y31)","v":{"$error":"#VALUE!"}},{"$f":"IF(データ入力シート１回目!Z29=\"\",\"\",データ入力シート１回目!Z29)+IF(データ入力シート１回目!Z30=\"\",\"\",データ入力シート１回目!Z30)+IF(データ入力シート１回目!Z31=\"\",\"\",データ入力シート１回目!Z31)","v":{"$error":"#VALUE!"}},{"$f":"IF(データ入力シート１回目!AA29=\"\",\"\",データ入力シート１回目!AA29)+IF(データ入力シート１回目!AA30=\"\",\"\",データ入力シート１回目!AA30)+IF(データ入力シート１回目!AA31=\"\",\"\",データ入力シート１回目!AA31)","v":{"$error":"#VALUE!"}},{"$f":"IF(データ入力シート１回目!AB29=\"\",\"\",データ入力シート１回目!AB29)+IF(データ入力シート１回目!AB30=\"\",\"\",データ入力シート１回目!AB30)+IF(データ入力シート１回目!AB31=\"\",\"\",データ入力シート１回目!AB31)","v":{"$error":"#VALUE!"}},{"$f":"IF(データ入力シート１回目!AC29=\"\",\"\",データ入力シート１回目!AC29)+IF(データ入力シート１回目!AC30=\"\",\"\",データ入力シート１回目!AC30)+IF(データ入力シート１回目!AC31=\"\",\"\",データ入力シート１回目!AC31)","v":{"$error":"#VALUE!"}},{"$f":"IF(データ入力シート１回目!AD29=\"\",\"\",データ入力シート１回目!AD29)+IF(データ入力シート１回目!AD30=\"\",\"\",データ入力シート１回目!AD30)+IF(データ入力シート１回目!AD31=\"\",\"\",データ入力シート１回目!AD31)","v":{"$error":"#VALUE!"}},{"$f":"IF(データ入力シート１回目!AE29=\"\",\"\",データ入力シート１回目!AE29)+IF(データ入力シート１回目!AE30=\"\",\"\",データ入力シート１回目!AE30)+IF(データ入力シート１回目!AE31=\"\",\"\",データ入力シート１回目!AE31)","v":{"$error":"#VALUE!"}},{"$f":"IF(データ入力シート１回目!AF29=\"\",\"\",データ入力シート１回目!AF29)+IF(データ入力シート１回目!AF30=\"\",\"\",データ入力シート１回目!AF30)+IF(データ入力シート１回目!AF31=\"\",\"\",データ入力シート１回目!AF31)","v":{"$error":"#VALUE!"}},{"$f":"IF(データ入力シート１回目!AG29=\"\",\"\",データ入力シート１回目!AG29)+IF(データ入力シート１回目!AG30=\"\",\"\",データ入力シート１回目!AG30)+IF(データ入力シート１回目!AG31=\"\",\"\",データ入力シート１回目!AG31)","v":{"$error":"#VALUE!"}},{"$f":"IF(データ入力シート１回目!AH29=\"\",\"\",データ入力シート１回目!AH29)+IF(データ入力シート１回目!AH30=\"\",\"\",データ入力シート１回目!AH30)+IF(データ入力シート１回目!AH31=\"\",\"\",データ入力シート１回目!AH31)","v":{"$error":"#VALUE!"}},{"$f":"IF(データ入力シート１回目!AI29=\"\",\"\",データ入力シート１回目!AI29)+IF(データ入力シート１回目!AI30=\"\",\"\",データ入力シート１回目!AI30)+IF(データ入力シート１回目!AI31=\"\",\"\",データ入力シート１回目!AI31)","v":{"$error":"#VALUE!"}},{"$f":"IF(データ入力シート１回目!AJ29=\"\",\"\",データ入力シート１回目!AJ29)+IF(データ入力シート１回目!AJ30=\"\",\"\",データ入力シート１回目!AJ30)+IF(データ入力シート１回目!AJ31=\"\",\"\",データ入力シート１回目!AJ31)","v":{"$error":"#VALUE!"}},{"$f":"IF(データ入力シート１回目!AK29=\"\",\"\",データ入力シート１回目!AK29)+IF(データ入力シート１回目!AK30=\"\",\"\",データ入力シート１回目!AK30)+IF(データ入力シート１回目!AK31=\"\",\"\",データ入力シート１回目!AK31)","v":{"$error":"#VALUE!"}},{"$f":"IF(データ入力シート１回目!AL29=\"\",\"\",データ入力シート１回目!AL29)+IF(データ入力シート１回目!AL30=\"\",\"\",データ入力シート１回目!AL30)+IF(データ入力シート１回目!AL31=\"\",\"\",データ入力シート１回目!AL31)","v":{"$error":"#VALUE!"}},{"$f":"IF(データ入力シート１回目!AM29=\"\",\"\",データ入力シート１回目!AM29)+IF(データ入力シート１回目!AM30=\"\",\"\",データ入力シート１回目!AM30)+IF(データ入力シート１回目!AM31=\"\",\"\",データ入力シート１回目!AM31)","v":{"$error":"#VALUE!"}},{"$f":"IF(データ入力シート１回目!AN29=\"\",\"\",データ入力シート１回目!AN29)+IF(データ入力シート１回目!AN30=\"\",\"\",データ入力シート１回目!AN30)+IF(データ入力シート１回目!AN31=\"\",\"\",データ入力シート１回目!AN31)","v":{"$error":"#VALUE!"}},{"$f":"IF(データ入力シート１回目!AO29=\"\",\"\",データ入力シート１回目!AO29)+IF(データ入力シート１回目!AO30=\"\",\"\",データ入力シート１回目!AO30)+IF(データ入力シート１回目!AO31=\"\",\"\",データ入力シート１回目!AO31)","v":{"$error":"#VALUE!"}},{"$f":"IF(データ入力シート１回目!AP29=\"\",\"\",データ入力シート１回目!AP29)+IF(データ入力シート１回目!AP30=\"\",\"\",データ入力シート１回目!AP30)+IF(データ入力シート１回目!AP31=\"\",\"\",データ入力シート１回目!AP31)","v":{"$error":"#VALUE!"}},{"$f":"IF(データ入力シート１回目!AQ29=\"\",\"\",データ入力シート１回目!AQ29)+IF(データ入力シート１回目!AQ30=\"\",\"\",データ入力シート１回目!AQ30)+IF(データ入力シート１回目!AQ31=\"\",\"\",データ入力シート１回目!AQ31)","v":{"$error":"#VALUE!"}},{"$f":"IF(データ入力シート１回目!AR29=\"\",\"\",データ入力シート１回目!AR29)+IF(データ入力シート１回目!AR30=\"\",\"\",データ入力シート１回目!AR30)+IF(データ入力シート１回目!AR31=\"\",\"\",データ入力シート１回目!AR31)","v":{"$error":"#VALUE!"}},{"$f":"IF(データ入力シート１回目!AS29=\"\",\"\",データ入力シート１回目!AS29)+IF(データ入力シート１回目!AS30=\"\",\"\",データ入力シート１回目!AS30)+IF(データ入力シート１回目!AS31=\"\",\"\",データ入力シート１回目!AS31)","v":{"$error":"#VALUE!"}},{"$f":"IF(データ入力シート１回目!AT29=\"\",\"\",データ入力シート１回目!AT29)+IF(データ入力シート１回目!AT30=\"\",\"\",データ入力シート１回目!AT30)+IF(データ入力シート１回目!AT31=\"\",\"\",データ入力シート１回目!AT31)","v":{"$error":"#VALUE!"}},{"$f":"IF(データ入力シート１回目!AU29=\"\",\"\",データ入力シート１回目!AU29)+IF(データ入力シート１回目!AU30=\"\",\"\",データ入力シート１回目!AU30)+IF(データ入力シート１回目!AU31=\"\",\"\",データ入力シート１回目!AU31)","v":{"$error":"#VALUE!"}},{"$f":"IF(データ入力シート１回目!AV29=\"\",\"\",データ入力シート１回目!AV29)+IF(データ入力シート１回目!AV30=\"\",\"\",データ入力シート１回目!AV30)+IF(データ入力シート１回目!AV31=\"\",\"\",データ入力シート１回目!AV31)","v":{"$error":"#VALUE!"}},{"$f":"IF(データ入力シート１回目!AW29=\"\",\"\",データ入力シート１回目!AW29)+IF(データ入力シート１回目!AW30=\"\",\"\",データ入力シート１回目!AW30)+IF(データ入力シート１回目!AW31=\"\",\"\",データ入力シート１回目!AW31)","v":{"$error":"#VALUE!"}},{"$f":"IF(データ入力シート１回目!AX29=\"\",\"\",データ入力シート１回目!AX29)+IF(データ入力シート１回目!AX30=\"\",\"\",データ入力シート１回目!AX30)+IF(データ入力シート１回目!AX31=\"\",\"\",データ入力シート１回目!AX31)","v":{"$error":"#VALUE!"}},{"$f":"IF(データ入力シート１回目!AY29=\"\",\"\",データ入力シート１回目!AY29)+IF(データ入力シート１回目!AY30=\"\",\"\",データ入力シート１回目!AY30)+IF(データ入力シート１回目!AY31=\"\",\"\",データ入力シート１回目!AY31)","v":{"$error":"#VALUE!"}},{"$f":"IF(データ入力シート１回目!AZ29=\"\",\"\",データ入力シート１回目!AZ29)+IF(データ入力シート１回目!AZ30=\"\",\"\",データ入力シート１回目!AZ30)+IF(データ入力シート１回目!AZ31=\"\",\"\",データ入力シート１回目!AZ31)","v":{"$error":"#VALUE!"}},{"$f":"IF(データ入力シート１回目!BA29=\"\",\"\",データ入力シート１回目!BA29)+IF(データ入力シート１回目!BA30=\"\",\"\",データ入力シート１回目!BA30)+IF(データ入力シート１回目!BA31=\"\",\"\",データ入力シート１回目!BA31)","v":{"$error":"#VALUE!"}},{"$f":"IF(データ入力シート１回目!BB29=\"\",\"\",データ入力シート１回目!BB29)+IF(データ入力シート１回目!BB30=\"\",\"\",データ入力シート１回目!BB30)+IF(データ入力シート１回目!BB31=\"\",\"\",データ入力シート１回目!BB31)","v":{"$error":"#VALUE!"}},{"$f":"IF(データ入力シート１回目!BC29=\"\",\"\",データ入力シート１回目!BC29)+IF(データ入力シート１回目!BC30=\"\",\"\",データ入力シート１回目!BC30)+IF(データ入力シート１回目!BC31=\"\",\"\",データ入力シート１回目!BC31)","v":{"$error":"#VALUE!"}},{"$f":"IF(データ入力シート１回目!BD29=\"\",\"\",データ入力シート１回目!BD29)+IF(データ入力シート１回目!BD30=\"\",\"\",データ入力シート１回目!BD30)+IF(データ入力シート１回目!BD31=\"\",\"\",データ入力シート１回目!BD31)","v":{"$error":"#VALUE!"}},{"$f":"IF(データ入力シート１回目!BE29=\"\",\"\",データ入力シート１回目!BE29)+IF(データ入力シート１回目!BE30=\"\",\"\",データ入力シート１回目!BE30)+IF(データ入力シート１回目!BE31=\"\",\"\",データ入力シート１回目!BE31)","v":{"$error":"#VALUE!"}},{"$f":"IF(データ入力シート１回目!BF29=\"\",\"\",データ入力シート１回目!BF29)+IF(データ入力シート１回目!BF30=\"\",\"\",データ入力シート１回目!BF30)+IF(データ入力シート１回目!BF31=\"\",\"\",データ入力シート１回目!BF31)","v":{"$error":"#VALUE!"}},{"$f":"IF(データ入力シート１回目!BG29=\"\",\"\",データ入力シート１回目!BG29)+IF(データ入力シート１回目!BG30=\"\",\"\",データ入力シート１回目!BG30)+IF(データ入力シート１回目!BG31=\"\",\"\",データ入力シート１回目!BG31)","v":{"$error":"#VALUE!"}},{"$f":"IF(データ入力シート１回目!BH29=\"\",\"\",データ入力シート１回目!BH29)+IF(データ入力シート１回目!BH30=\"\",\"\",データ入力シート１回目!BH30)+IF(データ入力シート１回目!BH31=\"\",\"\",データ入力シート１回目!BH31)","v":{"$error":"#VALUE!"}},{"$f":"IF(データ入力シート１回目!BI29=\"\",\"\",データ入力シート１回目!BI29)+IF(データ入力シート１回目!BI30=\"\",\"\",データ入力シート１回目!BI30)+IF(データ入力シート１回目!BI31=\"\",\"\",データ入力シート１回目!BI31)","v":{"$error":"#VALUE!"}},{"$f":"IF(データ入力シート１回目!BJ29=\"\",\"\",データ入力シート１回目!BJ29)+IF(データ入力シート１回目!BJ30=\"\",\"\",データ入力シート１回目!BJ30)+IF(データ入力シート１回目!BJ31=\"\",\"\",データ入力シート１回目!BJ31)","v":{"$error":"#VALUE!"}},{"$f":"IF(データ入力シート１回目!BK29=\"\",\"\",データ入力シート１回目!BK29)+IF(データ入力シート１回目!BK30=\"\",\"\",データ入力シート１回目!BK30)+IF(データ入力シート１回目!BK31=\"\",\"\",データ入力シート１回目!BK31)","v":{"$error":"#VALUE!"}},{"$f":"IF(データ入力シート１回目!BL29=\"\",\"\",データ入力シート１回目!BL29)+IF(データ入力シート１回目!BL30=\"\",\"\",データ入力シート１回目!BL30)+IF(データ入力シート１回目!BL31=\"\",\"\",データ入力シート１回目!BL31)","v":{"$error":"#VALUE!"}},{"$f":"IF(データ入力シート１回目!BM29=\"\",\"\",データ入力シート１回目!BM29)+IF(データ入力シート１回目!BM30=\"\",\"\",データ入力シート１回目!BM30)+IF(データ入力シート１回目!BM31=\"\",\"\",データ入力シート１回目!BM31)","v":{"$error":"#VALUE!"}},{"$f":"IF(データ入力シート１回目!BN29=\"\",\"\",データ入力シート１回目!BN29)+IF(データ入力シート１回目!BN30=\"\",\"\",データ入力シート１回目!BN30)+IF(データ入力シート１回目!BN31=\"\",\"\",データ入力シート１回目!BN31)","v":{"$error":"#VALUE!"}},{"$f":"IF(データ入力シート１回目!BO29=\"\",\"\",データ入力シート１回目!BO29)+IF(データ入力シート１回目!BO30=\"\",\"\",データ入力シート１回目!BO30)+IF(データ入力シート１回目!BO31=\"\",\"\",データ入力シート１回目!BO31)","v":{"$error":"#VALUE!"}},{"$f":"IF(データ入力シート１回目!BP29=\"\",\"\",データ入力シート１回目!BP29)+IF(データ入力シート１回目!BP30=\"\",\"\",データ入力シート１回目!BP30)+IF(データ入力シート１回目!BP31=\"\",\"\",データ入力シート１回目!BP31)","v":{"$error":"#VALUE!"}},{"$f":"IF(データ入力シート１回目!BQ29=\"\",\"\",データ入力シート１回目!BQ29)+IF(データ入力シート１回目!BQ30=\"\",\"\",データ入力シート１回目!BQ30)+IF(データ入力シート１回目!BQ31=\"\",\"\",データ入力シート１回目!BQ31)","v":{"$error":"#VALUE!"}},{"$f":"IF(データ入力シート１回目!BR29=\"\",\"\",データ入力シート１回目!BR29)+IF(データ入力シート１回目!BR30=\"\",\"\",データ入力シート１回目!BR30)+IF(データ入力シート１回目!BR31=\"\",\"\",データ入力シート１回目!BR31)","v":{"$error":"#VALUE!"}},{"$f":"IF(データ入力シート１回目!BS29=\"\",\"\",データ入力シート１回目!BS29)+IF(データ入力シート１回目!BS30=\"\",\"\",データ入力シート１回目!BS30)+IF(データ入力シート１回目!BS31=\"\",\"\",データ入力シート１回目!BS31)","v":{"$error":"#VALUE!"}},{"$f":"IF(データ入力シート１回目!BT29=\"\",\"\",データ入力シート１回目!BT29)+IF(データ入力シート１回目!BT30=\"\",\"\",データ入力シート１回目!BT30)+IF(データ入力シート１回目!BT31=\"\",\"\",データ入力シート１回目!BT31)","v":{"$error":"#VALUE!"}},{"$f":"IF(データ入力シート１回目!BU29=\"\",\"\",データ入力シート１回目!BU29)+IF(データ入力シート１回目!BU30=\"\",\"\",データ入力シート１回目!BU30)+IF(データ入力シート１回目!BU31=\"\",\"\",データ入力シート１回目!BU31)","v":{"$error":"#VALUE!"}},{"$f":"IF(データ入力シート１回目!BV29=\"\",\"\",データ入力シート１回目!BV29)+IF(データ入力シート１回目!BV30=\"\",\"\",データ入力シート１回目!BV30)+IF(データ入力シート１回目!BV31=\"\",\"\",データ入力シート１回目!BV31)","v":{"$error":"#VALUE!"}},{"$f":"IF(データ入力シート１回目!BW29=\"\",\"\",データ入力シート１回目!BW29)+IF(データ入力シート１回目!BW30=\"\",\"\",データ入力シート１回目!BW30)+IF(データ入力シート１回目!BW31=\"\",\"\",データ入力シート１回目!BW31)","v":{"$error":"#VALUE!"}},{"$f":"IF(データ入力シート１回目!BX29=\"\",\"\",データ入力シート１回目!BX29)+IF(データ入力シート１回目!BX30=\"\",\"\",データ入力シート１回目!BX30)+IF(データ入力シート１回目!BX31=\"\",\"\",データ入力シート１回目!BX31)","v":{"$error":"#VALUE!"}},{"$f":"IF(データ入力シート１回目!BY29=\"\",\"\",データ入力シート１回目!BY29)+IF(データ入力シート１回目!BY30=\"\",\"\",データ入力シート１回目!BY30)+IF(データ入力シート１回目!BY31=\"\",\"\",データ入力シート１回目!BY31)","v":{"$error":"#VALUE!"}},{"$f":"IF(データ入力シート１回目!BZ29=\"\",\"\",データ入力シート１回目!BZ29)+IF(データ入力シート１回目!BZ30=\"\",\"\",データ入力シート１回目!BZ30)+IF(データ入力シート１回目!BZ31=\"\",\"\",データ入力シート１回目!BZ31)","v":{"$error":"#VALUE!"}},{"$f":"IF(データ入力シート１回目!CA29=\"\",\"\",データ入力シート１回目!CA29)+IF(データ入力シート１回目!CA30=\"\",\"\",データ入力シート１回目!CA30)+IF(データ入力シート１回目!CA31=\"\",\"\",データ入力シート１回目!CA31)","v":{"$error":"#VALUE!"}},{"$f":"IF(データ入力シート１回目!CB29=\"\",\"\",データ入力シート１回目!CB29)+IF(データ入力シート１回目!CB30=\"\",\"\",データ入力シート１回目!CB30)+IF(データ入力シート１回目!CB31=\"\",\"\",データ入力シート１回目!CB31)","v":{"$error":"#VALUE!"}},{"$f":"IF(データ入力シート１回目!CC29=\"\",\"\",データ入力シート１回目!CC29)+IF(データ入力シート１回目!CC30=\"\",\"\",データ入力シート１回目!CC30)+IF(データ入力シート１回目!CC31=\"\",\"\",データ入力シート１回目!CC31)","v":{"$error":"#VALUE!"}},{"$f":"IF(データ入力シート１回目!CD29=\"\",\"\",データ入力シート１回目!CD29)+IF(データ入力シート１回目!CD30=\"\",\"\",データ入力シート１回目!CD30)+IF(データ入力シート１回目!CD31=\"\",\"\",データ入力シート１回目!CD31)","v":{"$error":"#VALUE!"}},{"$f":"IF(データ入力シート１回目!CE29=\"\",\"\",データ入力シート１回目!CE29)+IF(データ入力シート１回目!CE30=\"\",\"\",データ入力シート１回目!CE30)+IF(データ入力シート１回目!CE31=\"\",\"\",データ入力シート１回目!CE31)","v":{"$error":"#VALUE!"}},{"$f":"IF(データ入力シート１回目!CF29=\"\",\"\",データ入力シート１回目!CF29)+IF(データ入力シート１回目!CF30=\"\",\"\",データ入力シート１回目!CF30)+IF(データ入力シート１回目!CF31=\"\",\"\",データ入力シート１回目!CF31)","v":{"$error":"#VALUE!"}},{"$f":"IF(データ入力シート１回目!CG29=\"\",\"\",データ入力シート１回目!CG29)+IF(データ入力シート１回目!CG30=\"\",\"\",データ入力シート１回目!CG30)+IF(データ入力シート１回目!CG31=\"\",\"\",データ入力シート１回目!CG31)","v":{"$error":"#VALUE!"}},{"$f":"IF(データ入力シート１回目!CH29=\"\",\"\",データ入力シート１回目!CH29)+IF(データ入力シート１回目!CH30=\"\",\"\",データ入力シート１回目!CH30)+IF(データ入力シート１回目!CH31=\"\",\"\",データ入力シート１回目!CH31)","v":{"$error":"#VALUE!"}},{"$f":"IF(データ入力シート１回目!CI29=\"\",\"\",データ入力シート１回目!CI29)+IF(データ入力シート１回目!CI30=\"\",\"\",データ入力シート１回目!CI30)+IF(データ入力シート１回目!CI31=\"\",\"\",データ入力シート１回目!CI31)","v":{"$error":"#VALUE!"}},{"$f":"IF(データ入力シート１回目!CJ29=\"\",\"\",データ入力シート１回目!CJ29)+IF(データ入力シート１回目!CJ30=\"\",\"\",データ入力シート１回目!CJ30)+IF(データ入力シート１回目!CJ31=\"\",\"\",データ入力シート１回目!CJ31)","v":{"$error":"#VALUE!"}},{"$f":"IF(データ入力シート１回目!CK29=\"\",\"\",データ入力シート１回目!CK29)+IF(データ入力シート１回目!CK30=\"\",\"\",データ入力シート１回目!CK30)+IF(データ入力シート１回目!CK31=\"\",\"\",データ入力シート１回目!CK31)","v":{"$error":"#VALUE!"}},{"$f":"IF(データ入力シート１回目!CL29=\"\",\"\",データ入力シート１回目!CL29)+IF(データ入力シート１回目!CL30=\"\",\"\",データ入力シート１回目!CL30)+IF(データ入力シート１回目!CL31=\"\",\"\",データ入力シート１回目!CL31)","v":{"$error":"#VALUE!"}},{"$f":"IF(データ入力シート１回目!CM29=\"\",\"\",データ入力シート１回目!CM29)+IF(データ入力シート１回目!CM30=\"\",\"\",データ入力シート１回目!CM30)+IF(データ入力シート１回目!CM31=\"\",\"\",データ入力シート１回目!CM31)","v":{"$error":"#VALUE!"}},{"$f":"IF(データ入力シート１回目!CN29=\"\",\"\",データ入力シート１回目!CN29)+IF(データ入力シート１回目!CN30=\"\",\"\",データ入力シート１回目!CN30)+IF(データ入力シート１回目!CN31=\"\",\"\",データ入力シート１回目!CN31)","v":{"$error":"#VALUE!"}},{"$f":"IF(データ入力シート１回目!CO29=\"\",\"\",データ入力シート１回目!CO29)+IF(データ入力シート１回目!CO30=\"\",\"\",データ入力シート１回目!CO30)+IF(データ入力シート１回目!CO31=\"\",\"\",データ入力シート１回目!CO31)","v":{"$error":"#VALUE!"}},{"$f":"IF(データ入力シート１回目!CP29=\"\",\"\",データ入力シート１回目!CP29)+IF(データ入力シート１回目!CP30=\"\",\"\",データ入力シート１回目!CP30)+IF(データ入力シート１回目!CP31=\"\",\"\",データ入力シート１回目!CP31)","v":{"$error":"#VALUE!"}},{"$f":"IF(データ入力シート１回目!CQ29=\"\",\"\",データ入力シート１回目!CQ29)+IF(データ入力シート１回目!CQ30=\"\",\"\",データ入力シート１回目!CQ30)+IF(データ入力シート１回目!CQ31=\"\",\"\",データ入力シート１回目!CQ31)","v":{"$error":"#VALUE!"}},{"$f":"IF(データ入力シート１回目!CR29=\"\",\"\",データ入力シート１回目!CR29)+IF(データ入力シート１回目!CR30=\"\",\"\",データ入力シート１回目!CR30)+IF(データ入力シート１回目!CR31=\"\",\"\",データ入力シート１回目!CR31)","v":{"$error":"#VALUE!"}},{"$f":"IF(データ入力シート１回目!CS29=\"\",\"\",データ入力シート１回目!CS29)+IF(データ入力シート１回目!CS30=\"\",\"\",データ入力シート１回目!CS30)+IF(データ入力シート１回目!CS31=\"\",\"\",データ入力シート１回目!CS31)","v":{"$error":"#VALUE!"}},{"$f":"IF(データ入力シート１回目!CT29=\"\",\"\",データ入力シート１回目!CT29)+IF(データ入力シート１回目!CT30=\"\",\"\",データ入力シート１回目!CT30)+IF(データ入力シート１回目!CT31=\"\",\"\",データ入力シート１回目!CT31)","v":{"$error":"#VALUE!"}},{"$f":"IF(データ入力シート１回目!CU29=\"\",\"\",データ入力シート１回目!CU29)+IF(データ入力シート１回目!CU30=\"\",\"\",データ入力シート１回目!CU30)+IF(データ入力シート１回目!CU31=\"\",\"\",データ入力シート１回目!CU31)","v":{"$error":"#VALUE!"}},{"$f":"IF(データ入力シート１回目!CV29=\"\",\"\",データ入力シート１回目!CV29)+IF(データ入力シート１回目!CV30=\"\",\"\",データ入力シート１回目!CV30)+IF(データ入力シート１回目!CV31=\"\",\"\",データ入力シート１回目!CV31)","v":{"$error":"#VALUE!"}},{"$f":"IF(データ入力シート１回目!CW29=\"\",\"\",データ入力シート１回目!CW29)+IF(データ入力シート１回目!CW30=\"\",\"\",データ入力シート１回目!CW30)+IF(データ入力シート１回目!CW31=\"\",\"\",データ入力シート１回目!CW31)","v":{"$error":"#VALUE!"}},{"$f":"IF(データ入力シート１回目!CX29=\"\",\"\",データ入力シート１回目!CX29)+IF(データ入力シート１回目!CX30=\"\",\"\",データ入力シート１回目!CX30)+IF(データ入力シート１回目!CX31=\"\",\"\",データ入力シート１回目!CX31)","v":{"$error":"#VALUE!"}},{"$f":"IF(データ入力シート１回目!CY29=\"\",\"\",データ入力シート１回目!CY29)+IF(データ入力シート１回目!CY30=\"\",\"\",データ入力シート１回目!CY30)+IF(データ入力シート１回目!CY31=\"\",\"\",データ入力シート１回目!CY31)","v":{"$error":"#VALUE!"}},{"$f":"IF(データ入力シート１回目!CZ29=\"\",\"\",データ入力シート１回目!CZ29)+IF(データ入力シート１回目!CZ30=\"\",\"\",データ入力シート１回目!CZ30)+IF(データ入力シート１回目!CZ31=\"\",\"\",データ入力シート１回目!CZ31)","v":{"$error":"#VALUE!"}}]
["物的資源について","P",{"$f":"IF(データ入力シート１回目!E32=\"\",\"\",データ入力シート１回目!E32)+IF(データ入力シート１回目!E33=\"\",\"\",データ入力シート１回目!E33)+IF(データ入力シート１回目!E34=\"\",\"\",データ入力シート１回目!E34)","v":{"$error":"#VALUE!"}},{"$f":"IF(データ入力シート１回目!F32=\"\",\"\",データ入力シート１回目!F32)+IF(データ入力シート１回目!F33=\"\",\"\",データ入力シート１回目!F33)+IF(データ入力シート１回目!F34=\"\",\"\",データ入力シート１回目!F34)","v":{"$error":"#VALUE!"}},{"$f":"IF(データ入力シート１回目!G32=\"\",\"\",データ入力シート１回目!G32)+IF(データ入力シート１回目!G33=\"\",\"\",データ入力シート１回目!G33)+IF(データ入力シート１回目!G34=\"\",\"\",データ入力シート１回目!G34)","v":{"$error":"#VALUE!"}},{"$f":"IF(データ入力シート１回目!H32=\"\",\"\",データ入力シート１回目!H32)+IF(データ入力シート１回目!H33=\"\",\"\",データ入力シート１回目!H33)+IF(データ入力シート１回目!H34=\"\",\"\",データ入力シート１回目!H34)","v":{"$error":"#VALUE!"}},{"$f":"IF(データ入力シート１回目!I32=\"\",\"\",データ入力シート１回目!I32)+IF(データ入力シート１回目!I33=\"\",\"\",データ入力シート１回目!I33)+IF(データ入力シート１回目!I34=\"\",\"\",データ入力シート１回目!I34)","v":{"$error":"#VALUE!"}},{"$f":"IF(データ入力シート１回目!J32=\"\",\"\",データ入力シート１回目!J32)+IF(データ入力シート１回目!J33=\"\",\"\",データ入力シート１回目!J33)+IF(データ入力シート１回目!J34=\"\",\"\",データ入力シート１回目!J34)","v":{"$error":"#VALUE!"}},{"$f":"IF(データ入力シート１回目!K32=\"\",\"\",データ入力シート１回目!K32)+IF(データ入力シート１回目!K33=\"\",\"\",データ入力シート１回目!K33)+IF(データ入力シート１回目!K34=\"\",\"\",データ入力シート１回目!K34)","v":{"$error":"#VALUE!"}},{"$f":"IF(データ入力シート１回目!L32=\"\",\"\",データ入力シート１回目!L32)+IF(データ入力シート１回目!L33=\"\",\"\",データ入力シート１回目!L33)+IF(データ入力シート１回目!L34=\"\",\"\",データ入力シート１回目!L34)","v":{"$error":"#VALUE!"}},{"$f":"IF(データ入力シート１回目!M32=\"\",\"\",データ入力シート１回目!M32)+IF(データ入力シート１回目!M33=\"\",\"\",データ入力シート１回目!M33)+IF(データ入力シート１回目!M34=\"\",\"\",データ入力シート１回目!M34)","v":{"$error":"#VALUE!"}},{"$f":"IF(データ入力シート１回目!N32=\"\",\"\",データ入力シート１回目!N32)+IF(データ入力シート１回目!N33=\"\",\"\",データ入力シート１回目!N33)+IF(データ入力シート１回目!N34=\"\",\"\",データ入力シート１回目!N34)","v":{"$error":"#VALUE!"}},{"$f":"IF(データ入力シート１回目!O32=\"\",\"\",データ入力シート１回目!O32)+IF(データ入力シート１回目!O33=\"\",\"\",データ入力シート１回目!O33)+IF(データ入力シート１回目!O34=\"\",\"\",データ入力シート１回目!O34)","v":{"$error":"#VALUE!"}},{"$f":"IF(データ入力シート１回目!P32=\"\",\"\",データ入力シート１回目!P32)+IF(データ入力シート１回目!P33=\"\",\"\",データ入力シート１回目!P33)+IF(データ入力シート１回目!P34=\"\",\"\",データ入力シート１回目!P34)","v":{"$error":"#VALUE!"}},{"$f":"IF(データ入力シート１回目!Q32=\"\",\"\",データ入力シート１回目!Q32)+IF(データ入力シート１回目!Q33=\"\",\"\",データ入力シート１回目!Q33)+IF(データ入力シート１回目!Q34=\"\",\"\",データ入力シート１回目!Q34)","v":{"$error":"#VALUE!"}},{"$f":"IF(データ入力シート１回目!R32=\"\",\"\",データ入力シート１回目!R32)+IF(データ入力シート１回目!R33=\"\",\"\",データ入力シート１回目!R33)+IF(データ入力シート１回目!R34=\"\",\"\",データ入力シート１回目!R34)","v":{"$error":"#VALUE!"}},{"$f":"IF(データ入力シート１回目!S32=\"\",\"\",データ入力シート１回目!S32)+IF(データ入力シート１回目!S33=\"\",\"\",データ入力シート１回目!S33)+IF(データ入力シート１回目!S34=\"\",\"\",データ入力シート１回目!S34)","v":{"$error":"#VALUE!"}},{"$f":"IF(データ入力シート１回目!T32=\"\",\"\",データ入力シート１回目!T32)+IF(データ入力シート１回目!T33=\"\",\"\",データ入力シート１回目!T33)+IF(データ入力シート１回目!T34=\"\",\"\",データ入力シート１回目!T34)","v":{"$error":"#VALUE!"}},{"$f":"IF(データ入力シート１回目!U32=\"\",\"\",データ入力シート１回目!U32)+IF(データ入力シート１回目!U33=\"\",\"\",データ入力シート１回目!U33)+IF(データ入力シート１回目!U34=\"\",\"\",データ入力シート１回目!U34)","v":{"$error":"#VALUE!"}},{"$f":"IF(データ入力シート１回目!V32=\"\",\"\",データ入力シート１回目!V32)+IF(データ入力シート１回目!V33=\"\",\"\",データ入力シート１回目!V33)+IF(データ入力シート１回目!V34=\"\",\"\",データ入力シート１回目!V34)","v":{"$error":"#VALUE!"}},{"$f":"IF(データ入力シート１回目!W32=\"\",\"\",データ入力シート１回目!W32)+IF(データ入力シート１回目!W33=\"\",\"\",データ入力シート１回目!W33)+IF(データ入力シート１回目!W34=\"\",\"\",データ入力シート１回目!W34)","v":{"$error":"#VALUE!"}},{"$f":"IF(データ入力シート１回目!X32=\"\",\"\",データ入力シート１回目!X32)+IF(データ入力シート１回目!X33=\"\",\"\",データ入力シート１回目!X33)+IF(データ入力シート１回目!X34=\"\",\"\",データ入力シート１回目!X34)","v":{"$error":"#VALUE!"}},{"$f":"IF(データ入力シート１回目!Y32=\"\",\"\",データ入力シート１回目!Y32)+IF(データ入力シート１回目!Y33=\"\",\"\",データ入力シート１回目!Y33)+IF(データ入力シート１回目!Y34=\"\",\"\",データ入力シート１回目!Y34)","v":{"$error":"#VALUE!"}},{"$f":"IF(データ入力シート１回目!Z32=\"\",\"\",データ入力シート１回目!Z32)+IF(データ入力シート１回目!Z33=\"\",\"\",データ入力シート１回目!Z33)+IF(データ入力シート１回目!Z34=\"\",\"\",データ入力シート１回目!Z34)","v":{"$error":"#VALUE!"}},{"$f":"IF(データ入力シート１回目!AA32=\"\",\"\",データ入力シート１回目!AA32)+IF(データ入力シート１回目!AA33=\"\",\"\",データ入力シート１回目!AA33)+IF(データ入力シート１回目!AA34=\"\",\"\",データ入力シート１回目!AA34)","v":{"$error":"#VALUE!"}},{"$f":"IF(データ入力シート１回目!AB32=\"\",\"\",データ入力シート１回目!AB32)+IF(データ入力シート１回目!AB33=\"\",\"\",データ入力シート１回目!AB33)+IF(データ入力シート１回目!AB34=\"\",\"\",データ入力シート１回目!AB34)","v":{"$error":"#VALUE!"}},{"$f":"IF(データ入力シート１回目!AC32=\"\",\"\",データ入力シート１回目!AC32)+IF(データ入力シート１回目!AC33=\"\",\"\",データ入力シート１回目!AC33)+IF(データ入力シート１回目!AC34=\"\",\"\",データ入力シート１回目!AC34)","v":{"$error":"#VALUE!"}},{"$f":"IF(データ入力シート１回目!AD32=\"\",\"\",データ入力シート１回目!AD32)+IF(データ入力シート１回目!AD33=\"\",\"\",データ入力シート１回目!AD33)+IF(データ入力シート１回目!AD34=\"\",\"\",データ入力シート１回目!AD34)","v":{"$error":"#VALUE!"}},{"$f":"IF(データ入力シート１回目!AE32=\"\",\"\",データ入力シート１回目!AE32)+IF(データ入力シート１回目!AE33=\"\",\"\",データ入力シート１回目!AE33)+IF(データ入力シート１回目!AE34=\"\",\"\",データ入力シート１回目!AE34)","v":{"$error":"#VALUE!"}},{"$f":"IF(データ入力シート１回目!AF32=\"\",\"\",データ入力シート１回目!AF32)+IF(データ入力シート１回目!AF33=\"\",\"\",データ入力シート１回目!AF33)+IF(データ入力シート１回目!AF34=\"\",\"\",データ入力シート１回目!AF34)","v":{"$error":"#VALUE!"}},{"$f":"IF(データ入力シート１回目!AG32=\"\",\"\",データ入力シート１回目!AG32)+IF(データ入力シート１回目!AG33=\"\",\"\",データ入力シート１回目!AG33)+IF(データ入力シート１回目!AG34=\"\",\"\",データ入力シート１回目!AG34)","v":{"$error":"#VALUE!"}},{"$f":"IF(データ入力シート１回目!AH32=\"\",\"\",データ入力シート１回目!AH32)+IF(データ入力シート１回目!AH33=\"\",\"\",データ入力シート１回目!AH33)+IF(データ入力シート１回目!AH34=\"\",\"\",データ入力シート１回目!AH34)","v":{"$error":"#VALUE!"}},{"$f":"IF(データ入力シート１回目!AI32=\"\",\"\",データ入力シート１回目!AI32)+IF(データ入力シート１回目!AI33=\"\",\"\",データ入力シート１回目!AI33)+IF(データ入力シート１回目!AI34=\"\",\"\",データ入力シート１回目!AI34)","v":{"$error":"#VALUE!"}},{"$f":"IF(データ入力シート１回目!AJ32=\"\",\"\",データ入力シート１回目!AJ32)+IF(データ入力シート１回目!AJ33=\"\",\"\",データ入力シート１回目!AJ33)+IF(データ入力シート１回目!AJ34=\"\",\"\",データ入力シート１回目!AJ34)","v":{"$error":"#VALUE!"}},{"$f":"IF(データ入力シート１回目!AK32=\"\",\"\",データ入力シート１回目!AK32)+IF(データ入力シート１回目!AK33=\"\",\"\",データ入力シート１回目!AK33)+IF(データ入力シート１回目!AK34=\"\",\"\",データ入力シート１回目!AK34)","v":{"$error":"#VALUE!"}},{"$f":"IF(データ入力シート１回目!AL32=\"\",\"\",データ入力シート１回目!AL32)+IF(データ入力シート１回目!AL33=\"\",\"\",データ入力シート１回目!AL33)+IF(データ入力シート１回目!AL34=\"\",\"\",データ入力シート１回目!AL34)","v":{"$error":"#VALUE!"}},{"$f":"IF(データ入力シート１回目!AM32=\"\",\"\",データ入力シート１回目!AM32)+IF(データ入力シート１回目!AM33=\"\",\"\",データ入力シート１回目!AM33)+IF(データ入力シート１回目!AM34=\"\",\"\",データ入力シート１回目!AM34)","v":{"$error":"#VALUE!"}},{"$f":"IF(データ入力シート１回目!AN32=\"\",\"\",データ入力シート１回目!AN32)+IF(データ入力シート１回目!AN33=\"\",\"\",データ入力シート１回目!AN33)+IF(データ入力シート１回目!AN34=\"\",\"\",データ入力シート１回目!AN34)","v":{"$error":"#VALUE!"}},{"$f":"IF(データ入力シート１回目!AO32=\"\",\"\",データ入力シート１回目!AO32)+IF(データ入力シート１回目!AO33=\"\",\"\",データ入力シート１回目!AO33)+IF(データ入力シート１回目!AO34=\"\",\"\",データ入力シート１回目!AO34)","v":{"$error":"#VALUE!"}},{"$f":"IF(データ入力シート１回目!AP32=\"\",\"\",データ入力シート１回目!AP32)+IF(データ入力シート１回目!AP33=\"\",\"\",データ入力シート１回目!AP33)+IF(データ入力シート１回目!AP34=\"\",\"\",データ入力シート１回目!AP34)","v":{"$error":"#VALUE!"}},{"$f":"IF(データ入力シート１回目!AQ32=\"\",\"\",データ入力シート１回目!AQ32)+IF(データ入力シート１回目!AQ33=\"\",\"\",データ入力シート１回目!AQ33)+IF(データ入力シート１回目!AQ34=\"\",\"\",データ入力シート１回目!AQ34)","v":{"$error":"#VALUE!"}},{"$f":"IF(データ入力シート１回目!AR32=\"\",\"\",データ入力シート１回目!AR32)+IF(データ入力シート１回目!AR33=\"\",\"\",データ入力シート１回目!AR33)+IF(データ入力シート１回目!AR34=\"\",\"\",データ入力シート１回目!AR34)","v":{"$error":"#VALUE!"}},{"$f":"IF(データ入力シート１回目!AS32=\"\",\"\",データ入力シート１回目!AS32)+IF(データ入力シート１回目!AS33=\"\",\"\",データ入力シート１回目!AS33)+IF(データ入力シート１回目!AS34=\"\",\"\",データ入力シート１回目!AS34)","v":{"$error":"#VALUE!"}},{"$f":"IF(データ入力シート１回目!AT32=\"\",\"\",データ入力シート１回目!AT32)+IF(データ入力シート１回目!AT33=\"\",\"\",データ入力シート１回目!AT33)+IF(データ入力シート１回目!AT34=\"\",\"\",データ入力シート１回目!AT34)","v":{"$error":"#VALUE!"}},{"$f":"IF(データ入力シート１回目!AU32=\"\",\"\",データ入力シート１回目!AU32)+IF(データ入力シート１回目!AU33=\"\",\"\",データ入力シート１回目!AU33)+IF(データ入力シート１回目!AU34=\"\",\"\",データ入力シート１回目!AU34)","v":{"$error":"#VALUE!"}},{"$f":"IF(データ入力シート１回目!AV32=\"\",\"\",データ入力シート１回目!AV32)+IF(データ入力シート１回目!AV33=\"\",\"\",データ入力シート１回目!AV33)+IF(データ入力シート１回目!AV34=\"\",\"\",データ入力シート１回目!AV34)","v":{"$error":"#VALUE!"}},{"$f":"IF(データ入力シート１回目!AW32=\"\",\"\",データ入力シート１回目!AW32)+IF(データ入力シート１回目!AW33=\"\",\"\",データ入力シート１回目!AW33)+IF(データ入力シート１回目!AW34=\"\",\"\",データ入力シート１回目!AW34)","v":{"$error":"#VALUE!"}},{"$f":"IF(データ入力シート１回目!AX32=\"\",\"\",データ入力シート１回目!AX32)+IF(データ入力シート１回目!AX33=\"\",\"\",データ入力シート１回目!AX33)+IF(データ入力シート１回目!AX34=\"\",\"\",データ入力シート１回目!AX34)","v":{"$error":"#VALUE!"}},{"$f":"IF(データ入力シート１回目!AY32=\"\",\"\",データ入力シート１回目!AY32)+IF(データ入力シート１回目!AY33=\"\",\"\",データ入力シート１回目!AY33)+IF(データ入力シート１回目!AY34=\"\",\"\",データ入力シート１回目!AY34)","v":{"$error":"#VALUE!"}},{"$f":"IF(データ入力シート１回目!AZ32=\"\",\"\",データ入力シート１回目!AZ32)+IF(データ入力シート１回目!AZ33=\"\",\"\",データ入力シート１回目!AZ33)+IF(データ入力シート１回目!AZ34=\"\",\"\",データ入力シート１回目!AZ34)","v":{"$error":"#VALUE!"}},{"$f":"IF(データ入力シート１回目!BA32=\"\",\"\",データ入力シート１回目!BA32)+IF(データ入力シート１回目!BA33=\"\",\"\",データ入力シート１回目!BA33)+IF(データ入力シート１回目!BA34=\"\",\"\",データ入力シート１回目!BA34)","v":{"$error":"#VALUE!"}},{"$f":"IF(データ入力シート１回目!BB32=\"\",\"\",データ入力シート１回目!BB32)+IF(データ入力シート１回目!BB33=\"\",\"\",データ入力シート１回目!BB33)+IF(データ入力シート１回目!BB34=\"\",\"\",データ入力シート１回目!BB34)","v":{"$error":"#VALUE!"}},{"$f":"IF(データ入力シート１回目!BC32=\"\",\"\",データ入力シート１回目!BC32)+IF(データ入力シート１回目!BC33=\"\",\"\",データ入力シート１回目!BC33)+IF(データ入力シート１回目!BC34=\"\",\"\",データ入力シート１回目!BC34)","v":{"$error":"#VALUE!"}},{"$f":"IF(データ入力シート１回目!BD32=\"\",\"\",データ入力シート１回目!BD32)+IF(データ入力シート１回目!BD33=\"\",\"\",データ入力シート１回目!BD33)+IF(データ入力シート１回目!BD34=\"\",\"\",データ入力シート１回目!BD34)","v":{"$error":"#VALUE!"}},{"$f":"IF(データ入力シート１回目!BE32=\"\",\"\",データ入力シート１回目!BE32)+IF(データ入力シート１回目!BE33=\"\",\"\",データ入力シート１回目!BE33)+IF(データ入力シート１回目!BE34=\"\",\"\",データ入力シート１回目!BE34)","v":{"$error":"#VALUE!"}},{"$f":"IF(データ入力シート１回目!BF32=\"\",\"\",データ入力シート１回目!BF32)+IF(データ入力シート１回目!BF33=\"\",\"\",データ入力シート１回目!BF33)+IF(データ入力シート１回目!BF34=\"\",\"\",データ入力シート１回目!BF34)","v":{"$error":"#VALUE!"}},{"$f":"IF(データ入力シート１回目!BG32=\"\",\"\",データ入力シート１回目!BG32)+IF(データ入力シート１回目!BG33=\"\",\"\",データ入力シート１回目!BG33)+IF(データ入力シート１回目!BG34=\"\",\"\",データ入力シート１回目!BG34)","v":{"$error":"#VALUE!"}},{"$f":"IF(データ入力シート１回目!BH32=\"\",\"\",データ入力シート１回目!BH32)+IF(データ入力シート１回目!BH33=\"\",\"\",データ入力シート１回目!BH33)+IF(データ入力シート１回目!BH34=\"\",\"\",データ入力シート１回目!BH34)","v":{"$error":"#VALUE!"}},{"$f":"IF(データ入力シート１回目!BI32=\"\",\"\",データ入力シート１回目!BI32)+IF(データ入力シート１回目!BI33=\"\",\"\",データ入力シート１回目!BI33)+IF(データ入力シート１回目!BI34=\"\",\"\",データ入力シート１回目!BI34)","v":{"$error":"#VALUE!"}},{"$f":"IF(データ入力シート１回目!BJ32=\"\",\"\",データ入力シート１回目!BJ32)+IF(データ入力シート１回目!BJ33=\"\",\"\",データ入力シート１回目!BJ33)+IF(データ入力シート１回目!BJ34=\"\",\"\",データ入力シート１回目!BJ34)","v":{"$error":"#VALUE!"}},{"$f":"IF(データ入力シート１回目!BK32=\"\",\"\",データ入力シート１回目!BK32)+IF(データ入力シート１回目!BK33=\"\",\"\",データ入力シート１回目!BK33)+IF(データ入力シート１回目!BK34=\"\",\"\",データ入力シート１回目!BK34)","v":{"$error":"#VALUE!"}},{"$f":"IF(データ入力シート１回目!BL32=\"\",\"\",データ入力シート１回目!BL32)+IF(データ入力シート１回目!BL33=\"\",\"\",データ入力シート１回目!BL33)+IF(データ入力シート１回目!BL34=\"\",\"\",データ入力シート１回目!BL34)","v":{"$error":"#VALUE!"}},{"$f":"IF(データ入力シート１回目!BM32=\"\",\"\",データ入力シート１回目!BM32)+IF(データ入力シート１回目!BM33=\"\",\"\",データ入力シート１回目!BM33)+IF(データ入力シート１回目!BM34=\"\",\"\",データ入力シート１回目!BM34)","v":{"$error":"#VALUE!"}},{"$f":"IF(データ入力シート１回目!BN32=\"\",\"\",データ入力シート１回目!BN32)+IF(データ入力シート１回目!BN33=\"\",\"\",データ入力シート１回目!BN33)+IF(データ入力シート１回目!BN34=\"\",\"\",データ入力シート１回目!BN34)","v":{"$error":"#VALUE!"}},{"$f":"IF(データ入力シート１回目!BO32=\"\",\"\",データ入力シート１回目!BO32)+IF(データ入力シート１回目!BO33=\"\",\"\",データ入力シート１回目!BO33)+IF(データ入力シート１回目!BO34=\"\",\"\",データ入力シート１回目!BO34)","v":{"$error":"#VALUE!"}},{"$f":"IF(データ入力シート１回目!BP32=\"\",\"\",データ入力シート１回目!BP32)+IF(データ入力シート１回目!BP33=\"\",\"\",データ入力シート１回目!BP33)+IF(データ入力シート１回目!BP34=\"\",\"\",データ入力シート１回目!BP34)","v":{"$error":"#VALUE!"}},{"$f":"IF(データ入力シート１回目!BQ32=\"\",\"\",データ入力シート１回目!BQ32)+IF(データ入力シート１回目!BQ33=\"\",\"\",データ入力シート１回目!BQ33)+IF(データ入力シート１回目!BQ34=\"\",\"\",データ入力シート１回目!BQ34)","v":{"$error":"#VALUE!"}},{"$f":"IF(データ入力シート１回目!BR32=\"\",\"\",データ入力シート１回目!BR32)+IF(データ入力シート１回目!BR33=\"\",\"\",データ入力シート１回目!BR33)+IF(データ入力シート１回目!BR34=\"\",\"\",データ入力シート１回目!BR34)","v":{"$error":"#VALUE!"}},{"$f":"IF(データ入力シート１回目!BS32=\"\",\"\",データ入力シート１回目!BS32)+IF(データ入力シート１回目!BS33=\"\",\"\",データ入力シート１回目!BS33)+IF(データ入力シート１回目!BS34=\"\",\"\",データ入力シート１回目!BS34)","v":{"$error":"#VALUE!"}},{"$f":"IF(データ入力シート１回目!BT32=\"\",\"\",データ入力シート１回目!BT32)+IF(データ入力シート１回目!BT33=\"\",\"\",データ入力シート１回目!BT33)+IF(データ入力シート１回目!BT34=\"\",\"\",データ入力シート１回目!BT34)","v":{"$error":"#VALUE!"}},{"$f":"IF(データ入力シート１回目!BU32=\"\",\"\",データ入力シート１回目!BU32)+IF(データ入力シート１回目!BU33=\"\",\"\",データ入力シート１回目!BU33)+IF(データ入力シート１回目!BU34=\"\",\"\",データ入力シート１回目!BU34)","v":{"$error":"#VALUE!"}},{"$f":"IF(データ入力シート１回目!BV32=\"\",\"\",データ入力シート１回目!BV32)+IF(データ入力シート１回目!BV33=\"\",\"\",データ入力シート１回目!BV33)+IF(データ入力シート１回目!BV34=\"\",\"\",データ入力シート１回目!BV34)","v":{"$error":"#VALUE!"}},{"$f":"IF(データ入力シート１回目!BW32=\"\",\"\",データ入力シート１回目!BW32)+IF(データ入力シート１回目!BW33=\"\",\"\",データ入力シート１回目!BW33)+IF(データ入力シート１回目!BW34=\"\",\"\",データ入力シート１回目!BW34)","v":{"$error":"#VALUE!"}},{"$f":"IF(データ入力シート１回目!BX32=\"\",\"\",データ入力シート１回目!BX32)+IF(データ入力シート１回目!BX33=\"\",\"\",データ入力シート１回目!BX33)+IF(データ入力シート１回目!BX34=\"\",\"\",データ入力シート１回目!BX34)","v":{"$error":"#VALUE!"}},{"$f":"IF(データ入力シート１回目!BY32=\"\",\"\",データ入力シート１回目!BY32)+IF(データ入力シート１回目!BY33=\"\",\"\",データ入力シート１回目!BY33)+IF(データ入力シート１回目!BY34=\"\",\"\",データ入力シート１回目!BY34)","v":{"$error":"#VALUE!"}},{"$f":"IF(データ入力シート１回目!BZ32=\"\",\"\",データ入力シート１回目!BZ32)+IF(データ入力シート１回目!BZ33=\"\",\"\",データ入力シート１回目!BZ33)+IF(データ入力シート１回目!BZ34=\"\",\"\",データ入力シート１回目!BZ34)","v":{"$error":"#VALUE!"}},{"$f":"IF(データ入力シート１回目!CA32=\"\",\"\",データ入力シート１回目!CA32)+IF(データ入力シート１回目!CA33=\"\",\"\",データ入力シート１回目!CA33)+IF(データ入力シート１回目!CA34=\"\",\"\",データ入力シート１回目!CA34)","v":{"$error":"#VALUE!"}},{"$f":"IF(データ入力シート１回目!CB32=\"\",\"\",データ入力シート１回目!CB32)+IF(データ入力シート１回目!CB33=\"\",\"\",データ入力シート１回目!CB33)+IF(データ入力シート１回目!CB34=\"\",\"\",データ入力シート１回目!CB34)","v":{"$error":"#VALUE!"}},{"$f":"IF(データ入力シート１回目!CC32=\"\",\"\",データ入力シート１回目!CC32)+IF(データ入力シート１回目!CC33=\"\",\"\",データ入力シート１回目!CC33)+IF(データ入力シート１回目!CC34=\"\",\"\",データ入力シート１回目!CC34)","v":{"$error":"#VALUE!"}},{"$f":"IF(データ入力シート１回目!CD32=\"\",\"\",データ入力シート１回目!CD32)+IF(データ入力シート１回目!CD33=\"\",\"\",データ入力シート１回目!CD33)+IF(データ入力シート１回目!CD34=\"\",\"\",データ入力シート１回目!CD34)","v":{"$error":"#VALUE!"}},{"$f":"IF(データ入力シート１回目!CE32=\"\",\"\",データ入力シート１回目!CE32)+IF(データ入力シート１回目!CE33=\"\",\"\",データ入力シート１回目!CE33)+IF(データ入力シート１回目!CE34=\"\",\"\",データ入力シート１回目!CE34)","v":{"$error":"#VALUE!"}},{"$f":"IF(データ入力シート１回目!CF32=\"\",\"\",データ入力シート１回目!CF32)+IF(データ入力シート１回目!CF33=\"\",\"\",データ入力シート１回目!CF33)+IF(データ入力シート１回目!CF34=\"\",\"\",データ入力シート１回目!CF34)","v":{"$error":"#VALUE!"}},{"$f":"IF(データ入力シート１回目!CG32=\"\",\"\",データ入力シート１回目!CG32)+IF(データ入力シート１回目!CG33=\"\",\"\",データ入力シート１回目!CG33)+IF(データ入力シート１回目!CG34=\"\",\"\",データ入力シート１回目!CG34)","v":{"$error":"#VALUE!"}},{"$f":"IF(データ入力シート１回目!CH32=\"\",\"\",データ入力シート１回目!CH32)+IF(データ入力シート１回目!CH33=\"\",\"\",データ入力シート１回目!CH33)+IF(データ入力シート１回目!CH34=\"\",\"\",データ入力シート１回目!CH34)","v":{"$error":"#VALUE!"}},{"$f":"IF(データ入力シート１回目!CI32=\"\",\"\",データ入力シート１回目!CI32)+IF(データ入力シート１回目!CI33=\"\",\"\",データ入力シート１回目!CI33)+IF(データ入力シート１回目!CI34=\"\",\"\",データ入力シート１回目!CI34)","v":{"$error":"#VALUE!"}},{"$f":"IF(データ入力シート１回目!CJ32=\"\",\"\",データ入力シート１回目!CJ32)+IF(データ入力シート１回目!CJ33=\"\",\"\",データ入力シート１回目!CJ33)+IF(データ入力シート１回目!CJ34=\"\",\"\",データ入力シート１回目!CJ34)","v":{"$error":"#VALUE!"}},{"$f":"IF(データ入力シート１回目!CK32=\"\",\"\",データ入力シート１回目!CK32)+IF(データ入力シート１回目!CK33=\"\",\"\",データ入力シート１回目!CK33)+IF(データ入力シート１回目!CK34=\"\",\"\",データ入力シート１回目!CK34)","v":{"$error":"#VALUE!"}},{"$f":"IF(データ入力シート１回目!CL32=\"\",\"\",データ入力シート１回目!CL32)+IF(データ入力シート１回目!CL33=\"\",\"\",データ入力シート１回目!CL33)+IF(データ入力シート１回目!CL34=\"\",\"\",データ入力シート１回目!CL34)","v":{"$error":"#VALUE!"}},{"$f":"IF(データ入力シート１回目!CM32=\"\",\"\",データ入力シート１回目!CM32)+IF(データ入力シート１回目!CM33=\"\",\"\",データ入力シート１回目!CM33)+IF(データ入力シート１回目!CM34=\"\",\"\",データ入力シート１回目!CM34)","v":{"$error":"#VALUE!"}},{"$f":"IF(データ入力シート１回目!CN32=\"\",\"\",データ入力シート１回目!CN32)+IF(データ入力シート１回目!CN33=\"\",\"\",データ入力シート１回目!CN33)+IF(データ入力シート１回目!CN34=\"\",\"\",データ入力シート１回目!CN34)","v":{"$error":"#VALUE!"}},{"$f":"IF(データ入力シート１回目!CO32=\"\",\"\",データ入力シート１回目!CO32)+IF(データ入力シート１回目!CO33=\"\",\"\",データ入力シート１回目!CO33)+IF(データ入力シート１回目!CO34=\"\",\"\",データ入力シート１回目!CO34)","v":{"$error":"#VALUE!"}},{"$f":"IF(データ入力シート１回目!CP32=\"\",\"\",データ入力シート１回目!CP32)+IF(データ入力シート１回目!CP33=\"\",\"\",データ入力シート１回目!CP33)+IF(データ入力シート１回目!CP34=\"\",\"\",データ入力シート１回目!CP34)","v":{"$error":"#VALUE!"}},{"$f":"IF(データ入力シート１回目!CQ32=\"\",\"\",データ入力シート１回目!CQ32)+IF(データ入力シート１回目!CQ33=\"\",\"\",データ入力シート１回目!CQ33)+IF(データ入力シート１回目!CQ34=\"\",\"\",データ入力シート１回目!CQ34)","v":{"$error":"#VALUE!"}},{"$f":"IF(データ入力シート１回目!CR32=\"\",\"\",データ入力シート１回目!CR32)+IF(データ入力シート１回目!CR33=\"\",\"\",データ入力シート１回目!CR33)+IF(データ入力シート１回目!CR34=\"\",\"\",データ入力シート１回目!CR34)","v":{"$error":"#VALUE!"}},{"$f":"IF(データ入力シート１回目!CS32=\"\",\"\",データ入力シート１回目!CS32)+IF(データ入力シート１回目!CS33=\"\",\"\",データ入力シート１回目!CS33)+IF(データ入力シート１回目!CS34=\"\",\"\",データ入力シート１回目!CS34)","v":{"$error":"#VALUE!"}},{"$f":"IF(データ入力シート１回目!CT32=\"\",\"\",データ入力シート１回目!CT32)+IF(データ入力シート１回目!CT33=\"\",\"\",データ入力シート１回目!CT33)+IF(データ入力シート１回目!CT34=\"\",\"\",データ入力シート１回目!CT34)","v":{"$error":"#VALUE!"}},{"$f":"IF(データ入力シート１回目!CU32=\"\",\"\",データ入力シート１回目!CU32)+IF(データ入力シート１回目!CU33=\"\",\"\",データ入力シート１回目!CU33)+IF(データ入力シート１回目!CU34=\"\",\"\",データ入力シート１回目!CU34)","v":{"$error":"#VALUE!"}},{"$f":"IF(データ入力シート１回目!CV32=\"\",\"\",データ入力シート１回目!CV32)+IF(データ入力シート１回目!CV33=\"\",\"\",データ入力シート１回目!CV33)+IF(データ入力シート１回目!CV34=\"\",\"\",データ入力シート１回目!CV34)","v":{"$error":"#VALUE!"}},{"$f":"IF(データ入力シート１回目!CW32=\"\",\"\",データ入力シート１回目!CW32)+IF(データ入力シート１回目!CW33=\"\",\"\",データ入力シート１回目!CW33)+IF(データ入力シート１回目!CW34=\"\",\"\",データ入力シート１回目!CW34)","v":{"$error":"#VALUE!"}},{"$f":"IF(データ入力シート１回目!CX32=\"\",\"\",データ入力シート１回目!CX32)+IF(データ入力シート１回目!CX33=\"\",\"\",データ入力シート１回目!CX33)+IF(データ入力シート１回目!CX34=\"\",\"\",データ入力シート１回目!CX34)","v":{"$error":"#VALUE!"}},{"$f":"IF(データ入力シート１回目!CY32=\"\",\"\",データ入力シート１回目!CY32)+IF(データ入力シート１回目!CY33=\"\",\"\",データ入力シート１回目!CY33)+IF(データ入力シート１回目!CY34=\"\",\"\",データ入力シート１回目!CY34)","v":{"$error":"#VALUE!"}},{"$f":"IF(データ入力シート１回目!CZ32=\"\",\"\",データ入力シート１回目!CZ32)+IF(データ入力シート１回目!CZ33=\"\",\"\",データ入力シート１回目!CZ33)+IF(データ入力シート１回目!CZ34=\"\",\"\",データ入力シート１回目!CZ34)","v":{"$error":"#VALUE!"}}]
[null,"D",{"$f":"IF(データ入力シート１回目!E35=\"\",\"\",データ入力シート１回目!E35)+IF(データ入力シート１回目!E36=\"\",\"\",データ入力シート１回目!E36)+IF(データ入力シート１回目!E37=\"\",\"\",データ入力シート１回目!E37)","v":{"$error":"#VALUE!"}},{"$f":"IF(データ入力シート１回目!F35=\"\",\"\",データ入力シート１回目!F35)+IF(データ入力シート１回目!F36=\"\",\"\",データ入力シート１回目!F36)+IF(データ入力シート１回目!F37=\"\",\"\",データ入力シート１回目!F37)","v":{"$error":"#VALUE!"}},{"$f":"IF(データ入力シート１回目!G35=\"\",\"\",データ入力シート１回目!G35)+IF(データ入力シート１回目!G36=\"\",\"\",データ入力シート１回目!G36)+IF(データ入力シート１回目!G37=\"\",\"\",データ入力シート１回目!G37)","v":{"$error":"#VALUE!"}},{"$f":"IF(データ入力シート１回目!H35=\"\",\"\",データ入力シート１回目!H35)+IF(データ入力シート１回目!H36=\"\",\"\",データ入力シート１回目!H36)+IF(データ入力シート１回目!H37=\"\",\"\",データ入力シート１回目!H37)","v":{"$error":"#VALUE!"}},{"$f":"IF(データ入力シート１回目!I35=\"\",\"\",データ入力シート１回目!I35)+IF(データ入力シート１回目!I36=\"\",\"\",データ入力シート１回目!I36)+IF(データ入力シート１回目!I37=\"\",\"\",データ入力シート１回目!I37)","v":{"$error":"#VALUE!"}},{"$f":"IF(データ入力シート１回目!J35=\"\",\"\",データ入力シート１回目!J35)+IF(データ入力シート１回目!J36=\"\",\"\",データ入力シート１回目!J36)+IF(データ入力シート１回目!J37=\"\",\"\",データ入力シート１回目!J37)","v":{"$error":"#VALUE!"}},{"$f":"IF(データ入力シート１回目!K35=\"\",\"\",データ入力シート１回目!K35)+IF(データ入力シート１回目!K36=\"\",\"\",データ入力シート１回目!K36)+IF(データ入力シート１回目!K37=\"\",\"\",データ入力シート１回目!K37)","v":{"$error":"#VALUE!"}},{"$f":"IF(データ入力シート１回目!L35=\"\",\"\",データ入力シート１回目!L35)+IF(データ入力シート１回目!L36=\"\",\"\",データ入力シート１回目!L36)+IF(データ入力シート１回目!L37=\"\",\"\",データ入力シート１回目!L37)","v":{"$error":"#VALUE!"}},{"$f":"IF(データ入力シート１回目!M35=\"\",\"\",データ入力シート１回目!M35)+IF(データ入力シート１回目!M36=\"\",\"\",データ入力シート１回目!M36)+IF(データ入力シート１回目!M37=\"\",\"\",データ入力シート１回目!M37)","v":{"$error":"#VALUE!"}},{"$f":"IF(データ入力シート１回目!N35=\"\",\"\",データ入力シート１回目!N35)+IF(データ入力シート１回目!N36=\"\",\"\",データ入力シート１回目!N36)+IF(データ入力シート１回目!N37=\"\",\"\",データ入力シート１回目!N37)","v":{"$error":"#VALUE!"}},{"$f":"IF(データ入力シート１回目!O35=\"\",\"\",データ入力シート１回目!O35)+IF(データ入力シート１回目!O36=\"\",\"\",データ入力シート１回目!O36)+IF(データ入力シート１回目!O37=\"\",\"\",データ入力シート１回目!O37)","v":{"$error":"#VALUE!"}},{"$f":"IF(データ入力シート１回目!P35=\"\",\"\",データ入力シート１回目!P35)+IF(データ入力シート１回目!P36=\"\",\"\",データ入力シート１回目!P36)+IF(データ入力シート１回目!P37=\"\",\"\",データ入力シート１回目!P37)","v":{"$error":"#VALUE!"}},{"$f":"IF(データ入力シート１回目!Q35=\"\",\"\",データ入力シート１回目!Q35)+IF(データ入力シート１回目!Q36=\"\",\"\",データ入力シート１回目!Q36)+IF(データ入力シート１回目!Q37=\"\",\"\",データ入力シート１回目!Q37)","v":{"$error":"#VALUE!"}},{"$f":"IF(データ入力シート１回目!R35=\"\",\"\",データ入力シート１回目!R35)+IF(データ入力シート１回目!R36=\"\",\"\",データ入力シート１回目!R36)+IF(データ入力シート１回目!R37=\"\",\"\",データ入力シート１回目!R37)","v":{"$error":"#VALUE!"}},{"$f":"IF(データ入力シート１回目!S35=\"\",\"\",データ入力シート１回目!S35)+IF(データ入力シート１回目!S36=\"\",\"\",データ入力シート１回目!S36)+IF(データ入力シート１回目!S37=\"\",\"\",データ入力シート１回目!S37)","v":{"$error":"#VALUE!"}},{"$f":"IF(データ入力シート１回目!T35=\"\",\"\",データ入力シート１回目!T35)+IF(データ入力シート１回目!T36=\"\",\"\",データ入力シート１回目!T36)+IF(データ入力シート１回目!T37=\"\",\"\",データ入力シート１回目!T37)","v":{"$error":"#VALUE!"}},{"$f":"IF(データ入力シート１回目!U35=\"\",\"\",データ入力シート１回目!U35)+IF(データ入力シート１回目!U36=\"\",\"\",データ入力シート１回目!U36)+IF(データ入力シート１回目!U37=\"\",\"\",データ入力シート１回目!U37)","v":{"$error":"#VALUE!"}},{"$f":"IF(データ入力シート１回目!V35=\"\",\"\",データ入力シート１回目!V35)+IF(データ入力シート１回目!V36=\"\",\"\",データ入力シート１回目!V36)+IF(データ入力シート１回目!V37=\"\",\"\",データ入力シート１回目!V37)","v":{"$error":"#VALUE!"}},{"$f":"IF(データ入力シート１回目!W35=\"\",\"\",データ入力シート１回目!W35)+IF(データ入力シート１回目!W36=\"\",\"\",データ入力シート１回目!W36)+IF(データ入力シート１回目!W37=\"\",\"\",データ入力シート１回目!W37)","v":{"$error":"#VALUE!"}},{"$f":"IF(データ入力シート１回目!X35=\"\",\"\",データ入力シート１回目!X35)+IF(データ入力シート１回目!X36=\"\",\"\",データ入力シート１回目!X36)+IF(データ入力シート１回目!X37=\"\",\"\",データ入力シート１回目!X37)","v":{"$error":"#VALUE!"}},{"$f":"IF(データ入力シート１回目!Y35=\"\",\"\",データ入力シート１回目!Y35)+IF(データ入力シート１回目!Y36=\"\",\"\",データ入力シート１回目!Y36)+IF(データ入力シート１回目!Y37=\"\",\"\",データ入力シート１回目!Y37)","v":{"$error":"#VALUE!"}},{"$f":"IF(データ入力シート１回目!Z35=\"\",\"\",データ入力シート１回目!Z35)+IF(データ入力シート１回目!Z36=\"\",\"\",データ入力シート１回目!Z36)+IF(データ入力シート１回目!Z37=\"\",\"\",データ入力シート１回目!Z37)","v":{"$error":"#VALUE!"}},{"$f":"IF(データ入力シート１回目!AA35=\"\",\"\",データ入力シート１回目!AA35)+IF(データ入力シート１回目!AA36=\"\",\"\",データ入力シート１回目!AA36)+IF(データ入力シート１回目!AA37=\"\",\"\",データ入力シート１回目!AA37)","v":{"$error":"#VALUE!"}},{"$f":"IF(データ入力シート１回目!AB35=\"\",\"\",データ入力シート１回目!AB35)+IF(データ入力シート１回目!AB36=\"\",\"\",データ入力シート１回目!AB36)+IF(データ入力シート１回目!AB37=\"\",\"\",データ入力シート１回目!AB37)","v":{"$error":"#VALUE!"}},{"$f":"IF(データ入力シート１回目!AC35=\"\",\"\",データ入力シート１回目!AC35)+IF(データ入力シート１回目!AC36=\"\",\"\",データ入力シート１回目!AC36)+IF(データ入力シート１回目!AC37=\"\",\"\",データ入力シート１回目!AC37)","v":{"$error":"#VALUE!"}},{"$f":"IF(データ入力シート１回目!AD35=\"\",\"\",データ入力シート１回目!AD35)+IF(データ入力シート１回目!AD36=\"\",\"\",データ入力シート１回目!AD36)+IF(データ入力シート１回目!AD37=\"\",\"\",データ入力シート１回目!AD37)","v":{"$error":"#VALUE!"}},{"$f":"IF(データ入力シート１回目!AE35=\"\",\"\",データ入力シート１回目!AE35)+IF(データ入力シート１回目!AE36=\"\",\"\",データ入力シート１回目!AE36)+IF(データ入力シート１回目!AE37=\"\",\"\",データ入力シート１回目!AE37)","v":{"$error":"#VALUE!"}},{"$f":"IF(データ入力シート１回目!AF35=\"\",\"\",データ入力シート１回目!AF35)+IF(データ入力シート１回目!AF36=\"\",\"\",データ入力シート１回目!AF36)+IF(データ入力シート１回目!AF37=\"\",\"\",データ入力シート１回目!AF37)","v":{"$error":"#VALUE!"}},{"$f":"IF(データ入力シート１回目!AG35=\"\",\"\",データ入力シート１回目!AG35)+IF(データ入力シート１回目!AG36=\"\",\"\",データ入力シート１回目!AG36)+IF(データ入力シート１回目!AG37=\"\",\"\",データ入力シート１回目!AG37)","v":{"$error":"#VALUE!"}},{"$f":"IF(データ入力シート１回目!AH35=\"\",\"\",データ入力シート１回目!AH35)+IF(データ入力シート１回目!AH36=\"\",\"\",データ入力シート１回目!AH36)+IF(データ入力シート１回目!AH37=\"\",\"\",データ入力シート１回目!AH37)","v":{"$error":"#VALUE!"}},{"$f":"IF(データ入力シート１回目!AI35=\"\",\"\",データ入力シート１回目!AI35)+IF(データ入力シート１回目!AI36=\"\",\"\",データ入力シート１回目!AI36)+IF(データ入力シート１回目!AI37=\"\",\"\",データ入力シート１回目!AI37)","v":{"$error":"#VALUE!"}},{"$f":"IF(データ入力シート１回目!AJ35=\"\",\"\",データ入力シート１回目!AJ35)+IF(データ入力シート１回目!AJ36=\"\",\"\",データ入力シート１回目!AJ36)+IF(データ入力シート１回目!AJ37=\"\",\"\",データ入力シート１回目!AJ37)","v":{"$error":"#VALUE!"}},{"$f":"IF(データ入力シート１回目!AK35=\"\",\"\",データ入力シート１回目!AK35)+IF(データ入力シート１回目!AK36=\"\",\"\",データ入力シート１回目!AK36)+IF(データ入力シート１回目!AK37=\"\",\"\",データ入力シート１回目!AK37)","v":{"$error":"#VALUE!"}},{"$f":"IF(データ入力シート１回目!AL35=\"\",\"\",データ入力シート１回目!AL35)+IF(データ入力シート１回目!AL36=\"\",\"\",データ入力シート１回目!AL36)+IF(データ入力シート１回目!AL37=\"\",\"\",データ入力シート１回目!AL37)","v":{"$error":"#VALUE!"}},{"$f":"IF(データ入力シート１回目!AM35=\"\",\"\",データ入力シート１回目!AM35)+IF(データ入力シート１回目!AM36=\"\",\"\",データ入力シート１回目!AM36)+IF(データ入力シート１回目!AM37=\"\",\"\",データ入力シート１回目!AM37)","v":{"$error":"#VALUE!"}},{"$f":"IF(データ入力シート１回目!AN35=\"\",\"\",データ入力シート１回目!AN35)+IF(データ入力シート１回目!AN36=\"\",\"\",データ入力シート１回目!AN36)+IF(データ入力シート１回目!AN37=\"\",\"\",データ入力シート１回目!AN37)","v":{"$error":"#VALUE!"}},{"$f":"IF(データ入力シート１回目!AO35=\"\",\"\",データ入力シート１回目!AO35)+IF(データ入力シート１回目!AO36=\"\",\"\",データ入力シート１回目!AO36)+IF(データ入力シート１回目!AO37=\"\",\"\",データ入力シート１回目!AO37)","v":{"$error":"#VALUE!"}},{"$f":"IF(データ入力シート１回目!AP35=\"\",\"\",データ入力シート１回目!AP35)+IF(データ入力シート１回目!AP36=\"\",\"\",データ入力シート１回目!AP36)+IF(データ入力シート１回目!AP37=\"\",\"\",データ入力シート１回目!AP37)","v":{"$error":"#VALUE!"}},{"$f":"IF(データ入力シート１回目!AQ35=\"\",\"\",データ入力シート１回目!AQ35)+IF(データ入力シート１回目!AQ36=\"\",\"\",データ入力シート１回目!AQ36)+IF(データ入力シート１回目!AQ37=\"\",\"\",データ入力シート１回目!AQ37)","v":{"$error":"#VALUE!"}},{"$f":"IF(データ入力シート１回目!AR35=\"\",\"\",データ入力シート１回目!AR35)+IF(データ入力シート１回目!AR36=\"\",\"\",データ入力シート１回目!AR36)+IF(データ入力シート１回目!AR37=\"\",\"\",データ入力シート１回目!AR37)","v":{"$error":"#VALUE!"}},{"$f":"IF(データ入力シート１回目!AS35=\"\",\"\",データ入力シート１回目!AS35)+IF(データ入力シート１回目!AS36=\"\",\"\",データ入力シート１回目!AS36)+IF(データ入力シート１回目!AS37=\"\",\"\",データ入力シート１回目!AS37)","v":{"$error":"#VALUE!"}},{"$f":"IF(データ入力シート１回目!AT35=\"\",\"\",データ入力シート１回目!AT35)+IF(データ入力シート１回目!AT36=\"\",\"\",データ入力シート１回目!AT36)+IF(データ入力シート１回目!AT37=\"\",\"\",データ入力シート１回目!AT37)","v":{"$error":"#VALUE!"}},{"$f":"IF(データ入力シート１回目!AU35=\"\",\"\",データ入力シート１回目!AU35)+IF(データ入力シート１回目!AU36=\"\",\"\",データ入力シート１回目!AU36)+IF(データ入力シート１回目!AU37=\"\",\"\",データ入力シート１回目!AU37)","v":{"$error":"#VALUE!"}},{"$f":"IF(データ入力シート１回目!AV35=\"\",\"\",データ入力シート１回目!AV35)+IF(データ入力シート１回目!AV36=\"\",\"\",データ入力シート１回目!AV36)+IF(データ入力シート１回目!AV37=\"\",\"\",データ入力シート１回目!AV37)","v":{"$error":"#VALUE!"}},{"$f":"IF(データ入力シート１回目!AW35=\"\",\"\",データ入力シート１回目!AW35)+IF(データ入力シート１回目!AW36=\"\",\"\",データ入力シート１回目!AW36)+IF(データ入力シート１回目!AW37=\"\",\"\",データ入力シート１回目!AW37)","v":{"$error":"#VALUE!"}},{"$f":"IF(データ入力シート１回目!AX35=\"\",\"\",データ入力シート１回目!AX35)+IF(データ入力シート１回目!AX36=\"\",\"\",データ入力シート１回目!AX36)+IF(データ入力シート１回目!AX37=\"\",\"\",データ入力シート１回目!AX37)","v":{"$error":"#VALUE!"}},{"$f":"IF(データ入力シート１回目!AY35=\"\",\"\",データ入力シート１回目!AY35)+IF(データ入力シート１回目!AY36=\"\",\"\",データ入力シート１回目!AY36)+IF(データ入力シート１回目!AY37=\"\",\"\",データ入力シート１回目!AY37)","v":{"$error":"#VALUE!"}},{"$f":"IF(データ入力シート１回目!AZ35=\"\",\"\",データ入力シート１回目!AZ35)+IF(データ入力シート１回目!AZ36=\"\",\"\",データ入力シート１回目!AZ36)+IF(データ入力シート１回目!AZ37=\"\",\"\",データ入力シート１回目!AZ37)","v":{"$error":"#VALUE!"}},{"$f":"IF(データ入力シート１回目!BA35=\"\",\"\",データ入力シート１回目!BA35)+IF(データ入力シート１回目!BA36=\"\",\"\",データ入力シート１回目!BA36)+IF(データ入力シート１回目!BA37=\"\",\"\",データ入力シート１回目!BA37)","v":{"$error":"#VALUE!"}},{"$f":"IF(データ入力シート１回目!BB35=\"\",\"\",データ入力シート１回目!BB35)+IF(データ入力シート１回目!BB36=\"\",\"\",データ入力シート１回目!BB36)+IF(データ入力シート１回目!BB37=\"\",\"\",データ入力シート１回目!BB37)","v":{"$error":"#VALUE!"}},{"$f":"IF(データ入力シート１回目!BC35=\"\",\"\",データ入力シート１回目!BC35)+IF(データ入力シート１回目!BC36=\"\",\"\",データ入力シート１回目!BC36)+IF(データ入力シート１回目!BC37=\"\",\"\",データ入力シート１回目!BC37)","v":{"$error":"#VALUE!"}},{"$f":"IF(データ入力シート１回目!BD35=\"\",\"\",データ入力シート１回目!BD35)+IF(データ入力シート１回目!BD36=\"\",\"\",データ入力シート１回目!BD36)+IF(データ入力シート１回目!BD37=\"\",\"\",データ入力シート１回目!BD37)","v":{"$error":"#VALUE!"}},{"$f":"IF(データ入力シート１回目!BE35=\"\",\"\",データ入力シート１回目!BE35)+IF(データ入力シート１回目!BE36=\"\",\"\",データ入力シート１回目!BE36)+IF(データ入力シート１回目!BE37=\"\",\"\",データ入力シート１回目!BE37)","v":{"$error":"#VALUE!"}},{"$f":"IF(データ入力シート１回目!BF35=\"\",\"\",データ入力シート１回目!BF35)+IF(データ入力シート１回目!BF36=\"\",\"\",データ入力シート１回目!BF36)+IF(データ入力シート１回目!BF37=\"\",\"\",データ入力シート１回目!BF37)","v":{"$error":"#VALUE!"}},{"$f":"IF(データ入力シート１回目!BG35=\"\",\"\",データ入力シート１回目!BG35)+IF(データ入力シート１回目!BG36=\"\",\"\",データ入力シート１回目!BG36)+IF(データ入力シート１回目!BG37=\"\",\"\",データ入力シート１回目!BG37)","v":{"$error":"#VALUE!"}},{"$f":"IF(データ入力シート１回目!BH35=\"\",\"\",データ入力シート１回目!BH35)+IF(データ入力シート１回目!BH36=\"\",\"\",データ入力シート１回目!BH36)+IF(データ入力シート１回目!BH37=\"\",\"\",データ入力シート１回目!BH37)","v":{"$error":"#VALUE!"}},{"$f":"IF(データ入力シート１回目!BI35=\"\",\"\",データ入力シート１回目!BI35)+IF(データ入力シート１回目!BI36=\"\",\"\",データ入力シート１回目!BI36)+IF(データ入力シート１回目!BI37=\"\",\"\",データ入力シート１回目!BI37)","v":{"$error":"#VALUE!"}},{"$f":"IF(データ入力シート１回目!BJ35=\"\",\"\",データ入力シート１回目!BJ35)+IF(データ入力シート１回目!BJ36=\"\",\"\",データ入力シート１回目!BJ36)+IF(データ入力シート１回目!BJ37=\"\",\"\",データ入力シート１回目!BJ37)","v":{"$error":"#VALUE!"}},{"$f":"IF(データ入力シート１回目!BK35=\"\",\"\",データ入力シート１回目!BK35)+IF(データ入力シート１回目!BK36=\"\",\"\",データ入力シート１回目!BK36)+IF(データ入力シート１回目!BK37=\"\",\"\",データ入力シート１回目!BK37)","v":{"$error":"#VALUE!"}},{"$f":"IF(データ入力シート１回目!BL35=\"\",\"\",データ入力シート１回目!BL35)+IF(データ入力シート１回目!BL36=\"\",\"\",データ入力シート１回目!BL36)+IF(データ入力シート１回目!BL37=\"\",\"\",データ入力シート１回目!BL37)","v":{"$error":"#VALUE!"}},{"$f":"IF(データ入力シート１回目!BM35=\"\",\"\",データ入力シート１回目!BM35)+IF(データ入力シート１回目!BM36=\"\",\"\",データ入力シート１回目!BM36)+IF(データ入力シート１回目!BM37=\"\",\"\",データ入力シート１回目!BM37)","v":{"$error":"#VALUE!"}},{"$f":"IF(データ入力シート１回目!BN35=\"\",\"\",データ入力シート１回目!BN35)+IF(データ入力シート１回目!BN36=\"\",\"\",データ入力シート１回目!BN36)+IF(データ入力シート１回目!BN37=\"\",\"\",データ入力シート１回目!BN37)","v":{"$error":"#VALUE!"}},{"$f":"IF(データ入力シート１回目!BO35=\"\",\"\",データ入力シート１回目!BO35)+IF(データ入力シート１回目!BO36=\"\",\"\",データ入力シート１回目!BO36)+IF(データ入力シート１回目!BO37=\"\",\"\",データ入力シート１回目!BO37)","v":{"$error":"#VALUE!"}},{"$f":"IF(データ入力シート１回目!BP35=\"\",\"\",データ入力シート１回目!BP35)+IF(データ入力シート１回目!BP36=\"\",\"\",データ入力シート１回目!BP36)+IF(データ入力シート１回目!BP37=\"\",\"\",データ入力シート１回目!BP37)","v":{"$error":"#VALUE!"}},{"$f":"IF(データ入力シート１回目!BQ35=\"\",\"\",データ入力シート１回目!BQ35)+IF(データ入力シート１回目!BQ36=\"\",\"\",データ入力シート１回目!BQ36)+IF(データ入力シート１回目!BQ37=\"\",\"\",データ入力シート１回目!BQ37)","v":{"$error":"#VALUE!"}},{"$f":"IF(データ入力シート１回目!BR35=\"\",\"\",データ入力シート１回目!BR35)+IF(データ入力シート１回目!BR36=\"\",\"\",データ入力シート１回目!BR36)+IF(データ入力シート１回目!BR37=\"\",\"\",データ入力シート１回目!BR37)","v":{"$error":"#VALUE!"}},{"$f":"IF(データ入力シート１回目!BS35=\"\",\"\",データ入力シート１回目!BS35)+IF(データ入力シート１回目!BS36=\"\",\"\",データ入力シート１回目!BS36)+IF(データ入力シート１回目!BS37=\"\",\"\",データ入力シート１回目!BS37)","v":{"$error":"#VALUE!"}},{"$f":"IF(データ入力シート１回目!BT35=\"\",\"\",データ入力シート１回目!BT35)+IF(データ入力シート１回目!BT36=\"\",\"\",データ入力シート１回目!BT36)+IF(データ入力シート１回目!BT37=\"\",\"\",データ入力シート１回目!BT37)","v":{"$error":"#VALUE!"}},{"$f":"IF(データ入力シート１回目!BU35=\"\",\"\",データ入力シート１回目!BU35)+IF(データ入力シート１回目!BU36=\"\",\"\",データ入力シート１回目!BU36)+IF(データ入力シート１回目!BU37=\"\",\"\",データ入力シート１回目!BU37)","v":{"$error":"#VALUE!"}},{"$f":"IF(データ入力シート１回目!BV35=\"\",\"\",データ入力シート１回目!BV35)+IF(データ入力シート１回目!BV36=\"\",\"\",データ入力シート１回目!BV36)+IF(データ入力シート１回目!BV37=\"\",\"\",データ入力シート１回目!BV37)","v":{"$error":"#VALUE!"}},{"$f":"IF(データ入力シート１回目!BW35=\"\",\"\",データ入力シート１回目!BW35)+IF(データ入力シート１回目!BW36=\"\",\"\",データ入力シート１回目!BW36)+IF(データ入力シート１回目!BW37=\"\",\"\",データ入力シート１回目!BW37)","v":{"$error":"#VALUE!"}},{"$f":"IF(データ入力シート１回目!BX35=\"\",\"\",データ入力シート１回目!BX35)+IF(データ入力シート１回目!BX36=\"\",\"\",データ入力シート１回目!BX36)+IF(データ入力シート１回目!BX37=\"\",\"\",データ入力シート１回目!BX37)","v":{"$error":"#VALUE!"}},{"$f":"IF(データ入力シート１回目!BY35=\"\",\"\",データ入力シート１回目!BY35)+IF(データ入力シート１回目!BY36=\"\",\"\",データ入力シート１回目!BY36)+IF(データ入力シート１回目!BY37=\"\",\"\",データ入力シート１回目!BY37)","v":{"$error":"#VALUE!"}},{"$f":"IF(データ入力シート１回目!BZ35=\"\",\"\",データ入力シート１回目!BZ35)+IF(データ入力シート１回目!BZ36=\"\",\"\",データ入力シート１回目!BZ36)+IF(データ入力シート１回目!BZ37=\"\",\"\",データ入力シート１回目!BZ37)","v":{"$error":"#VALUE!"}},{"$f":"IF(データ入力シート１回目!CA35=\"\",\"\",データ入力シート１回目!CA35)+IF(データ入力シート１回目!CA36=\"\",\"\",データ入力シート１回目!CA36)+IF(データ入力シート１回目!CA37=\"\",\"\",データ入力シート１回目!CA37)","v":{"$error":"#VALUE!"}},{"$f":"IF(データ入力シート１回目!CB35=\"\",\"\",データ入力シート１回目!CB35)+IF(データ入力シート１回目!CB36=\"\",\"\",データ入力シート１回目!CB36)+IF(データ入力シート１回目!CB37=\"\",\"\",データ入力シート１回目!CB37)","v":{"$error":"#VALUE!"}},{"$f":"IF(データ入力シート１回目!CC35=\"\",\"\",データ入力シート１回目!CC35)+IF(データ入力シート１回目!CC36=\"\",\"\",データ入力シート１回目!CC36)+IF(データ入力シート１回目!CC37=\"\",\"\",データ入力シート１回目!CC37)","v":{"$error":"#VALUE!"}},{"$f":"IF(データ入力シート１回目!CD35=\"\",\"\",データ入力シート１回目!CD35)+IF(データ入力シート１回目!CD36=\"\",\"\",データ入力シート１回目!CD36)+IF(データ入力シート１回目!CD37=\"\",\"\",データ入力シート１回目!CD37)","v":{"$error":"#VALUE!"}},{"$f":"IF(データ入力シート１回目!CE35=\"\",\"\",データ入力シート１回目!CE35)+IF(データ入力シート１回目!CE36=\"\",\"\",データ入力シート１回目!CE36)+IF(データ入力シート１回目!CE37=\"\",\"\",データ入力シート１回目!CE37)","v":{"$error":"#VALUE!"}},{"$f":"IF(データ入力シート１回目!CF35=\"\",\"\",データ入力シート１回目!CF35)+IF(データ入力シート１回目!CF36=\"\",\"\",データ入力シート１回目!CF36)+IF(データ入力シート１回目!CF37=\"\",\"\",データ入力シート１回目!CF37)","v":{"$error":"#VALUE!"}},{"$f":"IF(データ入力シート１回目!CG35=\"\",\"\",データ入力シート１回目!CG35)+IF(データ入力シート１回目!CG36=\"\",\"\",データ入力シート１回目!CG36)+IF(データ入力シート１回目!CG37=\"\",\"\",データ入力シート１回目!CG37)","v":{"$error":"#VALUE!"}},{"$f":"IF(データ入力シート１回目!CH35=\"\",\"\",データ入力シート１回目!CH35)+IF(データ入力シート１回目!CH36=\"\",\"\",データ入力シート１回目!CH36)+IF(データ入力シート１回目!CH37=\"\",\"\",データ入力シート１回目!CH37)","v":{"$error":"#VALUE!"}},{"$f":"IF(データ入力シート１回目!CI35=\"\",\"\",データ入力シート１回目!CI35)+IF(データ入力シート１回目!CI36=\"\",\"\",データ入力シート１回目!CI36)+IF(データ入力シート１回目!CI37=\"\",\"\",データ入力シート１回目!CI37)","v":{"$error":"#VALUE!"}},{"$f":"IF(データ入力シート１回目!CJ35=\"\",\"\",データ入力シート１回目!CJ35)+IF(データ入力シート１回目!CJ36=\"\",\"\",データ入力シート１回目!CJ36)+IF(データ入力シート１回目!CJ37=\"\",\"\",データ入力シート１回目!CJ37)","v":{"$error":"#VALUE!"}},{"$f":"IF(データ入力シート１回目!CK35=\"\",\"\",データ入力シート１回目!CK35)+IF(データ入力シート１回目!CK36=\"\",\"\",データ入力シート１回目!CK36)+IF(データ入力シート１回目!CK37=\"\",\"\",データ入力シート１回目!CK37)","v":{"$error":"#VALUE!"}},{"$f":"IF(データ入力シート１回目!CL35=\"\",\"\",データ入力シート１回目!CL35)+IF(データ入力シート１回目!CL36=\"\",\"\",データ入力シート１回目!CL36)+IF(データ入力シート１回目!CL37=\"\",\"\",データ入力シート１回目!CL37)","v":{"$error":"#VALUE!"}},{"$f":"IF(データ入力シート１回目!CM35=\"\",\"\",データ入力シート１回目!CM35)+IF(データ入力シート１回目!CM36=\"\",\"\",データ入力シート１回目!CM36)+IF(データ入力シート１回目!CM37=\"\",\"\",データ入力シート１回目!CM37)","v":{"$error":"#VALUE!"}},{"$f":"IF(データ入力シート１回目!CN35=\"\",\"\",データ入力シート１回目!CN35)+IF(データ入力シート１回目!CN36=\"\",\"\",データ入力シート１回目!CN36)+IF(データ入力シート１回目!CN37=\"\",\"\",データ入力シート１回目!CN37)","v":{"$error":"#VALUE!"}},{"$f":"IF(データ入力シート１回目!CO35=\"\",\"\",データ入力シート１回目!CO35)+IF(データ入力シート１回目!CO36=\"\",\"\",データ入力シート１回目!CO36)+IF(データ入力シート１回目!CO37=\"\",\"\",データ入力シート１回目!CO37)","v":{"$error":"#VALUE!"}},{"$f":"IF(データ入力シート１回目!CP35=\"\",\"\",データ入力シート１回目!CP35)+IF(データ入力シート１回目!CP36=\"\",\"\",データ入力シート１回目!CP36)+IF(データ入力シート１回目!CP37=\"\",\"\",データ入力シート１回目!CP37)","v":{"$error":"#VALUE!"}},{"$f":"IF(データ入力シート１回目!CQ35=\"\",\"\",データ入力シート１回目!CQ35)+IF(データ入力シート１回目!CQ36=\"\",\"\",データ入力シート１回目!CQ36)+IF(データ入力シート１回目!CQ37=\"\",\"\",データ入力シート１回目!CQ37)","v":{"$error":"#VALUE!"}},{"$f":"IF(データ入力シート１回目!CR35=\"\",\"\",データ入力シート１回目!CR35)+IF(データ入力シート１回目!CR36=\"\",\"\",データ入力シート１回目!CR36)+IF(データ入力シート１回目!CR37=\"\",\"\",データ入力シート１回目!CR37)","v":{"$error":"#VALUE!"}},{"$f":"IF(データ入力シート１回目!CS35=\"\",\"\",データ入力シート１回目!CS35)+IF(データ入力シート１回目!CS36=\"\",\"\",データ入力シート１回目!CS36)+IF(データ入力シート１回目!CS37=\"\",\"\",データ入力シート１回目!CS37)","v":{"$error":"#VALUE!"}},{"$f":"IF(データ入力シート１回目!CT35=\"\",\"\",データ入力シート１回目!CT35)+IF(データ入力シート１回目!CT36=\"\",\"\",データ入力シート１回目!CT36)+IF(データ入力シート１回目!CT37=\"\",\"\",データ入力シート１回目!CT37)","v":{"$error":"#VALUE!"}},{"$f":"IF(データ入力シート１回目!CU35=\"\",\"\",データ入力シート１回目!CU35)+IF(データ入力シート１回目!CU36=\"\",\"\",データ入力シート１回目!CU36)+IF(データ入力シート１回目!CU37=\"\",\"\",データ入力シート１回目!CU37)","v":{"$error":"#VALUE!"}},{"$f":"IF(データ入力シート１回目!CV35=\"\",\"\",データ入力シート１回目!CV35)+IF(データ入力シート１回目!CV36=\"\",\"\",データ入力シート１回目!CV36)+IF(データ入力シート１回目!CV37=\"\",\"\",データ入力シート１回目!CV37)","v":{"$error":"#VALUE!"}},{"$f":"IF(データ入力シート１回目!CW35=\"\",\"\",データ入力シート１回目!CW35)+IF(データ入力シート１回目!CW36=\"\",\"\",データ入力シート１回目!CW36)+IF(データ入力シート１回目!CW37=\"\",\"\",データ入力シート１回目!CW37)","v":{"$error":"#VALUE!"}},{"$f":"IF(データ入力シート１回目!CX35=\"\",\"\",データ入力シート１回目!CX35)+IF(データ入力シート１回目!CX36=\"\",\"\",データ入力シート１回目!CX36)+IF(データ入力シート１回目!CX37=\"\",\"\",データ入力シート１回目!CX37)","v":{"$error":"#VALUE!"}},{"$f":"IF(データ入力シート１回目!CY35=\"\",\"\",データ入力シート１回目!CY35)+IF(データ入力シート１回目!CY36=\"\",\"\",データ入力シート１回目!CY36)+IF(データ入力シート１回目!CY37=\"\",\"\",データ入力シート１回目!CY37)","v":{"$error":"#VALUE!"}},{"$f":"IF(データ入力シート１回目!CZ35=\"\",\"\",データ入力シート１回目!CZ35)+IF(データ入力シート１回目!CZ36=\"\",\"\",データ入力シート１回目!CZ36)+IF(データ入力シート１回目!CZ37=\"\",\"\",データ入力シート１回目!CZ37)","v":{"$error":"#VALUE!"}}]
[null,"C",{"$f":"IF(データ入力シート１回目!E38=\"\",\"\",データ入力シート１回目!E38)+IF(データ入力シート１回目!E39=\"\",\"\",データ入力シート１回目!E39)+IF(データ入力シート１回目!E40=\"\",\"\",データ入力シート１回目!E40)","v":{"$error":"#VALUE!"}},{"$f":"IF(データ入力シート１回目!F38=\"\",\"\",データ入力シート１回目!F38)+IF(データ入力シート１回目!F39=\"\",\"\",データ入力シート１回目!F39)+IF(データ入力シート１回目!F40=\"\",\"\",データ入力シート１回目!F40)","v":{"$error":"#VALUE!"}},{"$f":"IF(データ入力シート１回目!G38=\"\",\"\",データ入力シート１回目!G38)+IF(データ入力シート１回目!G39=\"\",\"\",データ入力シート１回目!G39)+IF(データ入力シート１回目!G40=\"\",\"\",データ入力シート１回目!G40)","v":{"$error":"#VALUE!"}},{"$f":"IF(データ入力シート１回目!H38=\"\",\"\",データ入力シート１回目!H38)+IF(データ入力シート１回目!H39=\"\",\"\",データ入力シート１回目!H39)+IF(データ入力シート１回目!H40=\"\",\"\",データ入力シート１回目!H40)","v":{"$error":"#VALUE!"}},{"$f":"IF(データ入力シート１回目!I38=\"\",\"\",データ入力シート１回目!I38)+IF(データ入力シート１回目!I39=\"\",\"\",データ入力シート１回目!I39)+IF(データ入力シート１回目!I40=\"\",\"\",データ入力シート１回目!I40)","v":{"$error":"#VALUE!"}},{"$f":"IF(データ入力シート１回目!J38=\"\",\"\",データ入力シート１回目!J38)+IF(データ入力シート１回目!J39=\"\",\"\",データ入力シート１回目!J39)+IF(データ入力シート１回目!J40=\"\",\"\",データ入力シート１回目!J40)","v":{"$error":"#VALUE!"}},{"$f":"IF(データ入力シート１回目!K38=\"\",\"\",データ入力シート１回目!K38)+IF(データ入力シート１回目!K39=\"\",\"\",データ入力シート１回目!K39)+IF(データ入力シート１回目!K40=\"\",\"\",データ入力シート１回目!K40)","v":{"$error":"#VALUE!"}},{"$f":"IF(データ入力シート１回目!L38=\"\",\"\",データ入力シート１回目!L38)+IF(データ入力シート１回目!L39=\"\",\"\",データ入力シート１回目!L39)+IF(データ入力シート１回目!L40=\"\",\"\",データ入力シート１回目!L40)","v":{"$error":"#VALUE!"}},{"$f":"IF(データ入力シート１回目!M38=\"\",\"\",データ入力シート１回目!M38)+IF(データ入力シート１回目!M39=\"\",\"\",データ入力シート１回目!M39)+IF(データ入力シート１回目!M40=\"\",\"\",データ入力シート１回目!M40)","v":{"$error":"#VALUE!"}},{"$f":"IF(データ入力シート１回目!N38=\"\",\"\",データ入力シート１回目!N38)+IF(データ入力シート１回目!N39=\"\",\"\",データ入力シート１回目!N39)+IF(データ入力シート１回目!N40=\"\",\"\",データ入力シート１回目!N40)","v":{"$error":"#VALUE!"}},{"$f":"IF(データ入力シート１回目!O38=\"\",\"\",データ入力シート１回目!O38)+IF(データ入力シート１回目!O39=\"\",\"\",データ入力シート１回目!O39)+IF(データ入力シート１回目!O40=\"\",\"\",データ入力シート１回目!O40)","v":{"$error":"#VALUE!"}},{"$f":"IF(データ入力シート１回目!P38=\"\",\"\",データ入力シート１回目!P38)+IF(データ入力シート１回目!P39=\"\",\"\",データ入力シート１回目!P39)+IF(データ入力シート１回目!P40=\"\",\"\",データ入力シート１回目!P40)","v":{"$error":"#VALUE!"}},{"$f":"IF(データ入力シート１回目!Q38=\"\",\"\",データ入力シート１回目!Q38)+IF(データ入力シート１回目!Q39=\"\",\"\",データ入力シート１回目!Q39)+IF(データ入力シート１回目!Q40=\"\",\"\",データ入力シート１回目!Q40)","v":{"$error":"#VALUE!"}},{"$f":"IF(データ入力シート１回目!R38=\"\",\"\",データ入力シート１回目!R38)+IF(データ入力シート１回目!R39=\"\",\"\",データ入力シート１回目!R39)+IF(データ入力シート１回目!R40=\"\",\"\",データ入力シート１回目!R40)","v":{"$error":"#VALUE!"}},{"$f":"IF(データ入力シート１回目!S38=\"\",\"\",データ入力シート１回目!S38)+IF(データ入力シート１回目!S39=\"\",\"\",データ入力シート１回目!S39)+IF(データ入力シート１回目!S40=\"\",\"\",データ入力シート１回目!S40)","v":{"$error":"#VALUE!"}},{"$f":"IF(データ入力シート１回目!T38=\"\",\"\",データ入力シート１回目!T38)+IF(データ入力シート１回目!T39=\"\",\"\",データ入力シート１回目!T39)+IF(データ入力シート１回目!T40=\"\",\"\",データ入力シート１回目!T40)","v":{"$error":"#VALUE!"}},{"$f":"IF(データ入力シート１回目!U38=\"\",\"\",データ入力シート１回目!U38)+IF(データ入力シート１回目!U39=\"\",\"\",データ入力シート１回目!U39)+IF(データ入力シート１回目!U40=\"\",\"\",データ入力シート１回目!U40)","v":{"$error":"#VALUE!"}},{"$f":"IF(データ入力シート１回目!V38=\"\",\"\",データ入力シート１回目!V38)+IF(データ入力シート１回目!V39=\"\",\"\",データ入力シート１回目!V39)+IF(データ入力シート１回目!V40=\"\",\"\",データ入力シート１回目!V40)","v":{"$error":"#VALUE!"}},{"$f":"IF(データ入力シート１回目!W38=\"\",\"\",データ入力シート１回目!W38)+IF(データ入力シート１回目!W39=\"\",\"\",データ入力シート１回目!W39)+IF(データ入力シート１回目!W40=\"\",\"\",データ入力シート１回目!W40)","v":{"$error":"#VALUE!"}},{"$f":"IF(データ入力シート１回目!X38=\"\",\"\",データ入力シート１回目!X38)+IF(データ入力シート１回目!X39=\"\",\"\",データ入力シート１回目!X39)+IF(データ入力シート１回目!X40=\"\",\"\",データ入力シート１回目!X40)","v":{"$error":"#VALUE!"}},{"$f":"IF(データ入力シート１回目!Y38=\"\",\"\",データ入力シート１回目!Y38)+IF(データ入力シート１回目!Y39=\"\",\"\",データ入力シート１回目!Y39)+IF(データ入力シート１回目!Y40=\"\",\"\",データ入力シート１回目!Y40)","v":{"$error":"#VALUE!"}},{"$f":"IF(データ入力シート１回目!Z38=\"\",\"\",データ入力シート１回目!Z38)+IF(データ入力シート１回目!Z39=\"\",\"\",データ入力シート１回目!Z39)+IF(データ入力シート１回目!Z40=\"\",\"\",データ入力シート１回目!Z40)","v":{"$error":"#VALUE!"}},{"$f":"IF(データ入力シート１回目!AA38=\"\",\"\",データ入力シート１回目!AA38)+IF(データ入力シート１回目!AA39=\"\",\"\",データ入力シート１回目!AA39)+IF(データ入力シート１回目!AA40=\"\",\"\",データ入力シート１回目!AA40)","v":{"$error":"#VALUE!"}},{"$f":"IF(データ入力シート１回目!AB38=\"\",\"\",データ入力シート１回目!AB38)+IF(データ入力シート１回目!AB39=\"\",\"\",データ入力シート１回目!AB39)+IF(データ入力シート１回目!AB40=\"\",\"\",データ入力シート１回目!AB40)","v":{"$error":"#VALUE!"}},{"$f":"IF(データ入力シート１回目!AC38=\"\",\"\",データ入力シート１回目!AC38)+IF(データ入力シート１回目!AC39=\"\",\"\",データ入力シート１回目!AC39)+IF(データ入力シート１回目!AC40=\"\",\"\",データ入力シート１回目!AC40)","v":{"$error":"#VALUE!"}},{"$f":"IF(データ入力シート１回目!AD38=\"\",\"\",データ入力シート１回目!AD38)+IF(データ入力シート１回目!AD39=\"\",\"\",データ入力シート１回目!AD39)+IF(データ入力シート１回目!AD40=\"\",\"\",データ入力シート１回目!AD40)","v":{"$error":"#VALUE!"}},{"$f":"IF(データ入力シート１回目!AE38=\"\",\"\",データ入力シート１回目!AE38)+IF(データ入力シート１回目!AE39=\"\",\"\",データ入力シート１回目!AE39)+IF(データ入力シート１回目!AE40=\"\",\"\",データ入力シート１回目!AE40)","v":{"$error":"#VALUE!"}},{"$f":"IF(データ入力シート１回目!AF38=\"\",\"\",データ入力シート１回目!AF38)+IF(データ入力シート１回目!AF39=\"\",\"\",データ入力シート１回目!AF39)+IF(データ入力シート１回目!AF40=\"\",\"\",データ入力シート１回目!AF40)","v":{"$error":"#VALUE!"}},{"$f":"IF(データ入力シート１回目!AG38=\"\",\"\",データ入力シート１回目!AG38)+IF(データ入力シート１回目!AG39=\"\",\"\",データ入力シート１回目!AG39)+IF(データ入力シート１回目!AG40=\"\",\"\",データ入力シート１回目!AG40)","v":{"$error":"#VALUE!"}},{"$f":"IF(データ入力シート１回目!AH38=\"\",\"\",データ入力シート１回目!AH38)+IF(データ入力シート１回目!AH39=\"\",\"\",データ入力シート１回目!AH39)+IF(データ入力シート１回目!AH40=\"\",\"\",データ入力シート１回目!AH40)","v":{"$error":"#VALUE!"}},{"$f":"IF(データ入力シート１回目!AI38=\"\",\"\",データ入力シート１回目!AI38)+IF(データ入力シート１回目!AI39=\"\",\"\",データ入力シート１回目!AI39)+IF(データ入力シート１回目!AI40=\"\",\"\",データ入力シート１回目!AI40)","v":{"$error":"#VALUE!"}},{"$f":"IF(データ入力シート１回目!AJ38=\"\",\"\",データ入力シート１回目!AJ38)+IF(データ入力シート１回目!AJ39=\"\",\"\",データ入力シート１回目!AJ39)+IF(データ入力シート１回目!AJ40=\"\",\"\",データ入力シート１回目!AJ40)","v":{"$error":"#VALUE!"}},{"$f":"IF(データ入力シート１回目!AK38=\"\",\"\",データ入力シート１回目!AK38)+IF(データ入力シート１回目!AK39=\"\",\"\",データ入力シート１回目!AK39)+IF(データ入力シート１回目!AK40=\"\",\"\",データ入力シート１回目!AK40)","v":{"$error":"#VALUE!"}},{"$f":"IF(データ入力シート１回目!AL38=\"\",\"\",データ入力シート１回目!AL38)+IF(データ入力シート１回目!AL39=\"\",\"\",データ入力シート１回目!AL39)+IF(データ入力シート１回目!AL40=\"\",\"\",データ入力シート１回目!AL40)","v":{"$error":"#VALUE!"}},{"$f":"IF(データ入力シート１回目!AM38=\"\",\"\",データ入力シート１回目!AM38)+IF(データ入力シート１回目!AM39=\"\",\"\",データ入力シート１回目!AM39)+IF(データ入力シート１回目!AM40=\"\",\"\",データ入力シート１回目!AM40)","v":{"$error":"#VALUE!"}},{"$f":"IF(データ入力シート１回目!AN38=\"\",\"\",データ入力シート１回目!AN38)+IF(データ入力シート１回目!AN39=\"\",\"\",データ入力シート１回目!AN39)+IF(データ入力シート１回目!AN40=\"\",\"\",データ入力シート１回目!AN40)","v":{"$error":"#VALUE!"}},{"$f":"IF(データ入力シート１回目!AO38=\"\",\"\",データ入力シート１回目!AO38)+IF(データ入力シート１回目!AO39=\"\",\"\",データ入力シート１回目!AO39)+IF(データ入力シート１回目!AO40=\"\",\"\",データ入力シート１回目!AO40)","v":{"$error":"#VALUE!"}},{"$f":"IF(データ入力シート１回目!AP38=\"\",\"\",データ入力シート１回目!AP38)+IF(データ入力シート１回目!AP39=\"\",\"\",データ入力シート１回目!AP39)+IF(データ入力シート１回目!AP40=\"\",\"\",データ入力シート１回目!AP40)","v":{"$error":"#VALUE!"}},{"$f":"IF(データ入力シート１回目!AQ38=\"\",\"\",データ入力シート１回目!AQ38)+IF(データ入力シート１回目!AQ39=\"\",\"\",データ入力シート１回目!AQ39)+IF(データ入力シート１回目!AQ40=\"\",\"\",データ入力シート１回目!AQ40)","v":{"$error":"#VALUE!"}},{"$f":"IF(データ入力シート１回目!AR38=\"\",\"\",データ入力シート１回目!AR38)+IF(データ入力シート１回目!AR39=\"\",\"\",データ入力シート１回目!AR39)+IF(データ入力シート１回目!AR40=\"\",\"\",データ入力シート１回目!AR40)","v":{"$error":"#VALUE!"}},{"$f":"IF(データ入力シート１回目!AS38=\"\",\"\",データ入力シート１回目!AS38)+IF(データ入力シート１回目!AS39=\"\",\"\",データ入力シート１回目!AS39)+IF(データ入力シート１回目!AS40=\"\",\"\",データ入力シート１回目!AS40)","v":{"$error":"#VALUE!"}},{"$f":"IF(データ入力シート１回目!AT38=\"\",\"\",データ入力シート１回目!AT38)+IF(データ入力シート１回目!AT39=\"\",\"\",データ入力シート１回目!AT39)+IF(データ入力シート１回目!AT40=\"\",\"\",データ入力シート１回目!AT40)","v":{"$error":"#VALUE!"}},{"$f":"IF(データ入力シート１回目!AU38=\"\",\"\",データ入力シート１回目!AU38)+IF(データ入力シート１回目!AU39=\"\",\"\",データ入力シート１回目!AU39)+IF(データ入力シート１回目!AU40=\"\",\"\",データ入力シート１回目!AU40)","v":{"$error":"#VALUE!"}},{"$f":"IF(データ入力シート１回目!AV38=\"\",\"\",データ入力シート１回目!AV38)+IF(データ入力シート１回目!AV39=\"\",\"\",データ入力シート１回目!AV39)+IF(データ入力シート１回目!AV40=\"\",\"\",データ入力シート１回目!AV40)","v":{"$error":"#VALUE!"}},{"$f":"IF(データ入力シート１回目!AW38=\"\",\"\",データ入力シート１回目!AW38)+IF(データ入力シート１回目!AW39=\"\",\"\",データ入力シート１回目!AW39)+IF(データ入力シート１回目!AW40=\"\",\"\",データ入力シート１回目!AW40)","v":{"$error":"#VALUE!"}},{"$f":"IF(データ入力シート１回目!AX38=\"\",\"\",データ入力シート１回目!AX38)+IF(データ入力シート１回目!AX39=\"\",\"\",データ入力シート１回目!AX39)+IF(データ入力シート１回目!AX40=\"\",\"\",データ入力シート１回目!AX40)","v":{"$error":"#VALUE!"}},{"$f":"IF(データ入力シート１回目!AY38=\"\",\"\",データ入力シート１回目!AY38)+IF(データ入力シート１回目!AY39=\"\",\"\",データ入力シート１回目!AY39)+IF(データ入力シート１回目!AY40=\"\",\"\",データ入力シート１回目!AY40)","v":{"$error":"#VALUE!"}},{"$f":"IF(データ入力シート１回目!AZ38=\"\",\"\",データ入力シート１回目!AZ38)+IF(データ入力シート１回目!AZ39=\"\",\"\",データ入力シート１回目!AZ39)+IF(データ入力シート１回目!AZ40=\"\",\"\",データ入力シート１回目!AZ40)","v":{"$error":"#VALUE!"}},{"$f":"IF(データ入力シート１回目!BA38=\"\",\"\",データ入力シート１回目!BA38)+IF(データ入力シート１回目!BA39=\"\",\"\",データ入力シート１回目!BA39)+IF(データ入力シート１回目!BA40=\"\",\"\",データ入力シート１回目!BA40)","v":{"$error":"#VALUE!"}},{"$f":"IF(データ入力シート１回目!BB38=\"\",\"\",データ入力シート１回目!BB38)+IF(データ入力シート１回目!BB39=\"\",\"\",データ入力シート１回目!BB39)+IF(データ入力シート１回目!BB40=\"\",\"\",データ入力シート１回目!BB40)","v":{"$error":"#VALUE!"}},{"$f":"IF(データ入力シート１回目!BC38=\"\",\"\",データ入力シート１回目!BC38)+IF(データ入力シート１回目!BC39=\"\",\"\",データ入力シート１回目!BC39)+IF(データ入力シート１回目!BC40=\"\",\"\",データ入力シート１回目!BC40)","v":{"$error":"#VALUE!"}},{"$f":"IF(データ入力シート１回目!BD38=\"\",\"\",データ入力シート１回目!BD38)+IF(データ入力シート１回目!BD39=\"\",\"\",データ入力シート１回目!BD39)+IF(データ入力シート１回目!BD40=\"\",\"\",データ入力シート１回目!BD40)","v":{"$error":"#VALUE!"}},{"$f":"IF(データ入力シート１回目!BE38=\"\",\"\",データ入力シート１回目!BE38)+IF(データ入力シート１回目!BE39=\"\",\"\",データ入力シート１回目!BE39)+IF(データ入力シート１回目!BE40=\"\",\"\",データ入力シート１回目!BE40)","v":{"$error":"#VALUE!"}},{"$f":"IF(データ入力シート１回目!BF38=\"\",\"\",データ入力シート１回目!BF38)+IF(データ入力シート１回目!BF39=\"\",\"\",データ入力シート１回目!BF39)+IF(データ入力シート１回目!BF40=\"\",\"\",データ入力シート１回目!BF40)","v":{"$error":"#VALUE!"}},{"$f":"IF(データ入力シート１回目!BG38=\"\",\"\",データ入力シート１回目!BG38)+IF(データ入力シート１回目!BG39=\"\",\"\",データ入力シート１回目!BG39)+IF(データ入力シート１回目!BG40=\"\",\"\",データ入力シート１回目!BG40)","v":{"$error":"#VALUE!"}},{"$f":"IF(データ入力シート１回目!BH38=\"\",\"\",データ入力シート１回目!BH38)+IF(データ入力シート１回目!BH39=\"\",\"\",データ入力シート１回目!BH39)+IF(データ入力シート１回目!BH40=\"\",\"\",データ入力シート１回目!BH40)","v":{"$error":"#VALUE!"}},{"$f":"IF(データ入力シート１回目!BI38=\"\",\"\",データ入力シート１回目!BI38)+IF(データ入力シート１回目!BI39=\"\",\"\",データ入力シート１回目!BI39)+IF(データ入力シート１回目!BI40=\"\",\"\",データ入力シート１回目!BI40)","v":{"$error":"#VALUE!"}},{"$f":"IF(データ入力シート１回目!BJ38=\"\",\"\",データ入力シート１回目!BJ38)+IF(データ入力シート１回目!BJ39=\"\",\"\",データ入力シート１回目!BJ39)+IF(データ入力シート１回目!BJ40=\"\",\"\",データ入力シート１回目!BJ40)","v":{"$error":"#VALUE!"}},{"$f":"IF(データ入力シート１回目!BK38=\"\",\"\",データ入力シート１回目!BK38)+IF(データ入力シート１回目!BK39=\"\",\"\",データ入力シート１回目!BK39)+IF(データ入力シート１回目!BK40=\"\",\"\",データ入力シート１回目!BK40)","v":{"$error":"#VALUE!"}},{"$f":"IF(データ入力シート１回目!BL38=\"\",\"\",データ入力シート１回目!BL38)+IF(データ入力シート１回目!BL39=\"\",\"\",データ入力シート１回目!BL39)+IF(データ入力シート１回目!BL40=\"\",\"\",データ入力シート１回目!BL40)","v":{"$error":"#VALUE!"}},{"$f":"IF(データ入力シート１回目!BM38=\"\",\"\",データ入力シート１回目!BM38)+IF(データ入力シート１回目!BM39=\"\",\"\",データ入力シート１回目!BM39)+IF(データ入力シート１回目!BM40=\"\",\"\",データ入力シート１回目!BM40)","v":{"$error":"#VALUE!"}},{"$f":"IF(データ入力シート１回目!BN38=\"\",\"\",データ入力シート１回目!BN38)+IF(データ入力シート１回目!BN39=\"\",\"\",データ入力シート１回目!BN39)+IF(データ入力シート１回目!BN40=\"\",\"\",データ入力シート１回目!BN40)","v":{"$error":"#VALUE!"}},{"$f":"IF(データ入力シート１回目!BO38=\"\",\"\",データ入力シート１回目!BO38)+IF(データ入力シート１回目!BO39=\"\",\"\",データ入力シート１回目!BO39)+IF(データ入力シート１回目!BO40=\"\",\"\",データ入力シート１回目!BO40)","v":{"$error":"#VALUE!"}},{"$f":"IF(データ入力シート１回目!BP38=\"\",\"\",データ入力シート１回目!BP38)+IF(データ入力シート１回目!BP39=\"\",\"\",データ入力シート１回目!BP39)+IF(データ入力シート１回目!BP40=\"\",\"\",データ入力シート１回目!BP40)","v":{"$error":"#VALUE!"}},{"$f":"IF(データ入力シート１回目!BQ38=\"\",\"\",データ入力シート１回目!BQ38)+IF(データ入力シート１回目!BQ39=\"\",\"\",データ入力シート１回目!BQ39)+IF(データ入力シート１回目!BQ40=\"\",\"\",データ入力シート１回目!BQ40)","v":{"$error":"#VALUE!"}},{"$f":"IF(データ入力シート１回目!BR38=\"\",\"\",データ入力シート１回目!BR38)+IF(データ入力シート１回目!BR39=\"\",\"\",データ入力シート１回目!BR39)+IF(データ入力シート１回目!BR40=\"\",\"\",データ入力シート１回目!BR40)","v":{"$error":"#VALUE!"}},{"$f":"IF(データ入力シート１回目!BS38=\"\",\"\",データ入力シート１回目!BS38)+IF(データ入力シート１回目!BS39=\"\",\"\",データ入力シート１回目!BS39)+IF(データ入力シート１回目!BS40=\"\",\"\",データ入力シート１回目!BS40)","v":{"$error":"#VALUE!"}},{"$f":"IF(データ入力シート１回目!BT38=\"\",\"\",データ入力シート１回目!BT38)+IF(データ入力シート１回目!BT39=\"\",\"\",データ入力シート１回目!BT39)+IF(データ入力シート１回目!BT40=\"\",\"\",データ入力シート１回目!BT40)","v":{"$error":"#VALUE!"}},{"$f":"IF(データ入力シート１回目!BU38=\"\",\"\",データ入力シート１回目!BU38)+IF(データ入力シート１回目!BU39=\"\",\"\",データ入力シート１回目!BU39)+IF(データ入力シート１回目!BU40=\"\",\"\",データ入力シート１回目!BU40)","v":{"$error":"#VALUE!"}},{"$f":"IF(データ入力シート１回目!BV38=\"\",\"\",データ入力シート１回目!BV38)+IF(データ入力シート１回目!BV39=\"\",\"\",データ入力シート１回目!BV39)+IF(データ入力シート１回目!BV40=\"\",\"\",データ入力シート１回目!BV40)","v":{"$error":"#VALUE!"}},{"$f":"IF(データ入力シート１回目!BW38=\"\",\"\",データ入力シート１回目!BW38)+IF(データ入力シート１回目!BW39=\"\",\"\",データ入力シート１回目!BW39)+IF(データ入力シート１回目!BW40=\"\",\"\",データ入力シート１回目!BW40)","v":{"$error":"#VALUE!"}},{"$f":"IF(データ入力シート１回目!BX38=\"\",\"\",データ入力シート１回目!BX38)+IF(データ入力シート１回目!BX39=\"\",\"\",データ入力シート１回目!BX39)+IF(データ入力シート１回目!BX40=\"\",\"\",データ入力シート１回目!BX40)","v":{"$error":"#VALUE!"}},{"$f":"IF(データ入力シート１回目!BY38=\"\",\"\",データ入力シート１回目!BY38)+IF(データ入力シート１回目!BY39=\"\",\"\",データ入力シート１回目!BY39)+IF(データ入力シート１回目!BY40=\"\",\"\",データ入力シート１回目!BY40)","v":{"$error":"#VALUE!"}},{"$f":"IF(データ入力シート１回目!BZ38=\"\",\"\",データ入力シート１回目!BZ38)+IF(データ入力シート１回目!BZ39=\"\",\"\",データ入力シート１回目!BZ39)+IF(データ入力シート１回目!BZ40=\"\",\"\",データ入力シート１回目!BZ40)","v":{"$error":"#VALUE!"}},{"$f":"IF(データ入力シート１回目!CA38=\"\",\"\",データ入力シート１回目!CA38)+IF(データ入力シート１回目!CA39=\"\",\"\",データ入力シート１回目!CA39)+IF(データ入力シート１回目!CA40=\"\",\"\",データ入力シート１回目!CA40)","v":{"$error":"#VALUE!"}},{"$f":"IF(データ入力シート１回目!CB38=\"\",\"\",データ入力シート１回目!CB38)+IF(データ入力シート１回目!CB39=\"\",\"\",データ入力シート１回目!CB39)+IF(データ入力シート１回目!CB40=\"\",\"\",データ入力シート１回目!CB40)","v":{"$error":"#VALUE!"}},{"$f":"IF(データ入力シート１回目!CC38=\"\",\"\",データ入力シート１回目!CC38)+IF(データ入力シート１回目!CC39=\"\",\"\",データ入力シート１回目!CC39)+IF(データ入力シート１回目!CC40=\"\",\"\",データ入力シート１回目!CC40)","v":{"$error":"#VALUE!"}},{"$f":"IF(データ入力シート１回目!CD38=\"\",\"\",データ入力シート１回目!CD38)+IF(データ入力シート１回目!CD39=\"\",\"\",データ入力シート１回目!CD39)+IF(データ入力シート１回目!CD40=\"\",\"\",データ入力シート１回目!CD40)","v":{"$error":"#VALUE!"}},{"$f":"IF(データ入力シート１回目!CE38=\"\",\"\",データ入力シート１回目!CE38)+IF(データ入力シート１回目!CE39=\"\",\"\",データ入力シート１回目!CE39)+IF(データ入力シート１回目!CE40=\"\",\"\",データ入力シート１回目!CE40)","v":{"$error":"#VALUE!"}},{"$f":"IF(データ入力シート１回目!CF38=\"\",\"\",データ入力シート１回目!CF38)+IF(データ入力シート１回目!CF39=\"\",\"\",データ入力シート１回目!CF39)+IF(データ入力シート１回目!CF40=\"\",\"\",データ入力シート１回目!CF40)","v":{"$error":"#VALUE!"}},{"$f":"IF(データ入力シート１回目!CG38=\"\",\"\",データ入力シート１回目!CG38)+IF(データ入力シート１回目!CG39=\"\",\"\",データ入力シート１回目!CG39)+IF(データ入力シート１回目!CG40=\"\",\"\",データ入力シート１回目!CG40)","v":{"$error":"#VALUE!"}},{"$f":"IF(データ入力シート１回目!CH38=\"\",\"\",データ入力シート１回目!CH38)+IF(データ入力シート１回目!CH39=\"\",\"\",データ入力シート１回目!CH39)+IF(データ入力シート１回目!CH40=\"\",\"\",データ入力シート１回目!CH40)","v":{"$error":"#VALUE!"}},{"$f":"IF(データ入力シート１回目!CI38=\"\",\"\",データ入力シート１回目!CI38)+IF(データ入力シート１回目!CI39=\"\",\"\",データ入力シート１回目!CI39)+IF(データ入力シート１回目!CI40=\"\",\"\",データ入力シート１回目!CI40)","v":{"$error":"#VALUE!"}},{"$f":"IF(データ入力シート１回目!CJ38=\"\",\"\",データ入力シート１回目!CJ38)+IF(データ入力シート１回目!CJ39=\"\",\"\",データ入力シート１回目!CJ39)+IF(データ入力シート１回目!CJ40=\"\",\"\",データ入力シート１回目!CJ40)","v":{"$error":"#VALUE!"}},{"$f":"IF(データ入力シート１回目!CK38=\"\",\"\",データ入力シート１回目!CK38)+IF(データ入力シート１回目!CK39=\"\",\"\",データ入力シート１回目!CK39)+IF(データ入力シート１回目!CK40=\"\",\"\",データ入力シート１回目!CK40)","v":{"$error":"#VALUE!"}},{"$f":"IF(データ入力シート１回目!CL38=\"\",\"\",データ入力シート１回目!CL38)+IF(データ入力シート１回目!CL39=\"\",\"\",データ入力シート１回目!CL39)+IF(データ入力シート１回目!CL40=\"\",\"\",データ入力シート１回目!CL40)","v":{"$error":"#VALUE!"}},{"$f":"IF(データ入力シート１回目!CM38=\"\",\"\",データ入力シート１回目!CM38)+IF(データ入力シート１回目!CM39=\"\",\"\",データ入力シート１回目!CM39)+IF(データ入力シート１回目!CM40=\"\",\"\",データ入力シート１回目!CM40)","v":{"$error":"#VALUE!"}},{"$f":"IF(データ入力シート１回目!CN38=\"\",\"\",データ入力シート１回目!CN38)+IF(データ入力シート１回目!CN39=\"\",\"\",データ入力シート１回目!CN39)+IF(データ入力シート１回目!CN40=\"\",\"\",データ入力シート１回目!CN40)","v":{"$error":"#VALUE!"}},{"$f":"IF(データ入力シート１回目!CO38=\"\",\"\",データ入力シート１回目!CO38)+IF(データ入力シート１回目!CO39=\"\",\"\",データ入力シート１回目!CO39)+IF(データ入力シート１回目!CO40=\"\",\"\",データ入力シート１回目!CO40)","v":{"$error":"#VALUE!"}},{"$f":"IF(データ入力シート１回目!CP38=\"\",\"\",データ入力シート１回目!CP38)+IF(データ入力シート１回目!CP39=\"\",\"\",データ入力シート１回目!CP39)+IF(データ入力シート１回目!CP40=\"\",\"\",データ入力シート１回目!CP40)","v":{"$error":"#VALUE!"}},{"$f":"IF(データ入力シート１回目!CQ38=\"\",\"\",データ入力シート１回目!CQ38)+IF(データ入力シート１回目!CQ39=\"\",\"\",データ入力シート１回目!CQ39)+IF(データ入力シート１回目!CQ40=\"\",\"\",データ入力シート１回目!CQ40)","v":{"$error":"#VALUE!"}},{"$f":"IF(データ入力シート１回目!CR38=\"\",\"\",データ入力シート１回目!CR38)+IF(データ入力シート１回目!CR39=\"\",\"\",データ入力シート１回目!CR39)+IF(データ入力シート１回目!CR40=\"\",\"\",データ入力シート１回目!CR40)","v":{"$error":"#VALUE!"}},{"$f":"IF(データ入力シート１回目!CS38=\"\",\"\",データ入力シート１回目!CS38)+IF(データ入力シート１回目!CS39=\"\",\"\",データ入力シート１回目!CS39)+IF(データ入力シート１回目!CS40=\"\",\"\",データ入力シート１回目!CS40)","v":{"$error":"#VALUE!"}},{"$f":"IF(データ入力シート１回目!CT38=\"\",\"\",データ入力シート１回目!CT38)+IF(データ入力シート１回目!CT39=\"\",\"\",データ入力シート１回目!CT39)+IF(データ入力シート１回目!CT40=\"\",\"\",データ入力シート１回目!CT40)","v":{"$error":"#VALUE!"}},{"$f":"IF(データ入力シート１回目!CU38=\"\",\"\",データ入力シート１回目!CU38)+IF(データ入力シート１回目!CU39=\"\",\"\",データ入力シート１回目!CU39)+IF(データ入力シート１回目!CU40=\"\",\"\",データ入力シート１回目!CU40)","v":{"$error":"#VALUE!"}},{"$f":"IF(データ入力シート１回目!CV38=\"\",\"\",データ入力シート１回目!CV38)+IF(データ入力シート１回目!CV39=\"\",\"\",データ入力シート１回目!CV39)+IF(データ入力シート１回目!CV40=\"\",\"\",データ入力シート１回目!CV40)","v":{"$error":"#VALUE!"}},{"$f":"IF(データ入力シート１回目!CW38=\"\",\"\",データ入力シート１回目!CW38)+IF(データ入力シート１回目!CW39=\"\",\"\",データ入力シート１回目!CW39)+IF(データ入力シート１回目!CW40=\"\",\"\",データ入力シート１回目!CW40)","v":{"$error":"#VALUE!"}},{"$f":"IF(データ入力シート１回目!CX38=\"\",\"\",データ入力シート１回目!CX38)+IF(データ入力シート１回目!CX39=\"\",\"\",データ入力シート１回目!CX39)+IF(データ入力シート１回目!CX40=\"\",\"\",データ入力シート１回目!CX40)","v":{"$error":"#VALUE!"}},{"$f":"IF(データ入力シート１回目!CY38=\"\",\"\",データ入力シート１回目!CY38)+IF(データ入力シート１回目!CY39=\"\",\"\",データ入力シート１回目!CY39)+IF(データ入力シート１回目!CY40=\"\",\"\",データ入力シート１回目!CY40)","v":{"$error":"#VALUE!"}},{"$f":"IF(データ入力シート１回目!CZ38=\"\",\"\",データ入力シート１回目!CZ38)+IF(データ入力シート１回目!CZ39=\"\",\"\",データ入力シート１回目!CZ39)+IF(データ入力シート１回目!CZ40=\"\",\"\",データ入力シート１回目!CZ40)","v":{"$error":"#VALUE!"}}]
[null,"A",{"$f":"IF(データ入力シート１回目!E41=\"\",\"\",データ入力シート１回目!E41)+IF(データ入力シート１回目!E42=\"\",\"\",データ入力シート１回目!E42)+IF(データ入力シート１回目!E43=\"\",\"\",データ入力シート１回目!E43)","v":{"$error":"#VALUE!"}},{"$f":"IF(データ入力シート１回目!F41=\"\",\"\",データ入力シート１回目!F41)+IF(データ入力シート１回目!F42=\"\",\"\",データ入力シート１回目!F42)+IF(データ入力シート１回目!F43=\"\",\"\",データ入力シート１回目!F43)","v":{"$error":"#VALUE!"}},{"$f":"IF(データ入力シート１回目!G41=\"\",\"\",データ入力シート１回目!G41)+IF(データ入力シート１回目!G42=\"\",\"\",データ入力シート１回目!G42)+IF(データ入力シート１回目!G43=\"\",\"\",データ入力シート１回目!G43)","v":{"$error":"#VALUE!"}},{"$f":"IF(データ入力シート１回目!H41=\"\",\"\",データ入力シート１回目!H41)+IF(データ入力シート１回目!H42=\"\",\"\",データ入力シート１回目!H42)+IF(データ入力シート１回目!H43=\"\",\"\",データ入力シート１回目!H43)","v":{"$error":"#VALUE!"}},{"$f":"IF(データ入力シート１回目!I41=\"\",\"\",データ入力シート１回目!I41)+IF(データ入力シート１回目!I42=\"\",\"\",データ入力シート１回目!I42)+IF(データ入力シート１回目!I43=\"\",\"\",データ入力シート１回目!I43)","v":{"$error":"#VALUE!"}},{"$f":"IF(データ入力シート１回目!J41=\"\",\"\",データ入力シート１回目!J41)+IF(データ入力シート１回目!J42=\"\",\"\",データ入力シート１回目!J42)+IF(データ入力シート１回目!J43=\"\",\"\",データ入力シート１回目!J43)","v":{"$error":"#VALUE!"}},{"$f":"IF(データ入力シート１回目!K41=\"\",\"\",データ入力シート１回目!K41)+IF(データ入力シート１回目!K42=\"\",\"\",データ入力シート１回目!K42)+IF(データ入力シート１回目!K43=\"\",\"\",データ入力シート１回目!K43)","v":{"$error":"#VALUE!"}},{"$f":"IF(データ入力シート１回目!L41=\"\",\"\",データ入力シート１回目!L41)+IF(データ入力シート１回目!L42=\"\",\"\",データ入力シート１回目!L42)+IF(データ入力シート１回目!L43=\"\",\"\",データ入力シート１回目!L43)","v":{"$error":"#VALUE!"}},{"$f":"IF(データ入力シート１回目!M41=\"\",\"\",データ入力シート１回目!M41)+IF(データ入力シート１回目!M42=\"\",\"\",データ入力シート１回目!M42)+IF(データ入力シート１回目!M43=\"\",\"\",データ入力シート１回目!M43)","v":{"$error":"#VALUE!"}},{"$f":"IF(データ入力シート１回目!N41=\"\",\"\",データ入力シート１回目!N41)+IF(データ入力シート１回目!N42=\"\",\"\",データ入力シート１回目!N42)+IF(データ入力シート１回目!N43=\"\",\"\",データ入力シート１回目!N43)","v":{"$error":"#VALUE!"}},{"$f":"IF(データ入力シート１回目!O41=\"\",\"\",データ入力シート１回目!O41)+IF(データ入力シート１回目!O42=\"\",\"\",データ入力シート１回目!O42)+IF(データ入力シート１回目!O43=\"\",\"\",データ入力シート１回目!O43)","v":{"$error":"#VALUE!"}},{"$f":"IF(データ入力シート１回目!P41=\"\",\"\",データ入力シート１回目!P41)+IF(データ入力シート１回目!P42=\"\",\"\",データ入力シート１回目!P42)+IF(データ入力シート１回目!P43=\"\",\"\",データ入力シート１回目!P43)","v":{"$error":"#VALUE!"}},{"$f":"IF(データ入力シート１回目!Q41=\"\",\"\",データ入力シート１回目!Q41)+IF(データ入力シート１回目!Q42=\"\",\"\",データ入力シート１回目!Q42)+IF(データ入力シート１回目!Q43=\"\",\"\",データ入力シート１回目!Q43)","v":{"$error":"#VALUE!"}},{"$f":"IF(データ入力シート１回目!R41=\"\",\"\",データ入力シート１回目!R41)+IF(データ入力シート１回目!R42=\"\",\"\",データ入力シート１回目!R42)+IF(データ入力シート１回目!R43=\"\",\"\",データ入力シート１回目!R43)","v":{"$error":"#VALUE!"}},{"$f":"IF(データ入力シート１回目!S41=\"\",\"\",データ入力シート１回目!S41)+IF(データ入力シート１回目!S42=\"\",\"\",データ入力シート１回目!S42)+IF(データ入力シート１回目!S43=\"\",\"\",データ入力シート１回目!S43)","v":{"$error":"#VALUE!"}},{"$f":"IF(データ入力シート１回目!T41=\"\",\"\",データ入力シート１回目!T41)+IF(データ入力シート１回目!T42=\"\",\"\",データ入力シート１回目!T42)+IF(データ入力シート１回目!T43=\"\",\"\",データ入力シート１回目!T43)","v":{"$error":"#VALUE!"}},{"$f":"IF(データ入力シート１回目!U41=\"\",\"\",データ入力シート１回目!U41)+IF(データ入力シート１回目!U42=\"\",\"\",データ入力シート１回目!U42)+IF(データ入力シート１回目!U43=\"\",\"\",データ入力シート１回目!U43)","v":{"$error":"#VALUE!"}},{"$f":"IF(データ入力シート１回目!V41=\"\",\"\",データ入力シート１回目!V41)+IF(データ入力シート１回目!V42=\"\",\"\",データ入力シート１回目!V42)+IF(データ入力シート１回目!V43=\"\",\"\",データ入力シート１回目!V43)","v":{"$error":"#VALUE!"}},{"$f":"IF(データ入力シート１回目!W41=\"\",\"\",データ入力シート１回目!W41)+IF(データ入力シート１回目!W42=\"\",\"\",データ入力シート１回目!W42)+IF(データ入力シート１回目!W43=\"\",\"\",データ入力シート１回目!W43)","v":{"$error":"#VALUE!"}},{"$f":"IF(データ入力シート１回目!X41=\"\",\"\",データ入力シート１回目!X41)+IF(データ入力シート１回目!X42=\"\",\"\",データ入力シート１回目!X42)+IF(データ入力シート１回目!X43=\"\",\"\",データ入力シート１回目!X43)","v":{"$error":"#VALUE!"}},{"$f":"IF(データ入力シート１回目!Y41=\"\",\"\",データ入力シート１回目!Y41)+IF(データ入力シート１回目!Y42=\"\",\"\",データ入力シート１回目!Y42)+IF(データ入力シート１回目!Y43=\"\",\"\",データ入力シート１回目!Y43)","v":{"$error":"#VALUE!"}},{"$f":"IF(データ入力シート１回目!Z41=\"\",\"\",データ入力シート１回目!Z41)+IF(データ入力シート１回目!Z42=\"\",\"\",データ入力シート１回目!Z42)+IF(データ入力シート１回目!Z43=\"\",\"\",データ入力シート１回目!Z43)","v":{"$error":"#VALUE!"}},{"$f":"IF(データ入力シート１回目!AA41=\"\",\"\",データ入力シート１回目!AA41)+IF(データ入力シート１回目!AA42=\"\",\"\",データ入力シート１回目!AA42)+IF(データ入力シート１回目!AA43=\"\",\"\",データ入力シート１回目!AA43)","v":{"$error":"#VALUE!"}},{"$f":"IF(データ入力シート１回目!AB41=\"\",\"\",データ入力シート１回目!AB41)+IF(データ入力シート１回目!AB42=\"\",\"\",データ入力シート１回目!AB42)+IF(データ入力シート１回目!AB43=\"\",\"\",データ入力シート１回目!AB43)","v":{"$error":"#VALUE!"}},{"$f":"IF(データ入力シート１回目!AC41=\"\",\"\",データ入力シート１回目!AC41)+IF(データ入力シート１回目!AC42=\"\",\"\",データ入力シート１回目!AC42)+IF(データ入力シート１回目!AC43=\"\",\"\",データ入力シート１回目!AC43)","v":{"$error":"#VALUE!"}},{"$f":"IF(データ入力シート１回目!AD41=\"\",\"\",データ入力シート１回目!AD41)+IF(データ入力シート１回目!AD42=\"\",\"\",データ入力シート１回目!AD42)+IF(データ入力シート１回目!AD43=\"\",\"\",データ入力シート１回目!AD43)","v":{"$error":"#VALUE!"}},{"$f":"IF(データ入力シート１回目!AE41=\"\",\"\",データ入力シート１回目!AE41)+IF(データ入力シート１回目!AE42=\"\",\"\",データ入力シート１回目!AE42)+IF(データ入力シート１回目!AE43=\"\",\"\",データ入力シート１回目!AE43)","v":{"$error":"#VALUE!"}},{"$f":"IF(データ入力シート１回目!AF41=\"\",\"\",データ入力シート１回目!AF41)+IF(データ入力シート１回目!AF42=\"\",\"\",データ入力シート１回目!AF42)+IF(データ入力シート１回目!AF43=\"\",\"\",データ入力シート１回目!AF43)","v":{"$error":"#VALUE!"}},{"$f":"IF(データ入力シート１回目!AG41=\"\",\"\",データ入力シート１回目!AG41)+IF(データ入力シート１回目!AG42=\"\",\"\",データ入力シート１回目!AG42)+IF(データ入力シート１回目!AG43=\"\",\"\",データ入力シート１回目!AG43)","v":{"$error":"#VALUE!"}},{"$f":"IF(データ入力シート１回目!AH41=\"\",\"\",データ入力シート１回目!AH41)+IF(データ入力シート１回目!AH42=\"\",\"\",データ入力シート１回目!AH42)+IF(データ入力シート１回目!AH43=\"\",\"\",データ入力シート１回目!AH43)","v":{"$error":"#VALUE!"}},{"$f":"IF(データ入力シート１回目!AI41=\"\",\"\",データ入力シート１回目!AI41)+IF(データ入力シート１回目!AI42=\"\",\"\",データ入力シート１回目!AI42)+IF(データ入力シート１回目!AI43=\"\",\"\",データ入力シート１回目!AI43)","v":{"$error":"#VALUE!"}},{"$f":"IF(データ入力シート１回目!AJ41=\"\",\"\",データ入力シート１回目!AJ41)+IF(データ入力シート１回目!AJ42=\"\",\"\",データ入力シート１回目!AJ42)+IF(データ入力シート１回目!AJ43=\"\",\"\",データ入力シート１回目!AJ43)","v":{"$error":"#VALUE!"}},{"$f":"IF(データ入力シート１回目!AK41=\"\",\"\",データ入力シート１回目!AK41)+IF(データ入力シート１回目!AK42=\"\",\"\",データ入力シート１回目!AK42)+IF(データ入力シート１回目!AK43=\"\",\"\",データ入力シート１回目!AK43)","v":{"$error":"#VALUE!"}},{"$f":"IF(データ入力シート１回目!AL41=\"\",\"\",データ入力シート１回目!AL41)+IF(データ入力シート１回目!AL42=\"\",\"\",データ入力シート１回目!AL42)+IF(データ入力シート１回目!AL43=\"\",\"\",データ入力シート１回目!AL43)","v":{"$error":"#VALUE!"}},{"$f":"IF(データ入力シート１回目!AM41=\"\",\"\",データ入力シート１回目!AM41)+IF(データ入力シート１回目!AM42=\"\",\"\",データ入力シート１回目!AM42)+IF(データ入力シート１回目!AM43=\"\",\"\",データ入力シート１回目!AM43)","v":{"$error":"#VALUE!"}},{"$f":"IF(データ入力シート１回目!AN41=\"\",\"\",データ入力シート１回目!AN41)+IF(データ入力シート１回目!AN42=\"\",\"\",データ入力シート１回目!AN42)+IF(データ入力シート１回目!AN43=\"\",\"\",データ入力シート１回目!AN43)","v":{"$error":"#VALUE!"}},{"$f":"IF(データ入力シート１回目!AO41=\"\",\"\",データ入力シート１回目!AO41)+IF(データ入力シート１回目!AO42=\"\",\"\",データ入力シート１回目!AO42)+IF(データ入力シート１回目!AO43=\"\",\"\",データ入力シート１回目!AO43)","v":{"$error":"#VALUE!"}},{"$f":"IF(データ入力シート１回目!AP41=\"\",\"\",データ入力シート１回目!AP41)+IF(データ入力シート１回目!AP42=\"\",\"\",データ入力シート１回目!AP42)+IF(データ入力シート１回目!AP43=\"\",\"\",データ入力シート１回目!AP43)","v":{"$error":"#VALUE!"}},{"$f":"IF(データ入力シート１回目!AQ41=\"\",\"\",データ入力シート１回目!AQ41)+IF(データ入力シート１回目!AQ42=\"\",\"\",データ入力シート１回目!AQ42)+IF(データ入力シート１回目!AQ43=\"\",\"\",データ入力シート１回目!AQ43)","v":{"$error":"#VALUE!"}},{"$f":"IF(データ入力シート１回目!AR41=\"\",\"\",データ入力シート１回目!AR41)+IF(データ入力シート１回目!AR42=\"\",\"\",データ入力シート１回目!AR42)+IF(データ入力シート１回目!AR43=\"\",\"\",データ入力シート１回目!AR43)","v":{"$error":"#VALUE!"}},{"$f":"IF(データ入力シート１回目!AS41=\"\",\"\",データ入力シート１回目!AS41)+IF(データ入力シート１回目!AS42=\"\",\"\",データ入力シート１回目!AS42)+IF(データ入力シート１回目!AS43=\"\",\"\",データ入力シート１回目!AS43)","v":{"$error":"#VALUE!"}},{"$f":"IF(データ入力シート１回目!AT41=\"\",\"\",データ入力シート１回目!AT41)+IF(データ入力シート１回目!AT42=\"\",\"\",データ入力シート１回目!AT42)+IF(データ入力シート１回目!AT43=\"\",\"\",データ入力シート１回目!AT43)","v":{"$error":"#VALUE!"}},{"$f":"IF(データ入力シート１回目!AU41=\"\",\"\",データ入力シート１回目!AU41)+IF(データ入力シート１回目!AU42=\"\",\"\",データ入力シート１回目!AU42)+IF(データ入力シート１回目!AU43=\"\",\"\",データ入力シート１回目!AU43)","v":{"$error":"#VALUE!"}},{"$f":"IF(データ入力シート１回目!AV41=\"\",\"\",データ入力シート１回目!AV41)+IF(データ入力シート１回目!AV42=\"\",\"\",データ入力シート１回目!AV42)+IF(データ入力シート１回目!AV43=\"\",\"\",データ入力シート１回目!AV43)","v":{"$error":"#VALUE!"}},{"$f":"IF(データ入力シート１回目!AW41=\"\",\"\",データ入力シート１回目!AW41)+IF(データ入力シート１回目!AW42=\"\",\"\",データ入力シート１回目!AW42)+IF(データ入力シート１回目!AW43=\"\",\"\",データ入力シート１回目!AW43)","v":{"$error":"#VALUE!"}},{"$f":"IF(データ入力シート１回目!AX41=\"\",\"\",データ入力シート１回目!AX41)+IF(データ入力シート１回目!AX42=\"\",\"\",データ入力シート１回目!AX42)+IF(データ入力シート１回目!AX43=\"\",\"\",データ入力シート１回目!AX43)","v":{"$error":"#VALUE!"}},{"$f":"IF(データ入力シート１回目!AY41=\"\",\"\",データ入力シート１回目!AY41)+IF(データ入力シート１回目!AY42=\"\",\"\",データ入力シート１回目!AY42)+IF(データ入力シート１回目!AY43=\"\",\"\",データ入力シート１回目!AY43)","v":{"$error":"#VALUE!"}},{"$f":"IF(データ入力シート１回目!AZ41=\"\",\"\",データ入力シート１回目!AZ41)+IF(データ入力シート１回目!AZ42=\"\",\"\",データ入力シート１回目!AZ42)+IF(データ入力シート１回目!AZ43=\"\",\"\",データ入力シート１回目!AZ43)","v":{"$error":"#VALUE!"}},{"$f":"IF(データ入力シート１回目!BA41=\"\",\"\",データ入力シート１回目!BA41)+IF(データ入力シート１回目!BA42=\"\",\"\",データ入力シート１回目!BA42)+IF(データ入力シート１回目!BA43=\"\",\"\",データ入力シート１回目!BA43)","v":{"$error":"#VALUE!"}},{"$f":"IF(データ入力シート１回目!BB41=\"\",\"\",データ入力シート１回目!BB41)+IF(データ入力シート１回目!BB42=\"\",\"\",データ入力シート１回目!BB42)+IF(データ入力シート１回目!BB43=\"\",\"\",データ入力シート１回目!BB43)","v":{"$error":"#VALUE!"}},{"$f":"IF(データ入力シート１回目!BC41=\"\",\"\",データ入力シート１回目!BC41)+IF(データ入力シート１回目!BC42=\"\",\"\",データ入力シート１回目!BC42)+IF(データ入力シート１回目!BC43=\"\",\"\",データ入力シート１回目!BC43)","v":{"$error":"#VALUE!"}},{"$f":"IF(データ入力シート１回目!BD41=\"\",\"\",データ入力シート１回目!BD41)+IF(データ入力シート１回目!BD42=\"\",\"\",データ入力シート１回目!BD42)+IF(データ入力シート１回目!BD43=\"\",\"\",データ入力シート１回目!BD43)","v":{"$error":"#VALUE!"}},{"$f":"IF(データ入力シート１回目!BE41=\"\",\"\",データ入力シート１回目!BE41)+IF(データ入力シート１回目!BE42=\"\",\"\",データ入力シート１回目!BE42)+IF(データ入力シート１回目!BE43=\"\",\"\",データ入力シート１回目!BE43)","v":{"$error":"#VALUE!"}},{"$f":"IF(データ入力シート１回目!BF41=\"\",\"\",データ入力シート１回目!BF41)+IF(データ入力シート１回目!BF42=\"\",\"\",データ入力シート１回目!BF42)+IF(データ入力シート１回目!BF43=\"\",\"\",データ入力シート１回目!BF43)","v":{"$error":"#VALUE!"}},{"$f":"IF(データ入力シート１回目!BG41=\"\",\"\",データ入力シート１回目!BG41)+IF(データ入力シート１回目!BG42=\"\",\"\",データ入力シート１回目!BG42)+IF(データ入力シート１回目!BG43=\"\",\"\",データ入力シート１回目!BG43)","v":{"$error":"#VALUE!"}},{"$f":"IF(データ入力シート１回目!BH41=\"\",\"\",データ入力シート１回目!BH41)+IF(データ入力シート１回目!BH42=\"\",\"\",データ入力シート１回目!BH42)+IF(データ入力シート１回目!BH43=\"\",\"\",データ入力シート１回目!BH43)","v":{"$error":"#VALUE!"}},{"$f":"IF(データ入力シート１回目!BI41=\"\",\"\",データ入力シート１回目!BI41)+IF(データ入力シート１回目!BI42=\"\",\"\",データ入力シート１回目!BI42)+IF(データ入力シート１回目!BI43=\"\",\"\",データ入力シート１回目!BI43)","v":{"$error":"#VALUE!"}},{"$f":"IF(データ入力シート１回目!BJ41=\"\",\"\",データ入力シート１回目!BJ41)+IF(データ入力シート１回目!BJ42=\"\",\"\",データ入力シート１回目!BJ42)+IF(データ入力シート１回目!BJ43=\"\",\"\",データ入力シート１回目!BJ43)","v":{"$error":"#VALUE!"}},{"$f":"IF(データ入力シート１回目!BK41=\"\",\"\",データ入力シート１回目!BK41)+IF(データ入力シート１回目!BK42=\"\",\"\",データ入力シート１回目!BK42)+IF(データ入力シート１回目!BK43=\"\",\"\",データ入力シート１回目!BK43)","v":{"$error":"#VALUE!"}},{"$f":"IF(データ入力シート１回目!BL41=\"\",\"\",データ入力シート１回目!BL41)+IF(データ入力シート１回目!BL42=\"\",\"\",データ入力シート１回目!BL42)+IF(データ入力シート１回目!BL43=\"\",\"\",データ入力シート１回目!BL43)","v":{"$error":"#VALUE!"}},{"$f":"IF(データ入力シート１回目!BM41=\"\",\"\",データ入力シート１回目!BM41)+IF(データ入力シート１回目!BM42=\"\",\"\",データ入力シート１回目!BM42)+IF(データ入力シート１回目!BM43=\"\",\"\",データ入力シート１回目!BM43)","v":{"$error":"#VALUE!"}},{"$f":"IF(データ入力シート１回目!BN41=\"\",\"\",データ入力シート１回目!BN41)+IF(データ入力シート１回目!BN42=\"\",\"\",データ入力シート１回目!BN42)+IF(データ入力シート１回目!BN43=\"\",\"\",データ入力シート１回目!BN43)","v":{"$error":"#VALUE!"}},{"$f":"IF(データ入力シート１回目!BO41=\"\",\"\",データ入力シート１回目!BO41)+IF(データ入力シート１回目!BO42=\"\",\"\",データ入力シート１回目!BO42)+IF(データ入力シート１回目!BO43=\"\",\"\",データ入力シート１回目!BO43)","v":{"$error":"#VALUE!"}},{"$f":"IF(データ入力シート１回目!BP41=\"\",\"\",データ入力シート１回目!BP41)+IF(データ入力シート１回目!BP42=\"\",\"\",データ入力シート１回目!BP42)+IF(データ入力シート１回目!BP43=\"\",\"\",データ入力シート１回目!BP43)","v":{"$error":"#VALUE!"}},{"$f":"IF(データ入力シート１回目!BQ41=\"\",\"\",データ入力シート１回目!BQ41)+IF(データ入力シート１回目!BQ42=\"\",\"\",データ入力シート１回目!BQ42)+IF(データ入力シート１回目!BQ43=\"\",\"\",データ入力シート１回目!BQ43)","v":{"$error":"#VALUE!"}},{"$f":"IF(データ入力シート１回目!BR41=\"\",\"\",データ入力シート１回目!BR41)+IF(データ入力シート１回目!BR42=\"\",\"\",データ入力シート１回目!BR42)+IF(データ入力シート１回目!BR43=\"\",\"\",データ入力シート１回目!BR43)","v":{"$error":"#VALUE!"}},{"$f":"IF(データ入力シート１回目!BS41=\"\",\"\",データ入力シート１回目!BS41)+IF(データ入力シート１回目!BS42=\"\",\"\",データ入力シート１回目!BS42)+IF(データ入力シート１回目!BS43=\"\",\"\",データ入力シート１回目!BS43)","v":{"$error":"#VALUE!"}},{"$f":"IF(データ入力シート１回目!BT41=\"\",\"\",データ入力シート１回目!BT41)+IF(データ入力シート１回目!BT42=\"\",\"\",データ入力シート１回目!BT42)+IF(データ入力シート１回目!BT43=\"\",\"\",データ入力シート１回目!BT43)","v":{"$error":"#VALUE!"}},{"$f":"IF(データ入力シート１回目!BU41=\"\",\"\",データ入力シート１回目!BU41)+IF(データ入力シート１回目!BU42=\"\",\"\",データ入力シート１回目!BU42)+IF(データ入力シート１回目!BU43=\"\",\"\",データ入力シート１回目!BU43)","v":{"$error":"#VALUE!"}},{"$f":"IF(データ入力シート１回目!BV41=\"\",\"\",データ入力シート１回目!BV41)+IF(データ入力シート１回目!BV42=\"\",\"\",データ入力シート１回目!BV42)+IF(データ入力シート１回目!BV43=\"\",\"\",データ入力シート１回目!BV43)","v":{"$error":"#VALUE!"}},{"$f":"IF(データ入力シート１回目!BW41=\"\",\"\",データ入力シート１回目!BW41)+IF(データ入力シート１回目!BW42=\"\",\"\",データ入力シート１回目!BW42)+IF(データ入力シート１回目!BW43=\"\",\"\",データ入力シート１回目!BW43)","v":{"$error":"#VALUE!"}},{"$f":"IF(データ入力シート１回目!BX41=\"\",\"\",データ入力シート１回目!BX41)+IF(データ入力シート１回目!BX42=\"\",\"\",データ入力シート１回目!BX42)+IF(データ入力シート１回目!BX43=\"\",\"\",データ入力シート１回目!BX43)","v":{"$error":"#VALUE!"}},{"$f":"IF(データ入力シート１回目!BY41=\"\",\"\",データ入力シート１回目!BY41)+IF(データ入力シート１回目!BY42=\"\",\"\",データ入力シート１回目!BY42)+IF(データ入力シート１回目!BY43=\"\",\"\",データ入力シート１回目!BY43)","v":{"$error":"#VALUE!"}},{"$f":"IF(データ入力シート１回目!BZ41=\"\",\"\",データ入力シート１回目!BZ41)+IF(データ入力シート１回目!BZ42=\"\",\"\",データ入力シート１回目!BZ42)+IF(データ入力シート１回目!BZ43=\"\",\"\",データ入力シート１回目!BZ43)","v":{"$error":"#VALUE!"}},{"$f":"IF(データ入力シート１回目!CA41=\"\",\"\",データ入力シート１回目!CA41)+IF(データ入力シート１回目!CA42=\"\",\"\",データ入力シート１回目!CA42)+IF(データ入力シート１回目!CA43=\"\",\"\",データ入力シート１回目!CA43)","v":{"$error":"#VALUE!"}},{"$f":"IF(データ入力シート１回目!CB41=\"\",\"\",データ入力シート１回目!CB41)+IF(データ入力シート１回目!CB42=\"\",\"\",データ入力シート１回目!CB42)+IF(データ入力シート１回目!CB43=\"\",\"\",データ入力シート１回目!CB43)","v":{"$error":"#VALUE!"}},{"$f":"IF(データ入力シート１回目!CC41=\"\",\"\",データ入力シート１回目!CC41)+IF(データ入力シート１回目!CC42=\"\",\"\",データ入力シート１回目!CC42)+IF(データ入力シート１回目!CC43=\"\",\"\",データ入力シート１回目!CC43)","v":{"$error":"#VALUE!"}},{"$f":"IF(データ入力シート１回目!CD41=\"\",\"\",データ入力シート１回目!CD41)+IF(データ入力シート１回目!CD42=\"\",\"\",データ入力シート１回目!CD42)+IF(データ入力シート１回目!CD43=\"\",\"\",データ入力シート１回目!CD43)","v":{"$error":"#VALUE!"}},{"$f":"IF(データ入力シート１回目!CE41=\"\",\"\",データ入力シート１回目!CE41)+IF(データ入力シート１回目!CE42=\"\",\"\",データ入力シート１回目!CE42)+IF(データ入力シート１回目!CE43=\"\",\"\",データ入力シート１回目!CE43)","v":{"$error":"#VALUE!"}},{"$f":"IF(データ入力シート１回目!CF41=\"\",\"\",データ入力シート１回目!CF41)+IF(データ入力シート１回目!CF42=\"\",\"\",データ入力シート１回目!CF42)+IF(データ入力シート１回目!CF43=\"\",\"\",データ入力シート１回目!CF43)","v":{"$error":"#VALUE!"}},{"$f":"IF(データ入力シート１回目!CG41=\"\",\"\",データ入力シート１回目!CG41)+IF(データ入力シート１回目!CG42=\"\",\"\",データ入力シート１回目!CG42)+IF(データ入力シート１回目!CG43=\"\",\"\",データ入力シート１回目!CG43)","v":{"$error":"#VALUE!"}},{"$f":"IF(データ入力シート１回目!CH41=\"\",\"\",データ入力シート１回目!CH41)+IF(データ入力シート１回目!CH42=\"\",\"\",データ入力シート１回目!CH42)+IF(データ入力シート１回目!CH43=\"\",\"\",データ入力シート１回目!CH43)","v":{"$error":"#VALUE!"}},{"$f":"IF(データ入力シート１回目!CI41=\"\",\"\",データ入力シート１回目!CI41)+IF(データ入力シート１回目!CI42=\"\",\"\",データ入力シート１回目!CI42)+IF(データ入力シート１回目!CI43=\"\",\"\",データ入力シート１回目!CI43)","v":{"$error":"#VALUE!"}},{"$f":"IF(データ入力シート１回目!CJ41=\"\",\"\",データ入力シート１回目!CJ41)+IF(データ入力シート１回目!CJ42=\"\",\"\",データ入力シート１回目!CJ42)+IF(データ入力シート１回目!CJ43=\"\",\"\",データ入力シート１回目!CJ43)","v":{"$error":"#VALUE!"}},{"$f":"IF(データ入力シート１回目!CK41=\"\",\"\",データ入力シート１回目!CK41)+IF(データ入力シート１回目!CK42=\"\",\"\",データ入力シート１回目!CK42)+IF(データ入力シート１回目!CK43=\"\",\"\",データ入力シート１回目!CK43)","v":{"$error":"#VALUE!"}},{"$f":"IF(データ入力シート１回目!CL41=\"\",\"\",データ入力シート１回目!CL41)+IF(データ入力シート１回目!CL42=\"\",\"\",データ入力シート１回目!CL42)+IF(データ入力シート１回目!CL43=\"\",\"\",データ入力シート１回目!CL43)","v":{"$error":"#VALUE!"}},{"$f":"IF(データ入力シート１回目!CM41=\"\",\"\",データ入力シート１回目!CM41)+IF(データ入力シート１回目!CM42=\"\",\"\",データ入力シート１回目!CM42)+IF(データ入力シート１回目!CM43=\"\",\"\",データ入力シート１回目!CM43)","v":{"$error":"#VALUE!"}},{"$f":"IF(データ入力シート１回目!CN41=\"\",\"\",データ入力シート１回目!CN41)+IF(データ入力シート１回目!CN42=\"\",\"\",データ入力シート１回目!CN42)+IF(データ入力シート１回目!CN43=\"\",\"\",データ入力シート１回目!CN43)","v":{"$error":"#VALUE!"}},{"$f":"IF(データ入力シート１回目!CO41=\"\",\"\",データ入力シート１回目!CO41)+IF(データ入力シート１回目!CO42=\"\",\"\",データ入力シート１回目!CO42)+IF(データ入力シート１回目!CO43=\"\",\"\",データ入力シート１回目!CO43)","v":{"$error":"#VALUE!"}},{"$f":"IF(データ入力シート１回目!CP41=\"\",\"\",データ入力シート１回目!CP41)+IF(データ入力シート１回目!CP42=\"\",\"\",データ入力シート１回目!CP42)+IF(データ入力シート１回目!CP43=\"\",\"\",データ入力シート１回目!CP43)","v":{"$error":"#VALUE!"}},{"$f":"IF(データ入力シート１回目!CQ41=\"\",\"\",データ入力シート１回目!CQ41)+IF(データ入力シート１回目!CQ42=\"\",\"\",データ入力シート１回目!CQ42)+IF(データ入力シート１回目!CQ43=\"\",\"\",データ入力シート１回目!CQ43)","v":{"$error":"#VALUE!"}},{"$f":"IF(データ入力シート１回目!CR41=\"\",\"\",データ入力シート１回目!CR41)+IF(データ入力シート１回目!CR42=\"\",\"\",データ入力シート１回目!CR42)+IF(データ入力シート１回目!CR43=\"\",\"\",データ入力シート１回目!CR43)","v":{"$error":"#VALUE!"}},{"$f":"IF(データ入力シート１回目!CS41=\"\",\"\",データ入力シート１回目!CS41)+IF(データ入力シート１回目!CS42=\"\",\"\",データ入力シート１回目!CS42)+IF(データ入力シート１回目!CS43=\"\",\"\",データ入力シート１回目!CS43)","v":{"$error":"#VALUE!"}},{"$f":"IF(データ入力シート１回目!CT41=\"\",\"\",データ入力シート１回目!CT41)+IF(データ入力シート１回目!CT42=\"\",\"\",データ入力シート１回目!CT42)+IF(データ入力シート１回目!CT43=\"\",\"\",データ入力シート１回目!CT43)","v":{"$error":"#VALUE!"}},{"$f":"IF(データ入力シート１回目!CU41=\"\",\"\",データ入力シート１回目!CU41)+IF(データ入力シート１回目!CU42=\"\",\"\",データ入力シート１回目!CU42)+IF(データ入力シート１回目!CU43=\"\",\"\",データ入力シート１回目!CU43)","v":{"$error":"#VALUE!"}},{"$f":"IF(データ入力シート１回目!CV41=\"\",\"\",データ入力シート１回目!CV41)+IF(データ入力シート１回目!CV42=\"\",\"\",データ入力シート１回目!CV42)+IF(データ入力シート１回目!CV43=\"\",\"\",データ入力シート１回目!CV43)","v":{"$error":"#VALUE!"}},{"$f":"IF(データ入力シート１回目!CW41=\"\",\"\",データ入力シート１回目!CW41)+IF(データ入力シート１回目!CW42=\"\",\"\",データ入力シート１回目!CW42)+IF(データ入力シート１回目!CW43=\"\",\"\",データ入力シート１回目!CW43)","v":{"$error":"#VALUE!"}},{"$f":"IF(データ入力シート１回目!CX41=\"\",\"\",データ入力シート１回目!CX41)+IF(データ入力シート１回目!CX42=\"\",\"\",データ入力シート１回目!CX42)+IF(データ入力シート１回目!CX43=\"\",\"\",データ入力シート１回目!CX43)","v":{"$error":"#VALUE!"}},{"$f":"IF(データ入力シート１回目!CY41=\"\",\"\",データ入力シート１回目!CY41)+IF(データ入力シート１回目!CY42=\"\",\"\",データ入力シート１回目!CY42)+IF(データ入力シート１回目!CY43=\"\",\"\",データ入力シート１回目!CY43)","v":{"$error":"#VALUE!"}},{"$f":"IF(データ入力シート１回目!CZ41=\"\",\"\",データ入力シート１回目!CZ41)+IF(データ入力シート１回目!CZ42=\"\",\"\",データ入力シート１回目!CZ42)+IF(データ入力シート１回目!CZ43=\"\",\"\",データ入力シート１回目!CZ43)","v":{"$error":"#VALUE!"}}]
[]
["年数別"]
[null,null,null,"点数"]
[null,null,null,0,1,2,3,4,5,6,7,8,9,10,11,12,"計","平均",null,"教科等横断的な視点","平均","標準偏差",null,null,"教科等横断的な視点",0,1,2,3,4,5,6,7,8,9,10,11,12,"計"]
["教科等横断的な視点について","P\n経験年数","21上",{"$f":"COUNTIFS($C$4:$CX$4,\">=21\",$C$5:$CX$5,D20)","v":0},0,0,0,0,0,0,0,0,0,0,0,0,{"$f":"SUM(D21:P21)","v":0},{"$f":"IF(Q21=0,\"\",(D$20*D21+E$20*E21+F$20*F21+G$20*G21+H$20*H21+I$20*I21+J$20*J21+K$20*K21+L$20*L21+M$20*M21+N$20*N21+O$20*O21+P$20*P21)/Q21)","v":""},null,"P",{"$f":"R25","v":""},{"$f":"_xlfn.STDEV.P(データ入力シート１回目!$E$8:$CZ$10)","v":{"$error":"#DIV/0!"}},null,null,"P",{"$f":"D25/$Q$25","v":{"$error":"#DIV/0!"}},{"$error":"#DIV/0!"},{"$error":"#DIV/0!"},{"$error":"#DIV/0!"},{"$error":"#DIV/0!"},{"$error":"#DIV/0!"},{"$error":"#DIV/0!"},{"$error":"#DIV/0!"},{"$error":"#DIV/0!"},{"$error":"#DIV/0!"},{"$error":"#DIV/0!"},{"$error":"#DIV/0!"},{"$error":"#DIV/0!"},{"$f":"SUM(Z21:AL21)","v":{"$error":"#DIV/0!"}}]
[null,null,"11~20",{"$f":"COUNTIFS($C$4:$CX$4,\">=11\",$C$4:$CX$4,\"<=20\",$C$5:$CX$5,D20)","v":0},0,0,0,0,0,0,0,0,0,0,0,0,{"$f":"SUM(D22:P22)","v":0},"",null,"D",{"$f":"R30","v":""},{"$f":"_xlfn.STDEV.P(データ入力シート１回目!$E$11:$CZ$13)","v":{"$error":"#DIV/0!"}},null,null,"D",{"$f":"D30/$Q$30","v":{"$error":"#DIV/0!"}},{"$f":"E30/$Q$30","v":{"$error":"#DIV/0!"}},{"$error":"#DIV/0!"},{"$error":"#DIV/0!"},{"$error":"#DIV/0!"},{"$error":"#DIV/0!"},{"$error":"#DIV/0!"},{"$error":"#DIV/0!"},{"$error":"#DIV/0!"},{"$error":"#DIV/0!"},{"$error":"#DIV/0!"},{"$error":"#DIV/0!"},{"$error":"#DIV/0!"},{"$f":"SUM(Z22:AL22)","v":{"$error":"#DIV/0!"}}]
[null,null,"6~10",{"$f":"COUNTIFS($C$4:$CX$4,\">=6\",$C$4:$CX$4,\"<=10\",$C$5:$CX$5,D20)","v":0},0,0,0,0,0,0,0,0,0,0,0,0,{"$f":"SUM(D23:P23)","v":0},"",null,"C",{"$f":"R35","v":""},{"$f":"_xlfn.STDEV.P(データ入力シート１回目!$E$14:$CZ$16)","v":{"$error":"#DIV/0!"}},null,null,"C",{"$f":"D35/$Q$35","v":{"$error":"#DIV/0!"}},{"$f":"E35/$Q$35","v":{"$error":"#DIV/0!"}},{"$error":"#DIV/0!"},{"$error":"#DIV/0!"},{"$error":"#DIV/0!"},{"$error":"#DIV/0!"},{"$error":"#DIV/0!"},{"$error":"#DIV/0!"},{"$error":"#DIV/0!"},{"$error":"#DIV/0!"},{"$error":"#DIV/0!"},{"$error":"#DIV/0!"},{"$error":"#DIV/0!"},{"$f":"SUM(Z23:AL23)","v":{"$error":"#DIV/0!"}}]
[null,null,"５下",{"$f":"COUNTIFS($C$4:$CX$4,\"<=5\",$C$5:$CX$5,D20)","v":0},0,0,0,0,0,0,0,0,0,0,0,0,{"$f":"SUM(D24:P24)","v":0},"",null,"A",{"$f":"R40","v":""},{"$f":"_xlfn.STDEV.P(データ入力シート１回目!$E$17:$CZ$19)","v":{"$error":"#DIV/0!"}},null,null,"A",{"$f":"D40/$Q$40","v":{"$error":"#DIV/0!"}},{"$f":"E40/$Q$40","v":{"$error":"#DIV/0!"}},{"$error":"#DIV/0!"},{"$error":"#DIV/0!"},{"$error":"#DIV/0!"},{"$error":"#DIV/0!"},{"$error":"#DIV/0!"},{"$error":"#DIV/0!"},{"$error":"#DIV/0!"},{"$error":"#DIV/0!"},{"$error":"#DIV/0!"},{"$error":"#DIV/0!"},{"$error":"#DIV/0!"},{"$f":"SUM(Z24:AL24)","v":{"$error":"#DIV/0!"}}]
[null,null,"計",{"$f":"SUM(D21:D24)","v":0},0,0,0,0,0,0,0,0,0,0,0,0,0,""]
[null,"D\n経験年数","20上",{"$f":"COUNTIFS($C$4:$CX$4,\">=21\",$C$6:$CX$6,D20)","v":0},0,0,0,0,0,0,0,0,0,0,0,0,{"$f":"SUM(D26:P26)","v":0},""]
[null,null,"11~20",{"$f":"COUNTIFS($C$4:$CX$4,\">=11\",$C$4:$CX$4,\"<=20\",$C$6:$CX$6,D20)","v":0},0,0,0,0,0,0,0,0,0,0,0,0,{"$f":"SUM(D27:P27)","v":0},""]
[null,null,"6~10",{"$f":"COUNTIFS($C$4:$CX$4,\">=6\",$C$4:$CX$4,\"<=10\",$C$6:$CX$6,D20)","v":0},0,0,0,0,0,0,0,0,0,0,0,0,{"$f":"SUM(D28:P28)","v":0},""]
[null,null,"５下",{"$f":"COUNTIFS($C$4:$CX$4,\"<=5\",$C$6:$CX$6,D20)","v":0},0,0,0,0,0,0,0,0,0,0,0,0,{"$f":"SUM(D29:P29)","v":0},""]
[null,null,"計",{"$f":"SUM(D26:D29)","v":0},0,0,0,0,0,0,0,0,0,0,0,0,0,""]
[null,"C\n経験年数","20上",{"$f":"COUNTIFS($C$4:$CX$4,\">=21\",$C$7:$CX$7,D20)","v":0},0,0,0,0,0,0,0,0,0,0,0,0,{"$f":"SUM(D31:P31)","v":0},""]
[null,null,"11~20",{"$f":"COUNTIFS($C$4:$CX$4,\">=11\",$C$4:$CX$4,\"<=20\",$C$7:$CX$7,D20)","v":0},0,0,0,0,0,0,0,0,0,0,0,0,{"$f":"SUM(D32:P32)","v":0},""]
[null,null,"6~10",{"$f":"COUNTIFS($C$4:$BJ$4,\">=6\",$C$4:$BJ$4,\"<=10\",$C$7:$BJ$7,D20)","v":0},0,0,0,0,0,0,0,0,0,0,0,0,{"$f":"SUM(D33:P33)","v":0},""]
[null,null,"５下",{"$f":"COUNTIFS($C$4:$CX$4,\"<=5\",$C$7:$CX$7,D20)","v":0},0,0,0,0,0,0,0,0,0,0,0,0,{"$f":"SUM(D34:P34)","v":0},""]
[null,null,"計",{"$f":"SUM(D31:D34)","v":0},0,0,0,0,0,0,0,0,0,0,0,0,0,""]
[null,"A\n経験年数","20上",{"$f":"COUNTIFS($C$4:$CX$4,\">=21\",$C$8:$CX$8,D20)","v":0},0,0,0,0,0,0,0,0,0,0,0,0,{"$f":"SUM(D36:P36)","v":0},""]
[null,null,"11~20",{"$f":"COUNTIFS($C$4:$CX$4,\">=11\",$C$4:$CX$4,\"<=20\",$C$8:$CX$8,D20)","v":0},0,0,0,0,0,0,0,0,0,0,0,0,{"$f":"SUM(D37:P37)","v":0},""]
[null,null,"6~10",{"$f":"COUNTIFS($C$4:$CX$4,\">=6\",$C$4:$CX$4,\"<=10\",$C$8:$CX$8,D20)","v":0},0,0,0,0,0,0,0,0,0,0,0,0,{"$f":"SUM(D38:P38)","v":0},""]
[null,null,"５下",{"$f":"COUNTIFS($C$4:$CX$4,\"<=5\",$C$8:$CX$8,D20)","v":0},0,0,0,0,0,0,0,0,0,0,0,0,{"$f":"SUM(D39:P39)","v":0},""]
[null,null,"計",{"$f":"SUM(D36:D39)","v":0},0,0,0,0,0,0,0,0,0,0,0,0,0,""]
[]
[]
[null,null,null,"点数"]
[null,null,null,0,1,2,3,4,5,6,7,8,9,10,11,12,"計","平均",null,"人的資源について","平均","標準偏差",null,null,"教科等横断的な視点",0,1,2,3,4,5,6,7,8,9,10,11,12,"計"]
["人的資源について","P\n経験年数","21上",{"$f":"COUNTIFS($C$4:$CX$4,\">=21\",$C$9:$CX$9,D44)","v":0},0,0,0,0,0,0,0,0,0,0,0,0,{"$f":"SUM(D45:P45)","v":0},{"$f":"IF(Q45=0,\"\",(D$44*D45+E$44*E45+F$44*F45+G$44*G45+H$44*H45+I$44*I45+J$44*J45+K$44*K45+L$44*L45+M$44*M45+N$44*N45+O$44*O45+P$44*P45)/Q45)","v":""},null,"P",{"$f":"R49","v":""},{"$f":"_xlfn.STDEV.P(データ入力シート１回目!$E$20:$CZ$22)","v":{"$error":"#DIV/0!"}},null,null,"P",{"$f":"D49/$Q$49","v":{"$error":"#DIV/0!"}},{"$f":"E49/$Q$49","v":{"$error":"#DIV/0!"}},{"$error":"#DIV/0!"},{"$error":"#DIV/0!"},{"$error":"#DIV/0!"},{"$error":"#DIV/0!"},{"$error":"#DIV/0!"},{"$error":"#DIV/0!"},{"$error":"#DIV/0!"},{"$error":"#DIV/0!"},{"$error":"#DIV/0!"},{"$error":"#DIV/0!"},{"$error":"#DIV/0!"},{"$f":"SUM(Z45:AL45)","v":{"$error":"#DIV/0!"}}]
[null,null,"11~20",{"$f":"COUNTIFS($C$4:$CX$4,\">=11\",$C$4:$CX$4,\"<=20\",$C$9:$CX$9,D44)","v":0},0,0,0,0,0,0,0,0,0,0,0,0,{"$f":"SUM(D46:P46)","v":0},"",null,"D",{"$f":"R54","v":""},{"$f":"_xlfn.STDEV.P(データ入力シート１回目!$E$23:$CZ$25)","v":{"$error":"#DIV/0!"}},null,null,"D",{"$f":"D54/$Q$54","v":{"$error":"#DIV/0!"}},{"$f":"E54/$Q$54","v":{"$error":"#DIV/0!"}},{"$error":"#DIV/0!"},{"$error":"#DIV/0!"},{"$error":"#DIV/0!"},{"$error":"#DIV/0!"},{"$error":"#DIV/0!"},{"$error":"#DIV/0!"},{"$error":"#DIV/0!"},{"$error":"#DIV/0!"},{"$error":"#DIV/0!"},{"$error":"#DIV/0!"},{"$error":"#DIV/0!"},{"$f":"SUM(Z46:AL46)","v":{"$error":"#DIV/0!"}}]
[null,null,"6~10",{"$f":"COUNTIFS($C$4:$CX$4,\">=6\",$C$4:$CX$4,\"<=10\",$C$9:$CX$9,E44)","v":0},{"$f":"COUNTIFS($C$4:$CX$4,\">=6\",$C$4:$CX$4,\"<=10\",$C$9:$CX$9,E44)","v":0},0,0,0,0,0,0,0,0,0,0,0,{"$f":"SUM(D47:P47)","v":0},"",null,"C",{"$f":"R59","v":""},{"$f":"_xlfn.STDEV.P(データ入力シート１回目!$E$26:$CZ$28)","v":{"$error":"#DIV/0!"}},null,null,"C",{"$f":"D59/$Q$59","v":{"$error":"#DIV/0!"}},{"$f":"E59/$Q$59","v":{"$error":"#DIV/0!"}},{"$error":"#DIV/0!"},{"$error":"#DIV/0!"},{"$error":"#DIV/0!"},{"$error":"#DIV/0!"},{"$error":"#DIV/0!"},{"$error":"#DIV/0!"},{"$error":"#DIV/0!"},{"$error":"#DIV/0!"},{"$error":"#DIV/0!"},{"$error":"#DIV/0!"},{"$error":"#DIV/0!"},{"$f":"SUM(Z47:AL47)","v":{"$error":"#DIV/0!"}}]
[null,null,"５下",{"$f":"COUNTIFS($C$4:$CX$4,\"<=5\",$C$9:$CX$9,D44)","v":0},0,0,0,0,0,0,0,0,0,0,0,0,{"$f":"SUM(D48:P48)","v":0},"",null,"A",{"$f":"R64","v":""},{"$f":"_xlfn.STDEV.P(データ入力シート１回目!$E$29:$CZ$31)","v":{"$error":"#DIV/0!"}},null,null,"A",{"$f":"D64/$Q$64","v":{"$error":"#DIV/0!"}},{"$f":"E64/$Q$64","v":{"$error":"#DIV/0!"}},{"$error":"#DIV/0!"},{"$error":"#DIV/0!"},{"$error":"#DIV/0!"},{"$error":"#DIV/0!"},{"$error":"#DIV/0!"},{"$error":"#DIV/0!"},{"$error":"#DIV/0!"},{"$error":"#DIV/0!"},{"$error":"#DIV/0!"},{"$error":"#DIV/0!"},{"$error":"#DIV/0!"},{"$f":"SUM(Z48:AL48)","v":{"$error":"#DIV/0!"}}]
[null,null,"計",{"$f":"SUM(D45:D48)","v":0},0,0,0,0,0,0,0,0,0,0,0,0,0,""]
[null,"D\n経験年数","20上",{"$f":"COUNTIFS($C$4:$CX$4,\">=21\",$C$10:$CX$10,D44)","v":0},0,0,0,0,0,0,0,0,0,0,0,0,{"$f":"SUM(D50:P50)","v":0},""]
[null,null,"11~20",{"$f":"COUNTIFS($C$4:$CX$4,\">=11\",$C$4:$CX$4,\"<=20\",$C$10:$CX$10,D44)","v":0},0,0,0,0,0,0,0,0,0,0,0,0,{"$f":"SUM(D51:P51)","v":0},""]
[null,null,"6~10",{"$f":"COUNTIFS($C$4:$CX$4,\">=6\",$C$4:$CX$4,\"<=10\",$C$10:$CX$10,D44)","v":0},0,0,0,0,0,0,0,0,0,0,0,0,{"$f":"SUM(D52:P52)","v":0},""]
[null,null,"５下",{"$f":"COUNTIFS($C$4:$CX$4,\"<=5\",$C$10:$CX$10,E44)","v":0},{"$f":"COUNTIFS($C$4:$CX$4,\"<=5\",$C$10:$CX$10,E44)","v":0},0,0,0,0,0,0,0,0,0,0,0,{"$f":"SUM(D53:P53)","v":0},""]
[null,null,"計",{"$f":"SUM(D50:D53)","v":0},0,0,0,0,0,0,0,0,0,0,0,0,0,""]
[null,"C\n経験年数","20上",{"$f":"COUNTIFS($C$4:$CX$4,\">=21\",$C$11:$CX$11,E44)","v":0},{"$f":"COUNTIFS($C$4:$CX$4,\">=21\",$C$11:$CX$11,E44)","v":0},0,0,0,0,0,0,0,0,0,0,0,{"$f":"SUM(D55:P55)","v":0},""]
[null,null,"11~20",{"$f":"COUNTIFS($C$4:$CX$4,\">=11\",$C$4:$CX$4,\"<=20\",$C$7:$CX$7,D44)","v":0},0,0,0,0,0,0,0,0,0,0,0,0,{"$f":"SUM(D56:P56)","v":0},""]
[null,null,"6~10",{"$f":"COUNTIFS($C$4:$CX$4,\">=6\",$C$4:$CX$4,\"<=10\",$C$11:$CX$11,D44)","v":0},0,0,0,0,0,0,0,0,0,0,0,0,{"$f":"SUM(D57:P57)","v":0},""]
[null,null,"５下",{"$f":"COUNTIFS($C$4:$CX$4,\"<=5\",$C$11:$CX$11,D44)","v":0},0,0,0,0,0,0,0,0,0,0,0,0,{"$f":"SUM(D58:P58)","v":0},""]
[null,null,"計",{"$f":"SUM(D55:D58)","v":0},0,0,0,0,0,0,0,0,0,0,0,0,0,""]
[null,"A\n経験年数","20上",{"$f":"COUNTIFS($C$4:$CX$4,\">=21\",$C$12:$CX$12,D44)","v":0},0,0,0,0,0,0,0,0,0,0,0,0,{"$f":"SUM(D60:P60)","v":0},""]
[null,null,"11~20",{"$f":"COUNTIFS($C$4:$CX$4,\">=11\",$C$4:$CX$4,\"<=20\",$C$12:$CX$12,D44)","v":0},0,0,0,0,0,0,0,0,0,0,0,0,{"$f":"SUM(D61:P61)","v":0},""]
[null,null,"6~10",{"$f":"COUNTIFS($C$4:$CX$4,\">=6\",$C$4:$CX$4,\"<=10\",$C$12:$CX$12,D44)","v":0},0,0,0,0,0,0,0,0,0,0,0,0,{"$f":"SUM(D62:P62)","v":0},""]
[null,null,"５下",{"$f":"COUNTIFS($C$4:$CX$4,\"<=5\",$C$12:$CX$12,D44)","v":0},0,0,0,0,0,0,0,0,0,0,0,0,{"$f":"SUM(D63:P63)","v":0},""]
[null,null,"計",{"$f":"SUM(D60:D63)","v":0},0,0,0,0,0,0,0,0,0,0,0,0,0,""]
[]
[]
[null,null,null,"点数"]
[null,null,null,0,1,2,3,4,5,6,7,8,9,10,11,12,"計","平均",null,"物的資源について","平均","標準偏差",null,null,"教科等横断的な視点",0,1,2,3,4,5,6,7,8,9,10,11,12,"計"]
["物的資源について","P\n経験年数","21上",{"$f":"COUNTIFS($C$4:$CX$4,\">=21\",$C$13:$CX$13,D68)","v":0},0,0,0,0,0,0,0,0,0,0,0,0,{"$f":"SUM(D69:P69)","v":0},{"$f":"IF(Q69=0,\"\",(D$68*D69+E$68*E69+F$68*F69+G$68*G69+H$68*H69+I$68*I69+J$68*J69+K$68*K69+L$68*L69+M$68*M69+N$68*N69+O$68*O69+P$68*P69)/Q69)","v":""},null,"P",{"$f":"R73","v":""},{"$f":"_xlfn.STDEV.P(データ入力シート１回目!$E$32:$CZ$34)","v":{"$error":"#DIV/0!"}},null,null,"P",{"$f":"D73/$Q$73","v":{"$error":"#DIV/0!"}},{"$f":"E73/$Q$73","v":{"$error":"#DIV/0!"}},{"$error":"#DIV/0!"},{"$error":"#DIV/0!"},{"$error":"#DIV/0!"},{"$error":"#DIV/0!"},{"$error":"#DIV/0!"},{"$error":"#DIV/0!"},{"$error":"#DIV/0!"},{"$error":"#DIV/0!"},{"$error":"#DIV/0!"},{"$error":"#DIV/0!"},{"$error":"#DIV/0!"},{"$f":"SUM(Z69:AL69)","v":{"$error":"#DIV/0!"}}]
[null,null,"11~20",{"$f":"COUNTIFS($C$4:$CX$4,\">=11\",$C$4:$CX$4,\"<=20\",$C$13:$CX$13,D68)","v":0},0,0,0,0,0,0,0,0,0,0,0,0,{"$f":"SUM(D70:P70)","v":0},"",null,"D",{"$f":"R78","v":""},{"$f":"_xlfn.STDEV.P(データ入力シート１回目!$E$35:$CZ$37)","v":{"$error":"#DIV/0!"}},null,null,"D",{"$f":"D78/$Q$78","v":{"$error":"#DIV/0!"}},{"$f":"E78/$Q$78","v":{"$error":"#DIV/0!"}},{"$error":"#DIV/0!"},{"$error":"#DIV/0!"},{"$error":"#DIV/0!"},{"$error":"#DIV/0!"},{"$error":"#DIV/0!"},{"$error":"#DIV/0!"},{"$error":"#DIV/0!"},{"$error":"#DIV/0!"},{"$error":"#DIV/0!"},{"$error":"#DIV/0!"},{"$error":"#DIV/0!"},{"$f":"SUM(Z70:AL70)","v":{"$error":"#DIV/0!"}}]
[null,null,"6~10",{"$f":"COUNTIFS($C$4:$CX$4,\">=6\",$C$4:$CX$4,\"<=10\",$C$13:$CX$13,D68)","v":0},0,0,0,0,0,0,0,0,0,0,0,0,{"$f":"SUM(D71:P71)","v":0},"",null,"C",{"$f":"R83","v":""},{"$f":"_xlfn.STDEV.P(データ入力シート１回目!$E$38:$CZ$40)","v":{"$error":"#DIV/0!"}},null,null,"C",{"$f":"D83/$Q$83","v":{"$error":"#DIV/0!"}},{"$f":"E83/$Q$83","v":{"$error":"#DIV/0!"}},{"$error":"#DIV/0!"},{"$error":"#DIV/0!"},{"$error":"#DIV/0!"},{"$error":"#DIV/0!"},{"$error":"#DIV/0!"},{"$error":"#DIV/0!"},{"$error":"#DIV/0!"},{"$error":"#DIV/0!"},{"$error":"#DIV/0!"},{"$error":"#DIV/0!"},{"$error":"#DIV/0!"},{"$f":"SUM(Z71:AL71)","v":{"$error":"#DIV/0!"}}]
[null,null,"５下",{"$f":"COUNTIFS($C$4:$CX$4,\"<=5\",$C$13:$CX$13,D68)","v":0},0,0,0,0,0,0,0,0,0,0,0,0,{"$f":"SUM(D72:P72)","v":0},"",null,"A",{"$f":"R88","v":""},{"$f":"_xlfn.STDEV.P(データ入力シート１回目!$E$41:$CZ$43)","v":{"$error":"#DIV/0!"}},null,null,"A",{"$f":"D88/$Q$88","v":{"$error":"#DIV/0!"}},{"$f":"E88/$Q$88","v":{"$error":"#DIV/0!"}},{"$error":"#DIV/0!"},{"$error":"#DIV/0!"},{"$error":"#DIV/0!"},{"$f":"I88/$Q$88","v":{"$error":"#DIV/0!"}},{"$error":"#DIV/0!"},{"$error":"#DIV/0!"},{"$error":"#DIV/0!"},{"$error":"#DIV/0!"},{"$error":"#DIV/0!"},{"$error":"#DIV/0!"},{"$error":"#DIV/0!"},{"$f":"SUM(Z72:AL72)","v":{"$error":"#DIV/0!"}}]
[null,null,"計",{"$f":"SUM(D69:D72)","v":0},0,0,0,0,0,0,0,0,0,0,0,0,0,""]
[null,"D\n経験年数","20上",{"$f":"COUNTIFS($C$4:$CX$4,\">=21\",$C$14:$CX$14,D68)","v":0},0,0,0,0,0,0,0,0,0,0,0,0,{"$f":"SUM(D74:P74)","v":0},""]
[null,null,"11~20",{"$f":"COUNTIFS($C$4:$CX$4,\">=11\",$C$4:$CX$4,\"<=20\",$C$14:$CX$14,D68)","v":0},0,0,0,0,0,0,0,0,0,0,0,0,{"$f":"SUM(D75:P75)","v":0},""]
[null,null,"6~10",{"$f":"COUNTIFS($C$4:$CX$4,\">=6\",$C$4:$CX$4,\"<=10\",$C$14:$CX$14,D68)","v":0},0,0,0,0,0,0,0,0,0,0,0,0,{"$f":"SUM(D76:P76)","v":0},""]
[null,null,"５下",{"$f":"COUNTIFS($C$4:$CX$4,\"<=5\",$C$14:$CX$14,D68)","v":0},0,0,0,0,0,0,0,0,0,0,0,0,{"$f":"SUM(D77:P77)","v":0},""]
[null,null,"計",{"$f":"SUM(D74:D77)","v":0},0,0,0,0,0,0,0,0,0,0,0,0,0,""]
[null,"C\n経験年数","20上",{"$f":"COUNTIFS($C$4:$CX$4,\">=21\",$C$15:$CX$15,D68)","v":0},0,0,0,0,0,0,0,0,0,0,0,0,{"$f":"SUM(D79:P79)","v":0},""]
[null,null,"11~20",{"$f":"COUNTIFS($C$4:$CX$4,\">=11\",$C$4:$CX$4,\"<=20\",$C$15:$CX$15,D68)","v":0},0,0,0,0,0,0,0,0,0,0,0,0,{"$f":"SUM(D80:P80)","v":0},""]
[null,null,"6~10",{"$f":"COUNTIFS($C$4:$CX$4,\">=6\",$C$4:$CX$4,\"<=10\",$C$15:$CX$15,D68)","v":0},0,0,0,0,0,0,0,0,0,0,0,0,{"$f":"SUM(D81:P81)","v":0},""]
[null,null,"５下",{"$f":"COUNTIFS($C$4:$CX$4,\"<=5\",$C$15:$CX$15,D68)","v":0},0,0,0,0,0,0,0,0,0,0,0,0,{"$f":"SUM(D82:P82)","v":0},""]
[null,null,"計",{"$f":"SUM(D79:D82)","v":0},0,0,0,0,0,0,0,0,0,0,0,0,0,""]
[null,"A\n経験年数","20上",{"$f":"COUNTIFS($C$4:$CX$4,\">=21\",$C$16:$CX$16,D68)","v":0},0,0,0,0,0,0,0,0,0,0,0,0,{"$f":"SUM(D84:P84)","v":0},""]
[null,null,"11~20",{"$f":"COUNTIFS($C$4:$CX$4,\">=11\",$C$4:$CX$4,\"<=20\",$C$16:$CX$16,D68)","v":0},0,0,0,0,0,0,0,0,0,0,0,0,{"$f":"SUM(D85:P85)","v":0},""]
[null,null,"6~10",{"$f":"COUNTIFS($C$4:$CX$4,\">=6\",$C$4:$CX$4,\"<=10\",$C$16:$CX$16,D68)","v":0},0,0,0,0,0,0,0,0,0,0,0,0,{"$f":"SUM(D86:P86)","v":0},""]
[null,null,"５下",{"$f":"COUNTIFS($C$4:$CX$4,\"<=5\",$C$16:$CX$16,D68)","v":0},0,0,0,0,0,0,0,0,0,0,0,0,{"$f":"SUM(D87:P87)","v":0},""]
[null,null,"計",{"$f":"SUM(D84:D87)","v":0},0,0,0,0,0,0,0,0,0,0,0,0,0,""]

{"sheet":"集団傾向１回目","index":4,"n_rows":3,"n_cols":17,"rows_kept":3,"cut":false,"hidden":true,"merged":[[4,2,4,4]]}
[]
["（※　この表はデータ入力シート１回目の数値が反映されています。）"]
["教員全体のカリキュラム・マネジメントに係る意識や取組の傾向　１回目",null,null,null,null,null,null,null,null,null,null,null,null,null,null,null,""]

{"sheet":"年数別(2)１回目","index":5,"n_rows":30,"n_cols":36,"rows_kept":30,"cut":false,"hidden":true,"merged":[[28,35,31,38],[4,31,4,34],[4,35,4,38],[19,27,19,30],[19,31,19,34],[5,31,8,34],[13,22,16,22],[13,23,16,26],[13,27,16,30],[13,31,16,34],[19,35,19,38],[4,23,4,26],[5,22,8,22],[5,23,8,26],[5,27,8,30],[4,27,4,30],[5,35,8,38],[9,22,12,22],[9,23,12,26],[9,27,12,30],[9,31,12,34],[9,35,12,38],[13,35,16,38],[20,27,23,30],[20,0,20,1],[21,0,21,1],[22,0,22,1],[4,5,4,8],[4,9,4,12],[4,13,4,16],[4,17,4,20],[13,4,16,4],[13,5,16,8],[13,9,16,12],[13,13,16,16],[13,17,16,20],[5,4,8,4],[5,5,8,8],[5,9,8,12],[5,13,8,16],[5,17,8,20],[9,4,12,4],[9,5,12,8],[9,9,12,12],[9,13,12,16],[9,17,12,20],[19,5,19,8],[19,9,19,12],[3,0,3,2],[29,0,29,2],[11,0,11,1],[12,0,12,1],[13,0,13,1],[14,0,14,1],[15,0,15,1],[16,0,16,1],[4,0,4,1],[5,0,5,1],[6,0,6,1],[7,0,7,1],[8,0,8,1],[9,0,9,1],[10,0,10,1],[23,0,23,1],[24,0,24,1],[25,0,25,1],[26,0,26,1],[27,0,27,1],[28,0,28,1],[17,0,17,1],[18,0,18,1],[19,0,19,1],[19,13,19,16],[19,17,19,20],[19,23,19,26],[20,4,23,4],[20,5,23,8],[20,9,23,12],[20,13,23,16],[20,17,23,20],[20,22,23,22],[20,23,23,26],[20,31,23,34],[20,35,23,38],[24,4,27,4],[24,5,27,8],[24,9,27,12],[24,13,27,16],[24,17,27,20],[24,22,27,22],[24,23,27,26],[24,27,27,30],[24,31,27,34],[24,35,27,38],[28,4,31,4],[28,5,31,8],[28,9,31,12],[28,13,31,16],[28,17,31,20],[28,22,32,22],[28,23,31,26],[28,27,31,30],[28,31,31,34]]}
[]
["教員全体のカリキュラム・マネジメントに係る意識や取組の傾向（教員経験年数別）"]
[]
["当てはまる",null,null,null,"【１～５年】",null,null,null,null,null,null,null,null,null,null,null,null,null,null,null,null,null,"【６～10年】"]
[12,null,null,null,null,"P",null,null,null,"D",null,null,null,"C",null,null,null,"A",null,null,null,null,null,"P",null,null,null,"D",null,null,null,"C",null,null,null,"A"]
[11.5,null,null,null,"教科等横断的な視点について",{"$f":"IF(集計データ１回目!R24=\"\",\"\",集計データ１回目!R24)","v":""},null,null,null,{"$f":"IF(集計データ１回目!R29=\"\",\"\",集計データ１回目!R29)","v":""},null,null,null,{"$f":"IF(集計データ１回目!R34=\"\",\"\",集計データ１回目!R34)","v":""},null,null,null,{"$f":"IF(集計データ１回目!R39=\"\",\"\",集計データ１回目!R39)","v":""},null,null,null,null,"教科等横断的な視点について",{"$f":"IF(集計データ１回目!R23=\"\",\"\",集計データ１回目!R23)","v":""},null,null,null,{"$f":"IF(集計データ１回目!R28=\"\",\"\",集計データ１回目!R28)","v":""},null,null,null,{"$f":"IF(集計データ１回目!R33=\"\",\"\",集計データ１回目!R33)","v":""},null,null,null,{"$f":"IF(集計データ１回目!R38=\"\",\"\",集計データ１回目!R38)","v":""}]
[11]
[10.5]
[10]
[9.5,null,null,null,"人的資源について",{"$f":"IF(集計データ１回目!R48=\"\",\"\",集計データ１回目!R48)","v":""},null,null,null,{"$f":"IF(集計データ１回目!R53=\"\",\"\",集計データ１回目!R53)","v":""},null,null,null,{"$f":"IF(集計データ１回目!R58=\"\",\"\",集計データ１回目!R58)","v":""},null,null,null,{"$f":"IF(集計データ１回目!R63=\"\",\"\",集計データ１回目!R63)","v":""},null,null,null,null,"人的資源について",{"$f":"IF(集計データ１回目!R47=\"\",\"\",集計データ１回目!R47)","v":""},null,null,null,{"$f":"IF(集計データ１回目!R52=\"\",\"\",集計データ１回目!R52)","v":""},null,null,null,{"$f":"IF(集計データ１回目!R57=\"\",\"\",集計データ１回目!R57)","v":""},null,null,null,{"$f":"IF(集計データ１回目!R62=\"\",\"\",集計データ１回目!R62)","v":""}]
[9]
[8.5]
[8]
[7.5,null,null,null,"物的資源について",{"$f":"IF(集計データ１回目!R72=\"\",\"\",集計データ１回目!R72)","v":""},null,null,null,{"$f":"IF(集計データ１回目!R77=\"\",\"\",集計データ１回目!R77)","v":""},null,null,null,{"$f":"IF(集計データ１回目!R82=\"\",\"\",集計データ１回目!R82)","v":""},null,null,null,{"$f":"IF(集計データ１回目!R87=\"\",\"\",集計データ１回目!R87)","v":""},null,null,null,null,"物的資源について",{"$f":"IF(集計データ１回目!R71=\"\",\"\",集計データ１回目!R71)","v":""},null,null,null,{"$f":"IF(集計データ１回目!R76=\"\",\"\",集計データ１回目!R76)","v":""},null,null,null,{"$f":"IF(集計データ１回目!R81=\"\",\"\",集計データ１回目!R81)","v":""},null,null,null,{"$f":"IF(集計データ１回目!R86=\"\",\"\",集計データ１回目!R86)","v":""}]
[7]
[6.5]
[6]
[5.5]
[5,null,null,null,"【11～20年】",null,null,null,null,null,null,null,null,null,null,null,null,null,null,null,null,null,"【21年以上】"]
[4.5,null,null,null,null,"P",null,null,null,"D",null,null,null,"C",null,null,null,"A",null,null,null,null,null,"P",null,null,null,"D",null,null,null,"C",null,null,null,"A"]
[4,null,null,null,"教科等横断的な視点について",{"$f":"IF(集計データ１回目!R22=\"\",\"\",集計データ１回目!R22)","v":""},null,null,null,{"$f":"IF(集計データ１回目!R27=\"\",\"\",集計データ１回目!R27)","v":""},null,null,null,{"$f":"IF(集計データ１回目!R32=\"\",\"\",集計データ１回目!R32)","v":""},null,null,null,{"$f":"IF(集計データ１回目!R37=\"\",\"\",集計データ１回目!R37)","v":""},null,null,null,null,"教科等横断的な視点について",{"$f":"IF(集計データ１回目!R21=\"\",\"\",集計データ１回目!R21)","v":""},null,null,null,{"$f":"IF(集計データ１回目!R26=\"\",\"\",集計データ１回目!R26)","v":""},null,null,null,{"$f":"IF(集計データ１回目!R31=\"\",\"\",集計データ１回目!R31)","v":""},null,null,null,{"$f":"IF(集計データ１回目!R36=\"\",\"\",集計データ１回目!R36)","v":""}]
[3.5]
[3]
[2.5]
[2,null,null,null,"人的資源について",{"$f":"IF(集計データ１回目!R46=\"\",\"\",集計データ１回目!R46)","v":""},null,null,null,{"$f":"IF(集計データ１回目!R51=\"\",\"\",集計データ１回目!R51)","v":""},null,null,null,{"$f":"IF(集計データ１回目!R56=\"\",\"\",集計データ１回目!R56)","v":""},null,null,null,{"$f":"IF(集計データ１回目!R61=\"\",\"\",集計データ１回目!R61)","v":""},null,null,null,null,"人的資源について",{"$f":"IF(集計データ１回目!R45=\"\",\"\",集計データ１回目!R45)","v":""},null,null,null,{"$f":"IF(集計データ１回目!R50=\"\",\"\",集計データ１回目!R50)","v":""},null,null,null,{"$f":"IF(集計データ１回目!R55=\"\",\"\",集計データ１回目!R55)","v":""},null,null,null,{"$f":"IF(集計データ１回目!R60=\"\",\"\",集計データ１回目!R60)","v":""}]
[1.5]
[1]
[0.5]
[0,null,null,null,"物的資源について",{"$f":"IF(集計データ１回目!R70=\"\",\"\",集計データ１回目!R70)","v":""},null,null,null,{"$f":"IF(集計データ１回目!R75=\"\",\"\",集計データ１回目!R75)","v":""},null,null,null,{"$f":"IF(集計データ１回目!R80=\"\",\"\",集計データ１回目!R80)","v":""},null,null,null,{"$f":"IF(集計データ１回目!R85=\"\",\"\",集計データ１回目!R85)","v":""},null,null,null,null,"物的資源について",{"$f":"IF(集計データ１回目!R69=\"\",\"\",集計データ１回目!R69)","v":""},null,null,null,{"$f":"IF(集計データ１回目!R74=\"\",\"\",集計データ１回目!R74)","v":""},null,null,null,{"$f":"IF(集計データ１回目!R79=\"\",\"\",集計データ１回目!R79)","v":""},null,null,null,{"$f":"IF(集計データ１回目!R84=\"\",\"\",集計データ１回目!R84)","v":""}]
["当てはまらない"]

{"sheet":"年数別１回目","index":6,"n_rows":29,"n_cols":36,"rows_kept":29,"cut":false,"hidden":true,"merged":[[3,0,3,2],[10,0,10,1],[7,0,7,1],[17,0,17,1],[18,0,18,1],[15,0,15,1],[16,0,16,1],[4,0,4,1],[5,0,5,1],[6,0,6,1],[8,0,8,1],[9,0,9,1],[9,17,12,20],[13,5,16,8],[13,9,16,12],[13,13,16,16],[28,22,31,22],[13,17,16,20],[11,0,11,1],[12,0,12,1],[14,0,14,1],[13,0,13,2],[20,13,23,16],[9,13,12,16],[19,0,19,1],[5,17,8,20],[4,5,4,8],[4,9,4,12],[4,17,4,20],[4,13,4,16],[5,13,8,16],[5,4,8,4],[9,4,12,4],[13,4,16,4],[20,5,23,8],[20,9,23,12],[19,5,19,8],[19,9,19,12],[5,5,8,8],[5,9,8,12],[9,5,12,8],[9,9,12,12],[19,13,19,16],[19,17,19,20],[20,4,23,4],[24,4,27,4],[28,4,31,4],[28,5,31,8],[28,9,31,12],[28,13,31,16],[28,17,31,20],[20,17,23,20],[24,5,27,8],[24,9,27,12],[24,13,27,16],[24,17,27,20],[5,31,8,34],[5,35,8,38],[4,23,4,26],[4,27,4,30],[4,31,4,34],[4,35,4,38],[9,35,12,38],[9,31,12,34],[9,27,12,30],[9,23,12,26],[13,23,16,26],[13,27,16,30],[13,31,16,34],[13,35,16,38],[5,22,8,22],[9,22,12,22],[13,22,16,22],[19,23,19,26],[19,27,19,30],[5,23,8,26],[5,27,8,30],[20,22,23,22],[24,22,27,22],[20,23,23,26],[20,27,23,30],[20,31,23,34],[24,23,27,26],[24,27,27,30],[24,31,27,34],[28,23,31,26],[28,27,31,30],[28,31,31,34],[19,31,19,34],[19,35,19,38],[20,35,23,38],[24,35,27,38],[28,35,31,38]]}
[]
["教員全体のカリキュラム・マネジメントに係る意識や取組の傾向（教員経験年数別）　１回目"]
[]
["当てはまる",null,null,null,"【１～５年】",null,null,null,null,null,null,null,null,null,null,null,null,null,null,null,null,null,"【６～10年】"]
[4,null,null,null,null,"P",null,null,null,"D",null,null,null,"C",null,null,null,"A",null,null,null,null,null,"P",null,null,null,"D",null,null,null,"C",null,null,null,"A"]
[3.5,null,null,null,"教科等横断的な視点について",{"$f":"IF(集計データ１回目!R24=\"\",\"\",集計データ１回目!R24/3)","v":""},null,null,null,{"$f":"IF(集計データ１回目!R29=\"\",\"\",集計データ１回目!R29/3)","v":""},null,null,null,{"$f":"IF(集計データ１回目!R34=\"\",\"\",集計データ１回目!R34/3)","v":""},null,null,null,{"$f":"IF(集計データ１回目!R39=\"\",\"\",集計データ１回目!R39/3)","v":""},null,null,null,null,"教科等横断的な視点について",{"$f":"IF(集計データ１回目!R23=\"\",\"\",集計データ１回目!R23/3)","v":""},null,null,null,{"$f":"IF(集計データ１回目!R28=\"\",\"\",集計データ１回目!R28/3)","v":""},null,null,null,{"$f":"IF(集計データ１回目!R33=\"\",\"\",集計データ１回目!R33/3)","v":""},null,null,null,{"$f":"IF(集計データ１回目!R38=\"\",\"\",集計データ１回目!R38/3)","v":""}]
[3]
[2.5]
[2]
[1.5,null,null,null,"人的資源について",{"$f":"IF(集計データ１回目!R48=\"\",\"\",集計データ１回目!R48/3)","v":""},null,null,null,{"$f":"IF(集計データ１回目!R53=\"\",\"\",集計データ１回目!R53/3)","v":""},null,null,null,{"$f":"IF(集計データ１回目!R58=\"\",\"\",集計データ１回目!R58/3)","v":""},null,null,null,{"$f":"IF(集計データ１回目!R63=\"\",\"\",集計データ１回目!R63/3)","v":""},null,null,null,null,"人的資源について",{"$f":"IF(集計データ１回目!R47=\"\",\"\",集計データ１回目!R47/3)","v":""},null,null,null,{"$f":"IF(集計データ１回目!R52=\"\",\"\",集計データ１回目!R52/3)","v":""},null,null,null,{"$f":"IF(集計データ１回目!R57=\"\",\"\",集計データ１回目!R57/3)","v":""},null,null,null,{"$f":"IF(集計データ１回目!R62=\"\",\"\",集計データ１回目!R62/3)","v":""}]
[1]
[0.5]
[0]
["当てはまらない",null,null,null,"物的資源について",{"$f":"IF(集計データ１回目!R72=\"\",\"\",集計データ１回目!R72/3)","v":""},null,null,null,{"$f":"IF(集計データ１回目!R77=\"\",\"\",集計データ１回目!R77/3)","v":""},null,null,null,{"$f":"IF(集計データ１回目!R82=\"\",\"\",集計データ１回目!R82/3)","v":""},null,null,null,{"$f":"IF(集計データ１回目!R87=\"\",\"\",集計データ１回目!R87/3)","v":""},null,null,null,null,"物的資源について",{"$f":"IF(集計データ１回目!R71=\"\",\"\",集計データ１回目!R71/3)","v":""},null,null,null,{"$f":"IF(集計データ１回目!R76=\"\",\"\",集計データ１回目!R76/3)","v":""},null,null,null,{"$f":"IF(集計データ１回目!R81=\"\",\"\",集計データ１回目!R81/3)","v":""},null,null,null,{"$f":"IF(集計データ１回目!R86=\"\",\"\",集計データ１回目!R86/3)","v":""}]
[]
[]
[]
[]
[null,null,null,null,"【11～20年】",null,null,null,null,null,null,null,null,null,null,null,null,null,null,null,null,null,"【21年以上】"]
[null,null,null,null,null,"P",null,null,null,"D",null,null,null,"C",null,null,null,"A",null,null,null,null,null,"P",null,null,null,"D",null,null,null,"C",null,null,null,"A"]
[null,null,null,null,"教科等横断的な視点について",{"$f":"IF(集計データ１回目!R22=\"\",\"\",集計データ１回目!R22/3)","v":""},null,null,null,{"$f":"IF(集計データ１回目!R27=\"\",\"\",集計データ１回目!R27/3)","v":""},null,null,null,{"$f":"IF(集計データ１回目!R32=\"\",\"\",集計データ１回目!R32/3)","v":""},null,null,null,{"$f":"IF(集計データ１回目!R37=\"\",\"\",集計データ１回目!R37/3)","v":""},null,null,null,null,"教科等横断的な視点について",{"$f":"IF(集計データ１回目!R21=\"\",\"\",集計データ１回目!R21/3)","v":""},null,null,null,{"$f":"IF(集計データ１回目!R26=\"\",\"\",集計データ１回目!R26/3)","v":""},null,null,null,{"$f":"IF(集計データ１回目!R31=\"\",\"\",集計データ１回目!R31/3)","v":""},null,null,null,{"$f":"IF(集計データ１回目!R36=\"\",\"\",集計データ１回目!R36/3)","v":""}]
[]
[]
[]
[null,null,null,null,"人的資源について",{"$f":"IF(集計データ１回目!R46=\"\",\"\",集計データ１回目!R46/3)","v":""},null,null,null,{"$f":"IF(集計データ１回目!R51=\"\",\"\",集計データ１回目!R51/3)","v":""},null,null,null,{"$f":"IF(集計データ１回目!R56=\"\",\"\",集計データ１回目!R56/3)","v":""},null,null,null,{"$f":"IF(集計データ１回目!R61=\"\",\"\",集計データ１回目!R61/3)","v":""},null,null,null,null,"人的資源について",{"$f":"IF(集計データ１回目!R45=\"\",\"\",集計データ１回目!R45/3)","v":""},null,null,null,{"$f":"IF(集計データ１回目!R50=\"\",\"\",集計データ１回目!R50/3)","v":""},null,null,null,{"$f":"IF(集計データ１回目!R55=\"\",\"\",集計データ１回目!R55/3)","v":""},null,null,null,{"$f":"IF(集計データ１回目!R60=\"\",\"\",集計データ１回目!R60/3)","v":""}]
[]
[]
[]
[null,null,null,null,"物的資源について",{"$f":"IF(集計データ１回目!R70=\"\",\"\",集計データ１回目!R70/3)","v":""},null,null,null,{"$f":"IF(集計データ１回目!R75=\"\",\"\",集計データ１回目!R75/3)","v":""},null,null,null,{"$f":"IF(集計データ１回目!R80=\"\",\"\",集計データ１回目!R80/3)","v":""},null,null,null,{"$f":"IF(集計データ１回目!R85=\"\",\"\",集計データ１回目!R85/3)","v":""},null,null,null,null,"物的資源について",{"$f":"IF(集計データ１回目!R69=\"\",\"\",集計データ１回目!R69/3)","v":""},null,null,null,{"$f":"IF(集計データ１回目!R74=\"\",\"\",集計データ１回目!R74/3)","v":""},null,null,null,{"$f":"IF(集計データ１回目!R79=\"\",\"\",集計データ１回目!R79/3)","v":""},null,null,null,{"$f":"IF(集計データ１回目!R84=\"\",\"\",集計データ１回目!R84/3)","v":""}]

{"sheet":"データ入力シート２回目","index":7,"n_rows":47,"n_cols":104,"rows_kept":47,"cut":false,"hidden":true,"merged":[[3,1,4,1],[3,2,4,2],[7,0,18,0],[19,0,30,0],[44,0,46,0],[44,1,44,3],[45,1,45,3],[46,1,46,3],[31,0,42,0]]}
[]
[null,null,null,"カリキュラム・マネジメントセルフチェックシート（データ入力シート）　２回目",null,null,null,null,null,null,null,null,null,null,null,""]
[]
[null,null,null,"番号",1,2,3,4,5,6,7,8,9,10,11,12,13,14,15,16,17,18,19,20,21,22,23,24,25,26,27,28,29,30,31,32,33,34,35,36,37,38,39,40,41,42,43,44,45,46,47,48,49,50,51,52,53,54,55,56,57,58,59,60,61,62,63,64,65,66,67,68,69,70,71,72,73,74,75,76,77,78,79,80,81,82,83,84,85,86,87,88,89,90,91,92,93,94,95,96,97,98,99,100]
[null,null,null,"名前"]
[null,null,null,"職層"]
[null,null,null,"年次"]
["教科横断的な視点について",1,"P","学校の教育目標や重点目標等を十分に理解して教育活動を行っている。"]
[null,2,"P","学校の教育目標や重点目標等を達成するために、教科等横断的な視点を意識して、各教科等の年間指導計画を作成している。"]
[null,3,"P","それぞれの教科等でどのような評価方法を用いているか確認して、各教科等の年間指導計画を作成している。"]
[null,4,"D","日々の授業で捉えた児童・生徒の学習状況を基に、教科等横断的な視点を意識して指導している。"]
[null,5,"D","日々の授業で捉えた児童・生徒の学習状況を基に、学年や他校（園）種の系統性を意識して指導している。"]
[null,6,"D","日頃から、評価に活用するために評価規準を明確にして児童・生徒の学習や活動の状況を記録し、蓄積している。"]
[null,7,"C","児童・生徒の資質・能力が育成されたかについて、学習や活動状況の記録やテスト等を基に評価をしている。"]
[null,8,"C","自分自身の授業改善を図るために、毎時間評価し、計画的に改善を行っている。"]
[null,9,"C","各教科等の指導は、児童・生徒の学習到達度や児童、生徒、保護者対象のアンケート等を基に、客観的に評価している。"]
[null,10,"A","児童・生徒の評価を基に、指導計画（年間、単元、一単位時間等）や指導方法を改善して、次の授業に臨んでいる。"]
[null,11,"A","児童・生徒の評価や、他教科等との関連を意識して単元の配列を検討し、各教科等の年間指導計画を改善している。"]
[null,12,"A","学校行事の改善案を作成する際、各教科等との関連を意識して効果的な指導計画等を検討している。"]
["人的資源について",13,"P","各教科等の年間指導計画は、外部の人的資源を効果的に活用することを意識して作成している。"]
[null,14,"P","各教科等の年間指導計画は、教員間で目標や指導内容を共通理解することを意識して作成している。"]
[null,15,"P","学校行事の計画は、人的資源を効果的に活用して作成することを意識している。"]
[null,16,"D","人的資源（学校内部・外部）を活用する際、授業の目標や指導内容を共通理解して、指導に当たっている。"]
[null,17,"D","自校の特色ある教育活動について、具体的に説明することができる。"]
[null,18,"D","各教科等で外部の人的資源を効果的に活用するために、様々な実践事例等の情報収集をしている。"]
[null,19,"C","人的資源を活用した後、児童・生徒の学びに効果的であったかなどを評価している。"]
[null,20,"C","児童・生徒一人一人の学習状況等の把握をするために、教員間で情報交換を行っている。"]
[null,21,"C","評価に関する情報や、児童・生徒の成果と課題についての情報を、保護者と共有している。"]
[null,22,"A","人的資源を活用して得た情報を教員間で共有するために、引き継ぎ資料として蓄積・整理をしている。"]
[null,23,"A","自分自身の授業改善のために、研修の機会を十分に活用している。"]
[null,24,"A","教員同士の授業改善ために、研修会等で学んだことを教員間で共有している。"]
["物的資源について",25,"P","各教科等の年間指導計画は、外部の物的資源を効果的に活用することを意識して作成している。"]
[null,26,"P","各教科等の目標を達成するために、児童・生徒の実態に応じて、必要な教材・教具の整備を行っている。"]
[null,27,"P","学校行事の計画は、物的資源を効果的に活用して作成することを意識している。"]
[null,28,"D","近隣の学校との連絡会等で児童・生徒の情報交換を行い、地域の児童・生徒の状況を把握している。"]
[null,29,"D","児童・生徒の実態に応じた授業を行うために、積極的に教材研究を行っている。"]
[null,30,"D","各教科等で外部の物的資源を効果的に活用するために、様々な実践事例等の情報収集をしている"]
[null,31,"C","外部の物的資源を活用した後、児童・生徒の学びに効果的であったかなど、評価している。"]
[null,32,"C","授業後に、学習に効果的であった教材・教具についての情報を蓄積している。"]
[null,33,"C","地域等の理解や協力を得るために、Webページ等を活用して、学校の教育活動ついて発信している。"]
[null,34,"A","物的資源を活用して得た情報を教員間で共有するために、引き継ぎ資料として蓄積・整理をしている。"]
[null,35,"A","授業後の児童・生徒の学習の習得状況を把握し、各教科等の教材・教具の工夫・改善を行っている。"]
[null,36,"A","校外の研修会等で得た物的資源についての情報を教員間で共有している。"]
[]
["入力した日","教科横断的な視点について"]
[null,"人的資源について"]
[null,"物的資源について"]

{"sheet":"集計データ２回目","index":8,"n_rows":88,"n_cols":102,"rows_kept":88,"cut":false,"hidden":true,"merged":[[66,3,66,17],[68,0,87,0],[68,1,72,1],[73,1,77,1],[78,1,82,1],[83,1,87,1],[42,3,42,17],[44,0,63,0],[44,1,48,1],[49,1,53,1],[54,1,58,1],[59,1,63,1],[4,0,7,0],[8,0,11,0],[12,0,15,0],[18,3,18,17],[20,0,39,0],[20,1,24,1],[25,1,29,1],[30,1,34,1],[35,1,39,1]]}
["※データ入力シート２回目を反映"]
["集計データ１回目"]
[null,"番号",1,2,3,4,5,6,7,8,9,10,11,12,13,14,15,16,17,18,19,20,21,22,23,24,25,26,27,28,29,30,31,32,33,34,35,36,37,38,39,40,41,42,43,44,45,46,47,48,49,50,51,52,53,54,55,56,57,58,59,60,61,62,63,64,65,66,67,68,69,70,71,72,73,74,75,76,77,78,79,80,81,82,83,84,85,86,87,88,89,90,91,92,93,94,95,96,97,98,99,100]
[null,"教員経験年数",{"$f":"データ入力シート２回目!E7","v":0},{"$f":"データ入力シート２回目!F7","v":0},{"$f":"データ入力シート２回目!G7","v":0},{"$f":"データ入力シート２回目!H7","v":0},{"$f":"データ入力シート２回目!I7","v":0},{"$f":"データ入力シート２回目!J7","v":0},{"$f":"データ入力シート２回目!K7","v":0},{"$f":"データ入力シート２回目!L7","v":0},{"$f":"データ入力シート２回目!M7","v":0},{"$f":"データ入力シート２回目!N7","v":0},{"$f":"データ入力シート２回目!O7","v":0},{"$f":"データ入力シート２回目!P7","v":0},{"$f":"データ入力シート２回目!Q7","v":0},{"$f":"データ入力シート２回目!R7","v":0},{"$f":"データ入力シート２回目!S7","v":0},{"$f":"データ入力シート２回目!T7","v":0},{"$f":"データ入力シート２回目!U7","v":0},{"$f":"データ入力シート２回目!V7","v":0},{"$f":"データ入力シート２回目!W7","v":0},{"$f":"データ入力シート２回目!X7","v":0},{"$f":"データ入力シート２回目!Y7","v":0},{"$f":"データ入力シート２回目!Z7","v":0},{"$f":"データ入力シート２回目!AA7","v":0},{"$f":"データ入力シート２回目!AB7","v":0},{"$f":"データ入力シート２回目!AC7","v":0},{"$f":"データ入力シート２回目!AD7","v":0},{"$f":"データ入力シート２回目!AE7","v":0},{"$f":"データ入力シート２回目!AF7","v":0},{"$f":"データ入力シート２回目!AG7","v":0},{"$f":"データ入力シート２回目!AH7","v":0},{"$f":"データ入力シート２回目!AI7","v":0},{"$f":"データ入力シート２回目!AJ7","v":0},{"$f":"データ入力シート２回目!AK7","v":0},{"$f":"データ入力シート２回目!AL7","v":0},{"$f":"データ入力シート２回目!AM7","v":0},{"$f":"データ入力シート２回目!AN7","v":0},{"$f":"データ入力シート２回目!AO7","v":0},{"$f":"データ入力シート２回目!AP7","v":0},{"$f":"データ入力シート２回目!AQ7","v":0},{"$f":"データ入力シート２回目!AR7","v":0},{"$f":"データ入力シート２回目!AS7","v":0},{"$f":"データ入力シート２回目!AT7","v":0},{"$f":"データ入力シート２回目!AU7","v":0},{"$f":"データ入力シート２回目!AV7","v":0},{"$f":"データ入力シート２回目!AW7","v":0},{"$f":"データ入力シート２回目!AX7","v":0},{"$f":"データ入力シート２回目!AY7","v":0},{"$f":"データ入力シート２回目!AZ7","v":0},{"$f":"データ入力シート２回目!BA7","v":0},{"$f":"データ入力シート２回目!BB7","v":0},{"$f":"データ入力シート２回目!BC7","v":0},{"$f":"データ入力シート２回目!BD7","v":0},{"$f":"データ入力シート２回目!BE7","v":0},{"$f":"データ入力シート２回目!BF7","v":0},{"$f":"データ入力シート２回目!BG7","v":0},{"$f":"データ入力シート２回目!BH7","v":0},{"$f":"データ入力シート２回目!BI7","v":0},{"$f":"データ入力シート２回目!BJ7","v":0},{"$f":"データ入力シート２回目!BK7","v":0},{"$f":"データ入力シート２回目!BL7","v":0},{"$f":"データ入力シート２回目!BM7","v":0},{"$f":"データ入力シート２回目!BN7","v":0},{"$f":"データ入力シート２回目!BO7","v":0},{"$f":"データ入力シート２回目!BP7","v":0},{"$f":"データ入力シート２回目!BQ7","v":0},{"$f":"データ入力シート２回目!BR7","v":0},{"$f":"データ入力シート２回目!BS7","v":0},{"$f":"データ入力シート２回目!BT7","v":0},{"$f":"データ入力シート２回目!BU7","v":0},{"$f":"データ入力シート２回目!BV7","v":0},{"$f":"データ入力シート２回目!BW7","v":0},{"$f":"データ入力シート２回目!BX7","v":0},{"$f":"データ入力シート２回目!BY7","v":0},{"$f":"データ入力シート２回目!BZ7","v":0},{"$f":"データ入力シート２回目!CA7","v":0},{"$f":"データ入力シート２回目!CB7","v":0},{"$f":"データ入力シート２回目!CC7","v":0},{"$f":"データ入力シート２回目!CD7","v":0},{"$f":"データ入力シート２回目!CE7","v":0},{"$f":"データ入力シート２回目!CF7","v":0},{"$f":"データ入力シート２回目!CG7","v":0},{"$f":"データ入力シート２回目!CH7","v":0},{"$f":"データ入力シート２回目!CI7","v":0},{"$f":"データ入力シート２回目!CJ7","v":0},{"$f":"データ入力シート２回目!CK7","v":0},{"$f":"データ入力シート２回目!CL7","v":0},{"$f":"データ入力シート２回目!CM7","v":0},{"$f":"データ入力シート２回目!CN7","v":0},{"$f":"データ入力シート２回目!CO7","v":0},{"$f":"データ入力シート２回目!CP7","v":0},{"$f":"データ入力シート２回目!CQ7","v":0},{"$f":"データ入力シート２回目!CR7","v":0},{"$f":"データ入力シート２回目!CS7","v":0},{"$f":"データ入力シート２回目!CT7","v":0},{"$f":"データ入力シート２回目!CU7","v":0},{"$f":"データ入力シート２回目!CV7","v":0},{"$f":"データ入力シート２回目!CW7","v":0},{"$f":"データ入力シート２回目!CX7","v":0},{"$f":"データ入力シート２回目!CY7","v":0},{"$f":"データ入力シート２回目!CZ7","v":0}]
["教科等横断的な視点について","P",{"$f":"IF(データ入力シート２回目!E8=\"\",\"\",データ入力シート２回目!E8)+IF(データ入力シート２回目!E9=\"\",\"\",データ入力シート２回目!E9)+IF(データ入力シート２回目!E10=\"\",\"\",データ入力シート２回目!E10)","v":{"$error":"#VALUE!"}},{"$f":"IF(データ入力シート２回目!F8=\"\",\"\",データ入力シート２回目!F8)+IF(データ入力シート２回目!F9=\"\",\"\",データ入力シート２回目!F9)+IF(データ入力シート２回目!F10=\"\",\"\",データ入力シート２回目!F10)","v":{"$error":"#VALUE!"}},{"$f":"IF(データ入力シート２回目!G8=\"\",\"\",データ入力シート２回目!G8)+IF(データ入力シート２回目!G9=\"\",\"\",データ入力シート２回目!G9)+IF(データ入力シート２回目!G10=\"\",\"\",データ入力シート２回目!G10)","v":{"$error":"#VALUE!"}},{"$f":"IF(データ入力シート２回目!H8=\"\",\"\",データ入力シート２回目!H8)+IF(データ入力シート２回目!H9=\"\",\"\",データ入力シート２回目!H9)+IF(データ入力シート２回目!H10=\"\",\"\",データ入力シート２回目!H10)","v":{"$error":"#VALUE!"}},{"$f":"IF(データ入力シート２回目!I8=\"\",\"\",データ入力シート２回目!I8)+IF(データ入力シート２回目!I9=\"\",\"\",データ入力シート２回目!I9)+IF(データ入力シート２回目!I10=\"\",\"\",データ入力シート２回目!I10)","v":{"$error":"#VALUE!"}},{"$f":"IF(データ入力シート２回目!J8=\"\",\"\",データ入力シート２回目!J8)+IF(データ入力シート２回目!J9=\"\",\"\",データ入力シート２回目!J9)+IF(データ入力シート２回目!J10=\"\",\"\",データ入力シート２回目!J10)","v":{"$error":"#VALUE!"}},{"$f":"IF(データ入力シート２回目!K8=\"\",\"\",データ入力シート２回目!K8)+IF(データ入力シート２回目!K9=\"\",\"\",データ入力シート２回目!K9)+IF(データ入力シート２回目!K10=\"\",\"\",データ入力シート２回目!K10)","v":{"$error":"#VALUE!"}},{"$f":"IF(データ入力シート２回目!L8=\"\",\"\",データ入力シート２回目!L8)+IF(データ入力シート２回目!L9=\"\",\"\",データ入力シート２回目!L9)+IF(データ入力シート２回目!L10=\"\",\"\",データ入力シート２回目!L10)","v":{"$error":"#VALUE!"}},{"$f":"IF(データ入力シート２回目!M8=\"\",\"\",データ入力シート２回目!M8)+IF(データ入力シート２回目!M9=\"\",\"\",データ入力シート２回目!M9)+IF(データ入力シート２回目!M10=\"\",\"\",データ入力シート２回目!M10)","v":{"$error":"#VALUE!"}},{"$f":"IF(データ入力シート２回目!N8=\"\",\"\",データ入力シート２回目!N8)+IF(データ入力シート２回目!N9=\"\",\"\",データ入力シート２回目!N9)+IF(データ入力シート２回目!N10=\"\",\"\",データ入力シート２回目!N10)","v":{"$error":"#VALUE!"}},{"$f":"IF(データ入力シート２回目!O8=\"\",\"\",データ入力シート２回目!O8)+IF(データ入力シート２回目!O9=\"\",\"\",データ入力シート２回目!O9)+IF(データ入力シート２回目!O10=\"\",\"\",データ入力シート２回目!O10)","v":{"$error":"#VALUE!"}},{"$f":"IF(データ入力シート２回目!P8=\"\",\"\",データ入力シート２回目!P8)+IF(データ入力シート２回目!P9=\"\",\"\",データ入力シート２回目!P9)+IF(データ入力シート２回目!P10=\"\",\"\",データ入力シート２回目!P10)","v":{"$error":"#VALUE!"}},{"$f":"IF(データ入力シート２回目!Q8=\"\",\"\",データ入力シート２回目!Q8)+IF(データ入力シート２回目!Q9=\"\",\"\",データ入力シート２回目!Q9)+IF(データ入力シート２回目!Q10=\"\",\"\",データ入力シート２回目!Q10)","v":{"$error":"#VALUE!"}},{"$f":"IF(データ入力シート２回目!R8=\"\",\"\",データ入力シート２回目!R8)+IF(データ入力シート２回目!R9=\"\",\"\",データ入力シート２回目!R9)+IF(データ入力シート２回目!R10=\"\",\"\",データ入力シート２回目!R10)","v":{"$error":"#VALUE!"}},{"$f":"IF(データ入力シート２回目!S8=\"\",\"\",データ入力シート２回目!S8)+IF(データ入力シート２回目!S9=\"\",\"\",データ入力シート２回目!S9)+IF(データ入力シート２回目!S10=\"\",\"\",データ入力シート２回目!S10)","v":{"$error":"#VALUE!"}},{"$f":"IF(データ入力シート２回目!T8=\"\",\"\",データ入力シート２回目!T8)+IF(データ入力シート２回目!T9=\"\",\"\",データ入力シート２回目!T9)+IF(データ入力シート２回目!T10=\"\",\"\",データ入力シート２回目!T10)","v":{"$error":"#VALUE!"}},{"$f":"IF(データ入力シート２回目!U8=\"\",\"\",データ入力シート２回目!U8)+IF(データ入力シート２回目!U9=\"\",\"\",データ入力シート２回目!U9)+IF(データ入力シート２回目!U10=\"\",\"\",データ入力シート２回目!U10)","v":{"$error":"#VALUE!"}},{"$f":"IF(データ入力シート２回目!V8=\"\",\"\",データ入力シート２回目!V8)+IF(データ入力シート２回目!V9=\"\",\"\",データ入力シート２回目!V9)+IF(データ入力シート２回目!V10=\"\",\"\",データ入力シート２回目!V10)","v":{"$error":"#VALUE!"}},{"$f":"IF(データ入力シート２回目!W8=\"\",\"\",データ入力シート２回目!W8)+IF(データ入力シート２回目!W9=\"\",\"\",データ入力シート２回目!W9)+IF(データ入力シート２回目!W10=\"\",\"\",データ入力シート２回目!W10)","v":{"$error":"#VALUE!"}},{"$f":"IF(データ入力シート２回目!X8=\"\",\"\",データ入力シート２回目!X8)+IF(データ入力シート２回目!X9=\"\",\"\",データ入力シート２回目!X9)+IF(データ入力シート２回目!X10=\"\",\"\",データ入力シート２回目!X10)","v":{"$error":"#VALUE!"}},{"$f":"IF(データ入力シート２回目!Y8=\"\",\"\",データ入力シート２回目!Y8)+IF(データ入力シート２回目!Y9=\"\",\"\",データ入力シート２回目!Y9)+IF(データ入力シート２回目!Y10=\"\",\"\",データ入力シート２回目!Y10)","v":{"$error":"#VALUE!"}},{"$f":"IF(データ入力シート２回目!Z8=\"\",\"\",データ入力シート２回目!Z8)+IF(データ入力シート２回目!Z9=\"\",\"\",データ入力シート２回目!Z9)+IF(データ入力シート２回目!Z10=\"\",\"\",データ入力シート２回目!Z10)","v":{"$error":"#VALUE!"}},{"$f":"IF(データ入力シート２回目!AA8=\"\",\"\",データ入力シート２回目!AA8)+IF(データ入力シート２回目!AA9=\"\",\"\",データ入力シート２回目!AA9)+IF(データ入力シート２回目!AA10=\"\",\"\",データ入力シート２回目!AA10)","v":{"$error":"#VALUE!"}},{"$f":"IF(データ入力シート２回目!AB8=\"\",\"\",データ入力シート２回目!AB8)+IF(データ入力シート２回目!AB9=\"\",\"\",データ入力シート２回目!AB9)+IF(データ入力シート２回目!AB10=\"\",\"\",データ入力シート２回目!AB10)","v":{"$error":"#VALUE!"}},{"$f":"IF(データ入力シート２回目!AC8=\"\",\"\",データ入力シート２回目!AC8)+IF(データ入力シート２回目!AC9=\"\",\"\",データ入力シート２回目!AC9)+IF(データ入力シート２回目!AC10=\"\",\"\",データ入力シート２回目!AC10)","v":{"$error":"#VALUE!"}},{"$f":"IF(データ入力シート２回目!AD8=\"\",\"\",データ入力シート２回目!AD8)+IF(データ入力シート２回目!AD9=\"\",\"\",データ入力シート２回目!AD9)+IF(データ入力シート２回目!AD10=\"\",\"\",データ入力シート２回目!AD10)","v":{"$error":"#VALUE!"}},{"$f":"IF(データ入力シート２回目!AE8=\"\",\"\",データ入力シート２回目!AE8)+IF(データ入力シート２回目!AE9=\"\",\"\",データ入力シート２回目!AE9)+IF(データ入力シート２回目!AE10=\"\",\"\",データ入力シート２回目!AE10)","v":{"$error":"#VALUE!"}},{"$f":"IF(データ入力シート２回目!AF8=\"\",\"\",データ入力シート２回目!AF8)+IF(データ入力シート２回目!AF9=\"\",\"\",データ入力シート２回目!AF9)+IF(データ入力シート２回目!AF10=\"\",\"\",データ入力シート２回目!AF10)","v":{"$error":"#VALUE!"}},{"$f":"IF(データ入力シート２回目!AG8=\"\",\"\",データ入力シート２回目!AG8)+IF(データ入力シート２回目!AG9=\"\",\"\",データ入力シート２回目!AG9)+IF(データ入力シート２回目!AG10=\"\",\"\",データ入力シート２回目!AG10)","v":{"$error":"#VALUE!"}},{"$f":"IF(データ入力シート２回目!AH8=\"\",\"\",データ入力シート２回目!AH8)+IF(データ入力シート２回目!AH9=\"\",\"\",データ入力シート２回目!AH9)+IF(データ入力シート２回目!AH10=\"\",\"\",データ入力シート２回目!AH10)","v":{"$error":"#VALUE!"}},{"$f":"IF(データ入力シート２回目!AI8=\"\",\"\",データ入力シート２回目!AI8)+IF(データ入力シート２回目!AI9=\"\",\"\",データ入力シート２回目!AI9)+IF(データ入力シート２回目!AI10=\"\",\"\",データ入力シート２回目!AI10)","v":{"$error":"#VALUE!"}},{"$f":"IF(データ入力シート２回目!AJ8=\"\",\"\",データ入力シート２回目!AJ8)+IF(データ入力シート２回目!AJ9=\"\",\"\",データ入力シート２回目!AJ9)+IF(データ入力シート２回目!AJ10=\"\",\"\",データ入力シート２回目!AJ10)","v":{"$error":"#VALUE!"}},{"$f":"IF(データ入力シート２回目!AK8=\"\",\"\",データ入力シート２回目!AK8)+IF(データ入力シート２回目!AK9=\"\",\"\",データ入力シート２回目!AK9)+IF(データ入力シート２回目!AK10=\"\",\"\",データ入力シート２回目!AK10)","v":{"$error":"#VALUE!"}},{"$f":"IF(データ入力シート２回目!AL8=\"\",\"\",データ入力シート２回目!AL8)+IF(データ入力シート２回目!AL9=\"\",\"\",データ入力シート２回目!AL9)+IF(データ入力シート２回目!AL10=\"\",\"\",データ入力シート２回目!AL10)","v":{"$error":"#VALUE!"}},{"$f":"IF(データ入力シート２回目!AM8=\"\",\"\",データ入力シート２回目!AM8)+IF(データ入力シート２回目!AM9=\"\",\"\",データ入力シート２回目!AM9)+IF(データ入力シート２回目!AM10=\"\",\"\",データ入力シート２回目!AM10)","v":{"$error":"#VALUE!"}},{"$f":"IF(データ入力シート２回目!AN8=\"\",\"\",データ入力シート２回目!AN8)+IF(データ入力シート２回目!AN9=\"\",\"\",データ入力シート２回目!AN9)+IF(データ入力シート２回目!AN10=\"\",\"\",データ入力シート２回目!AN10)","v":{"$error":"#VALUE!"}},{"$f":"IF(データ入力シート２回目!AO8=\"\",\"\",データ入力シート２回目!AO8)+IF(データ入力シート２回目!AO9=\"\",\"\",データ入力シート２回目!AO9)+IF(データ入力シート２回目!AO10=\"\",\"\",データ入力シート２回目!AO10)","v":{"$error":"#VALUE!"}},{"$f":"IF(データ入力シート２回目!AP8=\"\",\"\",データ入力シート２回目!AP8)+IF(データ入力シート２回目!AP9=\"\",\"\",データ入力シート２回目!AP9)+IF(データ入力シート２回目!AP10=\"\",\"\",データ入力シート２回目!AP10)","v":{"$error":"#VALUE!"}},{"$f":"IF(データ入力シート２回目!AQ8=\"\",\"\",データ入力シート２回目!AQ8)+IF(データ入力シート２回目!AQ9=\"\",\"\",データ入力シート２回目!AQ9)+IF(データ入力シート２回目!AQ10=\"\",\"\",データ入力シート２回目!AQ10)","v":{"$error":"#VALUE!"}},{"$f":"IF(データ入力シート２回目!AR8=\"\",\"\",データ入力シート２回目!AR8)+IF(データ入力シート２回目!AR9=\"\",\"\",データ入力シート２回目!AR9)+IF(データ入力シート２回目!AR10=\"\",\"\",データ入力シート２回目!AR10)","v":{"$error":"#VALUE!"}},{"$f":"IF(データ入力シート２回目!AS8=\"\",\"\",データ入力シート２回目!AS8)+IF(データ入力シート２回目!AS9=\"\",\"\",データ入力シート２回目!AS9)+IF(データ入力シート２回目!AS10=\"\",\"\",データ入力シート２回目!AS10)","v":{"$error":"#VALUE!"}},{"$f":"IF(データ入力シート２回目!AT8=\"\",\"\",データ入力シート２回目!AT8)+IF(データ入力シート２回目!AT9=\"\",\"\",データ入力シート２回目!AT9)+IF(データ入力シート２回目!AT10=\"\",\"\",データ入力シート２回目!AT10)","v":{"$error":"#VALUE!"}},{"$f":"IF(データ入力シート２回目!AU8=\"\",\"\",データ入力シート２回目!AU8)+IF(データ入力シート２回目!AU9=\"\",\"\",データ入力シート２回目!AU9)+IF(データ入力シート２回目!AU10=\"\",\"\",データ入力シート２回目!AU10)","v":{"$error":"#VALUE!"}},{"$f":"IF(データ入力シート２回目!AV8=\"\",\"\",データ入力シート２回目!AV8)+IF(データ入力シート２回目!AV9=\"\",\"\",データ入力シート２回目!AV9)+IF(データ入力シート２回目!AV10=\"\",\"\",データ入力シート２回目!AV10)","v":{"$error":"#VALUE!"}},{"$f":"IF(データ入力シート２回目!AW8=\"\",\"\",データ入力シート２回目!AW8)+IF(データ入力シート２回目!AW9=\"\",\"\",データ入力シート２回目!AW9)+IF(データ入力シート２回目!AW10=\"\",\"\",データ入力シート２回目!AW10)","v":{"$error":"#VALUE!"}},{"$f":"IF(データ入力シート２回目!AX8=\"\",\"\",データ入力シート２回目!AX8)+IF(データ入力シート２回目!AX9=\"\",\"\",データ入力シート２回目!AX9)+IF(データ入力シート２回目!AX10=\"\",\"\",データ入力シート２回目!AX10)","v":{"$error":"#VALUE!"}},{"$f":"IF(データ入力シート２回目!AY8=\"\",\"\",データ入力シート２回目!AY8)+IF(データ入力シート２回目!AY9=\"\",\"\",データ入力シート２回目!AY9)+IF(データ入力シート２回目!AY10=\"\",\"\",データ入力シート２回目!AY10)","v":{"$error":"#VALUE!"}},{"$f":"IF(データ入力シート２回目!AZ8=\"\",\"\",データ入力シート２回目!AZ8)+IF(データ入力シート２回目!AZ9=\"\",\"\",データ入力シート２回目!AZ9)+IF(データ入力シート２回目!AZ10=\"\",\"\",データ入力シート２回目!AZ10)","v":{"$error":"#VALUE!"}},{"$f":"IF(データ入力シート２回目!BA8=\"\",\"\",データ入力シート２回目!BA8)+IF(データ入力シート２回目!BA9=\"\",\"\",データ入力シート２回目!BA9)+IF(データ入力シート２回目!BA10=\"\",\"\",データ入力シート２回目!BA10)","v":{"$error":"#VALUE!"}},{"$f":"IF(データ入力シート２回目!BB8=\"\",\"\",データ入力シート２回目!BB8)+IF(データ入力シート２回目!BB9=\"\",\"\",データ入力シート２回目!BB9)+IF(データ入力シート２回目!BB10=\"\",\"\",データ入力シート２回目!BB10)","v":{"$error":"#VALUE!"}},{"$f":"IF(データ入力シート２回目!BC8=\"\",\"\",データ入力シート２回目!BC8)+IF(データ入力シート２回目!BC9=\"\",\"\",データ入力シート２回目!BC9)+IF(データ入力シート２回目!BC10=\"\",\"\",データ入力シート２回目!BC10)","v":{"$error":"#VALUE!"}},{"$f":"IF(データ入力シート２回目!BD8=\"\",\"\",データ入力シート２回目!BD8)+IF(データ入力シート２回目!BD9=\"\",\"\",データ入力シート２回目!BD9)+IF(データ入力シート２回目!BD10=\"\",\"\",データ入力シート２回目!BD10)","v":{"$error":"#VALUE!"}},{"$f":"IF(データ入力シート２回目!BE8=\"\",\"\",データ入力シート２回目!BE8)+IF(データ入力シート２回目!BE9=\"\",\"\",データ入力シート２回目!BE9)+IF(データ入力シート２回目!BE10=\"\",\"\",データ入力シート２回目!BE10)","v":{"$error":"#VALUE!"}},{"$f":"IF(データ入力シート２回目!BF8=\"\",\"\",データ入力シート２回目!BF8)+IF(データ入力シート２回目!BF9=\"\",\"\",データ入力シート２回目!BF9)+IF(データ入力シート２回目!BF10=\"\",\"\",データ入力シート２回目!BF10)","v":{"$error":"#VALUE!"}},{"$f":"IF(データ入力シート２回目!BG8=\"\",\"\",データ入力シート２回目!BG8)+IF(データ入力シート２回目!BG9=\"\",\"\",データ入力シート２回目!BG9)+IF(データ入力シート２回目!BG10=\"\",\"\",データ入力シート２回目!BG10)","v":{"$error":"#VALUE!"}},{"$f":"IF(データ入力シート２回目!BH8=\"\",\"\",データ入力シート２回目!BH8)+IF(データ入力シート２回目!BH9=\"\",\"\",データ入力シート２回目!BH9)+IF(データ入力シート２回目!BH10=\"\",\"\",データ入力シート２回目!BH10)","v":{"$error":"#VALUE!"}},{"$f":"IF(データ入力シート２回目!BI8=\"\",\"\",データ入力シート２回目!BI8)+IF(データ入力シート２回目!BI9=\"\",\"\",データ入力シート２回目!BI9)+IF(データ入力シート２回目!BI10=\"\",\"\",データ入力シート２回目!BI10)","v":{"$error":"#VALUE!"}},{"$f":"IF(データ入力シート２回目!BJ8=\"\",\"\",データ入力シート２回目!BJ8)+IF(データ入力シート２回目!BJ9=\"\",\"\",データ入力シート２回目!BJ9)+IF(データ入力シート２回目!BJ10=\"\",\"\",データ入力シート２回目!BJ10)","v":{"$error":"#VALUE!"}},{"$f":"IF(データ入力シート２回目!BK8=\"\",\"\",データ入力シート２回目!BK8)+IF(データ入力シート２回目!BK9=\"\",\"\",データ入力シート２回目!BK9)+IF(データ入力シート２回目!BK10=\"\",\"\",データ入力シート２回目!BK10)","v":{"$error":"#VALUE!"}},{"$f":"IF(データ入力シート２回目!BL8=\"\",\"\",データ入力シート２回目!BL8)+IF(データ入力シート２回目!BL9=\"\",\"\",データ入力シート２回目!BL9)+IF(データ入力シート２回目!BL10=\"\",\"\",データ入力シート２回目!BL10)","v":{"$error":"#VALUE!"}},{"$f":"IF(データ入力シート２回目!BM8=\"\",\"\",データ入力シート２回目!BM8)+IF(データ入力シート２回目!BM9=\"\",\"\",データ入力シート２回目!BM9)+IF(データ入力シート２回目!BM10=\"\",\"\",データ入力シート２回目!BM10)","v":{"$error":"#VALUE!"}},{"$f":"IF(データ入力シート２回目!BN8=\"\",\"\",データ入力シート２回目!BN8)+IF(データ入力シート２回目!BN9=\"\",\"\",データ入力シート２回目!BN9)+IF(データ入力シート２回目!BN10=\"\",\"\",データ入力シート２回目!BN10)","v":{"$error":"#VALUE!"}},{"$f":"IF(データ入力シート２回目!BO8=\"\",\"\",データ入力シート２回目!BO8)+IF(データ入力シート２回目!BO9=\"\",\"\",データ入力シート２回目!BO9)+IF(データ入力シート２回目!BO10=\"\",\"\",データ入力シート２回目!BO10)","v":{"$error":"#VALUE!"}},{"$f":"IF(データ入力シート２回目!BP8=\"\",\"\",データ入力シート２回目!BP8)+IF(データ入力シート２回目!BP9=\"\",\"\",データ入力シート２回目!BP9)+IF(データ入力シート２回目!BP10=\"\",\"\",データ入力シート２回目!BP10)","v":{"$error":"#VALUE!"}},{"$f":"IF(データ入力シート２回目!BQ8=\"\",\"\",データ入力シート２回目!BQ8)+IF(データ入力シート２回目!BQ9=\"\",\"\",データ入力シート２回目!BQ9)+IF(データ入力シート２回目!BQ10=\"\",\"\",データ入力シート２回目!BQ10)","v":{"$error":"#VALUE!"}},{"$f":"IF(データ入力シート２回目!BR8=\"\",\"\",データ入力シート２回目!BR8)+IF(データ入力シート２回目!BR9=\"\",\"\",データ入力シート２回目!BR9)+IF(データ入力シート２回目!BR10=\"\",\"\",データ入力シート２回目!BR10)","v":{"$error":"#VALUE!"}},{"$f":"IF(データ入力シート２回目!BS8=\"\",\"\",データ入力シート２回目!BS8)+IF(データ入力シート２回目!BS9=\"\",\"\",データ入力シート２回目!BS9)+IF(データ入力シート２回目!BS10=\"\",\"\",データ入力シート２回目!BS10)","v":{"$error":"#VALUE!"}},{"$f":"IF(データ入力シート２回目!BT8=\"\",\"\",データ入力シート２回目!BT8)+IF(データ入力シート２回目!BT9=\"\",\"\",データ入力シート２回目!BT9)+IF(データ入力シート２回目!BT10=\"\",\"\",データ入力シート２回目!BT10)","v":{"$error":"#VALUE!"}},{"$f":"IF(データ入力シート２回目!BU8=\"\",\"\",データ入力シート２回目!BU8)+IF(データ入力シート２回目!BU9=\"\",\"\",データ入力シート２回目!BU9)+IF(データ入力シート２回目!BU10=\"\",\"\",データ入力シート２回目!BU10)","v":{"$error":"#VALUE!"}},{"$f":"IF(データ入力シート２回目!BV8=\"\",\"\",データ入力シート２回目!BV8)+IF(データ入力シート２回目!BV9=\"\",\"\",データ入力シート２回目!BV9)+IF(データ入力シート２回目!BV10=\"\",\"\",データ入力シート２回目!BV10)","v":{"$error":"#VALUE!"}},{"$f":"IF(データ入力シート２回目!BW8=\"\",\"\",データ入力シート２回目!BW8)+IF(データ入力シート２回目!BW9=\"\",\"\",データ入力シート２回目!BW9)+IF(データ入力シート２回目!BW10=\"\",\"\",データ入力シート２回目!BW10)","v":{"$error":"#VALUE!"}},{"$f":"IF(データ入力シート２回目!BX8=\"\",\"\",データ入力シート２回目!BX8)+IF(データ入力シート２回目!BX9=\"\",\"\",データ入力シート２回目!BX9)+IF(データ入力シート２回目!BX10=\"\",\"\",データ入力シート２回目!BX10)","v":{"$error":"#VALUE!"}},{"$f":"IF(データ入力シート２回目!BY8=\"\",\"\",データ入力シート２回目!BY8)+IF(データ入力シート２回目!BY9=\"\",\"\",データ入力シート２回目!BY9)+IF(データ入力シート２回目!BY10=\"\",\"\",データ入力シート２回目!BY10)","v":{"$error":"#VALUE!"}},{"$f":"IF(データ入力シート２回目!BZ8=\"\",\"\",データ入力シート２回目!BZ8)+IF(データ入力シート２回目!BZ9=\"\",\"\",データ入力シート２回目!BZ9)+IF(データ入力シート２回目!BZ10=\"\",\"\",データ入力シート２回目!BZ10)","v":{"$error":"#VALUE!"}},{"$f":"IF(データ入力シート２回目!CA8=\"\",\"\",データ入力シート２回目!CA8)+IF(データ入力シート２回目!CA9=\"\",\"\",データ入力シート２回目!CA9)+IF(データ入力シート２回目!CA10=\"\",\"\",データ入力シート２回目!CA10)","v":{"$error":"#VALUE!"}},{"$f":"IF(データ入力シート２回目!CB8=\"\",\"\",データ入力シート２回目!CB8)+IF(データ入力シート２回目!CB9=\"\",\"\",データ入力シート２回目!CB9)+IF(データ入力シート２回目!CB10=\"\",\"\",データ入力シート２回目!CB10)","v":{"$error":"#VALUE!"}},{"$f":"IF(データ入力シート２回目!CC8=\"\",\"\",データ入力シート２回目!CC8)+IF(データ入力シート２回目!CC9=\"\",\"\",データ入力シート２回目!CC9)+IF(データ入力シート２回目!CC10=\"\",\"\",データ入力シート２回目!CC10)","v":{"$error":"#VALUE!"}},{"$f":"IF(データ入力シート２回目!CD8=\"\",\"\",データ入力シート２回目!CD8)+IF(データ入力シート２回目!CD9=\"\",\"\",データ入力シート２回目!CD9)+IF(データ入力シート２回目!CD10=\"\",\"\",データ入力シート２回目!CD10)","v":{"$error":"#VALUE!"}},{"$f":"IF(データ入力シート２回目!CE8=\"\",\"\",データ入力シート２回目!CE8)+IF(データ入力シート２回目!CE9=\"\",\"\",データ入力シート２回目!CE9)+IF(データ入力シート２回目!CE10=\"\",\"\",データ入力シート２回目!CE10)","v":{"$error":"#VALUE!"}},{"$f":"IF(データ入力シート２回目!CF8=\"\",\"\",データ入力シート２回目!CF8)+IF(データ入力シート２回目!CF9=\"\",\"\",データ入力シート２回目!CF9)+IF(データ入力シート２回目!CF10=\"\",\"\",データ入力シート２回目!CF10)","v":{"$error":"#VALUE!"}},{"$f":"IF(データ入力シート２回目!CG8=\"\",\"\",データ入力シート２回目!CG8)+IF(データ入力シート２回目!CG9=\"\",\"\",データ入力シート２回目!CG9)+IF(データ入力シート２回目!CG10=\"\",\"\",データ入力シート２回目!CG10)","v":{"$error":"#VALUE!"}},{"$f":"IF(データ入力シート２回目!CH8=\"\",\"\",データ入力シート２回目!CH8)+IF(データ入力シート２回目!CH9=\"\",\"\",データ入力シート２回目!CH9)+IF(データ入力シート２回目!CH10=\"\",\"\",データ入力シート２回目!CH10)","v":{"$error":"#VALUE!"}},{"$f":"IF(データ入力シート２回目!CI8=\"\",\"\",データ入力シート２回目!CI8)+IF(データ入力シート２回目!CI9=\"\",\"\",データ入力シート２回目!CI9)+IF(データ入力シート２回目!CI10=\"\",\"\",データ入力シート２回目!CI10)","v":{"$error":"#VALUE!"}},{"$f":"IF(データ入力シート２回目!CJ8=\"\",\"\",データ入力シート２回目!CJ8)+IF(データ入力シート２回目!CJ9=\"\",\"\",データ入力シート２回目!CJ9)+IF(データ入力シート２回目!CJ10=\"\",\"\",データ入力シート２回目!CJ10)","v":{"$error":"#VALUE!"}},{"$f":"IF(データ入力シート２回目!CK8=\"\",\"\",データ入力シート２回目!CK8)+IF(データ入力シート２回目!CK9=\"\",\"\",データ入力シート２回目!CK9)+IF(データ入力シート２回目!CK10=\"\",\"\",データ入力シート２回目!CK10)","v":{"$error":"#VALUE!"}},{"$f":"IF(データ入力シート２回目!CL8=\"\",\"\",データ入力シート２回目!CL8)+IF(データ入力シート２回目!CL9=\"\",\"\",データ入力シート２回目!CL9)+IF(データ入力シート２回目!CL10=\"\",\"\",データ入力シート２回目!CL10)","v":{"$error":"#VALUE!"}},{"$f":"IF(データ入力シート２回目!CM8=\"\",\"\",データ入力シート２回目!CM8)+IF(データ入力シート２回目!CM9=\"\",\"\",データ入力シート２回目!CM9)+IF(データ入力シート２回目!CM10=\"\",\"\",データ入力シート２回目!CM10)","v":{"$error":"#VALUE!"}},{"$f":"IF(データ入力シート２回目!CN8=\"\",\"\",データ入力シート２回目!CN8)+IF(データ入力シート２回目!CN9=\"\",\"\",データ入力シート２回目!CN9)+IF(データ入力シート２回目!CN10=\"\",\"\",データ入力シート２回目!CN10)","v":{"$error":"#VALUE!"}},{"$f":"IF(データ入力シート２回目!CO8=\"\",\"\",データ入力シート２回目!CO8)+IF(データ入力シート２回目!CO9=\"\",\"\",データ入力シート２回目!CO9)+IF(データ入力シート２回目!CO10=\"\",\"\",データ入力シート２回目!CO10)","v":{"$error":"#VALUE!"}},{"$f":"IF(データ入力シート２回目!CP8=\"\",\"\",データ入力シート２回目!CP8)+IF(データ入力シート２回目!CP9=\"\",\"\",データ入力シート２回目!CP9)+IF(データ入力シート２回目!CP10=\"\",\"\",データ入力シート２回目!CP10)","v":{"$error":"#VALUE!"}},{"$f":"IF(データ入力シート２回目!CQ8=\"\",\"\",データ入力シート２回目!CQ8)+IF(データ入力シート２回目!CQ9=\"\",\"\",データ入力シート２回目!CQ9)+IF(データ入力シート２回目!CQ10=\"\",\"\",データ入力シート２回目!CQ10)","v":{"$error":"#VALUE!"}},{"$f":"IF(データ入力シート２回目!CR8=\"\",\"\",データ入力シート２回目!CR8)+IF(データ入力シート２回目!CR9=\"\",\"\",データ入力シート２回目!CR9)+IF(データ入力シート２回目!CR10=\"\",\"\",データ入力シート２回目!CR10)","v":{"$error":"#VALUE!"}},{"$f":"IF(データ入力シート２回目!CS8=\"\",\"\",データ入力シート２回目!CS8)+IF(データ入力シート２回目!CS9=\"\",\"\",データ入力シート２回目!CS9)+IF(データ入力シート２回目!CS10=\"\",\"\",データ入力シート２回目!CS10)","v":{"$error":"#VALUE!"}},{"$f":"IF(データ入力シート２回目!CT8=\"\",\"\",データ入力シート２回目!CT8)+IF(データ入力シート２回目!CT9=\"\",\"\",データ入力シート２回目!CT9)+IF(データ入力シート２回目!CT10=\"\",\"\",データ入力シート２回目!CT10)","v":{"$error":"#VALUE!"}},{"$f":"IF(データ入力シート２回目!CU8=\"\",\"\",データ入力シート２回目!CU8)+IF(データ入力シート２回目!CU9=\"\",\"\",データ入力シート２回目!CU9)+IF(データ入力シート２回目!CU10=\"\",\"\",データ入力シート２回目!CU10)","v":{"$error":"#VALUE!"}},{"$f":"IF(データ入力シート２回目!CV8=\"\",\"\",データ入力シート２回目!CV8)+IF(データ入力シート２回目!CV9=\"\",\"\",データ入力シート２回目!CV9)+IF(データ入力シート２回目!CV10=\"\",\"\",データ入力シート２回目!CV10)","v":{"$error":"#VALUE!"}},{"$f":"IF(データ入力シート２回目!CW8=\"\",\"\",データ入力シート２回目!CW8)+IF(データ入力シート２回目!CW9=\"\",\"\",データ入力シート２回目!CW9)+IF(データ入力シート２回目!CW10=\"\",\"\",データ入力シート２回目!CW10)","v":{"$error":"#VALUE!"}},{"$f":"IF(データ入力シート２回目!CX8=\"\",\"\",データ入力シート２回目!CX8)+IF(データ入力シート２回目!CX9=\"\",\"\",データ入力シート２回目!CX9)+IF(データ入力シート２回目!CX10=\"\",\"\",データ入力シート２回目!CX10)","v":{"$error":"#VALUE!"}},{"$f":"IF(データ入力シート２回目!CY8=\"\",\"\",データ入力シート２回目!CY8)+IF(データ入力シート２回目!CY9=\"\",\"\",データ入力シート２回目!CY9)+IF(データ入力シート２回目!CY10=\"\",\"\",データ入力シート２回目!CY10)","v":{"$error":"#VALUE!"}},{"$f":"IF(データ入力シート２回目!CZ8=\"\",\"\",データ入力シート２回目!CZ8)+IF(データ入力シート２回目!CZ9=\"\",\"\",データ入力シート２回目!CZ9)+IF(データ入力シート２回目!CZ10=\"\",\"\",データ入力シート２回目!CZ10)","v":{"$error":"#VALUE!"}}]
[null,"D",{"$f":"IF(データ入力シート２回目!E11=\"\",\"\",データ入力シート２回目!E11)+IF(データ入力シート２回目!E12=\"\",\"\",データ入力シート２回目!E12)+IF(データ入力シート２回目!E13=\"\",\"\",データ入力シート２回目!E13)","v":{"$error":"#VALUE!"}},{"$f":"IF(データ入力シート２回目!F11=\"\",\"\",データ入力シート２回目!F11)+IF(データ入力シート２回目!F12=\"\",\"\",データ入力シート２回目!F12)+IF(データ入力シート２回目!F13=\"\",\"\",データ入力シート２回目!F13)","v":{"$error":"#VALUE!"}},{"$f":"IF(データ入力シート２回目!G11=\"\",\"\",データ入力シート２回目!G11)+IF(データ入力シート２回目!G12=\"\",\"\",データ入力シート２回目!G12)+IF(データ入力シート２回目!G13=\"\",\"\",データ入力シート２回目!G13)","v":{"$error":"#VALUE!"}},{"$f":"IF(データ入力シート２回目!H11=\"\",\"\",データ入力シート２回目!H11)+IF(データ入力シート２回目!H12=\"\",\"\",データ入力シート２回目!H12)+IF(データ入力シート２回目!H13=\"\",\"\",データ入力シート２回目!H13)","v":{"$error":"#VALUE!"}},{"$f":"IF(データ入力シート２回目!I11=\"\",\"\",データ入力シート２回目!I11)+IF(データ入力シート２回目!I12=\"\",\"\",データ入力シート２回目!I12)+IF(データ入力シート２回目!I13=\"\",\"\",データ入力シート２回目!I13)","v":{"$error":"#VALUE!"}},{"$f":"IF(データ入力シート２回目!J11=\"\",\"\",データ入力シート２回目!J11)+IF(データ入力シート２回目!J12=\"\",\"\",データ入力シート２回目!J12)+IF(データ入力シート２回目!J13=\"\",\"\",データ入力シート２回目!J13)","v":{"$error":"#VALUE!"}},{"$f":"IF(データ入力シート２回目!K11=\"\",\"\",データ入力シート２回目!K11)+IF(データ入力シート２回目!K12=\"\",\"\",データ入力シート２回目!K12)+IF(データ入力シート２回目!K13=\"\",\"\",データ入力シート２回目!K13)","v":{"$error":"#VALUE!"}},{"$f":"IF(データ入力シート２回目!L11=\"\",\"\",データ入力シート２回目!L11)+IF(データ入力シート２回目!L12=\"\",\"\",データ入力シート２回目!L12)+IF(データ入力シート２回目!L13=\"\",\"\",データ入力シート２回目!L13)","v":{"$error":"#VALUE!"}},{"$f":"IF(データ入力シート２回目!M11=\"\",\"\",データ入力シート２回目!M11)+IF(データ入力シート２回目!M12=\"\",\"\",データ入力シート２回目!M12)+IF(データ入力シート２回目!M13=\"\",\"\",データ入力シート２回目!M13)","v":{"$error":"#VALUE!"}},{"$f":"IF(データ入力シート２回目!N11=\"\",\"\",データ入力シート２回目!N11)+IF(データ入力シート２回目!N12=\"\",\"\",データ入力シート２回目!N12)+IF(データ入力シート２回目!N13=\"\",\"\",データ入力シート２回目!N13)","v":{"$error":"#VALUE!"}},{"$f":"IF(データ入力シート２回目!O11=\"\",\"\",データ入力シート２回目!O11)+IF(データ入力シート２回目!O12=\"\",\"\",データ入力シート２回目!O12)+IF(データ入力シート２回目!O13=\"\",\"\",データ入力シート２回目!O13)","v":{"$error":"#VALUE!"}},{"$f":"IF(データ入力シート２回目!P11=\"\",\"\",データ入力シート２回目!P11)+IF(データ入力シート２回目!P12=\"\",\"\",データ入力シート２回目!P12)+IF(データ入力シート２回目!P13=\"\",\"\",データ入力シート２回目!P13)","v":{"$error":"#VALUE!"}},{"$f":"IF(データ入力シート２回目!Q11=\"\",\"\",データ入力シート２回目!Q11)+IF(データ入力シート２回目!Q12=\"\",\"\",データ入力シート２回目!Q12)+IF(データ入力シート２回目!Q13=\"\",\"\",データ入力シート２回目!Q13)","v":{"$error":"#VALUE!"}},{"$f":"IF(データ入力シート２回目!R11=\"\",\"\",データ入力シート２回目!R11)+IF(データ入力シート２回目!R12=\"\",\"\",データ入力シート２回目!R12)+IF(データ入力シート２回目!R13=\"\",\"\",データ入力シート２回目!R13)","v":{"$error":"#VALUE!"}},{"$f":"IF(データ入力シート２回目!S11=\"\",\"\",データ入力シート２回目!S11)+IF(データ入力シート２回目!S12=\"\",\"\",データ入力シート２回目!S12)+IF(データ入力シート２回目!S13=\"\",\"\",データ入力シート２回目!S13)","v":{"$error":"#VALUE!"}},{"$f":"IF(データ入力シート２回目!T11=\"\",\"\",データ入力シート２回目!T11)+IF(データ入力シート２回目!T12=\"\",\"\",データ入力シート２回目!T12)+IF(データ入力シート２回目!T13=\"\",\"\",データ入力シート２回目!T13)","v":{"$error":"#VALUE!"}},{"$f":"IF(データ入力シート２回目!U11=\"\",\"\",データ入力シート２回目!U11)+IF(データ入力シート２回目!U12=\"\",\"\",データ入力シート２回目!U12)+IF(データ入力シート２回目!U13=\"\",\"\",データ入力シート２回目!U13)","v":{"$error":"#VALUE!"}},{"$f":"IF(データ入力シート２回目!V11=\"\",\"\",データ入力シート２回目!V11)+IF(データ入力シート２回目!V12=\"\",\"\",データ入力シート２回目!V12)+IF(データ入力シート２回目!V13=\"\",\"\",データ入力シート２回目!V13)","v":{"$error":"#VALUE!"}},{"$f":"IF(データ入力シート２回目!W11=\"\",\"\",データ入力シート２回目!W11)+IF(データ入力シート２回目!W12=\"\",\"\",データ入力シート２回目!W12)+IF(データ入力シート２回目!W13=\"\",\"\",データ入力シート２回目!W13)","v":{"$error":"#VALUE!"}},{"$f":"IF(データ入力シート２回目!X11=\"\",\"\",データ入力シート２回目!X11)+IF(データ入力シート２回目!X12=\"\",\"\",データ入力シート２回目!X12)+IF(データ入力シート２回目!X13=\"\",\"\",データ入力シート２回目!X13)","v":{"$error":"#VALUE!"}},{"$f":"IF(データ入力シート２回目!Y11=\"\",\"\",データ入力シート２回目!Y11)+IF(データ入力シート２回目!Y12=\"\",\"\",データ入力シート２回目!Y12)+IF(データ入力シート２回目!Y13=\"\",\"\",データ入力シート２回目!Y13)","v":{"$error":"#VALUE!"}},{"$f":"IF(データ入力シート２回目!Z11=\"\",\"\",データ入力シート２回目!Z11)+IF(データ入力シート２回目!Z12=\"\",\"\",データ入力シート２回目!Z12)+IF(データ入力シート２回目!Z13=\"\",\"\",データ入力シート２回目!Z13)","v":{"$error":"#VALUE!"}},{"$f":"IF(データ入力シート２回目!AA11=\"\",\"\",データ入力シート２回目!AA11)+IF(データ入力シート２回目!AA12=\"\",\"\",データ入力シート２回目!AA12)+IF(データ入力シート２回目!AA13=\"\",\"\",データ入力シート２回目!AA13)","v":{"$error":"#VALUE!"}},{"$f":"IF(データ入力シート２回目!AB11=\"\",\"\",データ入力シート２回目!AB11)+IF(データ入力シート２回目!AB12=\"\",\"\",データ入力シート２回目!AB12)+IF(データ入力シート２回目!AB13=\"\",\"\",データ入力シート２回目!AB13)","v":{"$error":"#VALUE!"}},{"$f":"IF(データ入力シート２回目!AC11=\"\",\"\",データ入力シート２回目!AC11)+IF(データ入力シート２回目!AC12=\"\",\"\",データ入力シート２回目!AC12)+IF(データ入力シート２回目!AC13=\"\",\"\",データ入力シート２回目!AC13)","v":{"$error":"#VALUE!"}},{"$f":"IF(データ入力シート２回目!AD11=\"\",\"\",データ入力シート２回目!AD11)+IF(データ入力シート２回目!AD12=\"\",\"\",データ入力シート２回目!AD12)+IF(データ入力シート２回目!AD13=\"\",\"\",データ入力シート２回目!AD13)","v":{"$error":"#VALUE!"}},{"$f":"IF(データ入力シート２回目!AE11=\"\",\"\",データ入力シート２回目!AE11)+IF(データ入力シート２回目!AE12=\"\",\"\",データ入力シート２回目!AE12)+IF(データ入力シート２回目!AE13=\"\",\"\",データ入力シート２回目!AE13)","v":{"$error":"#VALUE!"}},{"$f":"IF(データ入力シート２回目!AF11=\"\",\"\",データ入力シート２回目!AF11)+IF(データ入力シート２回目!AF12=\"\",\"\",データ入力シート２回目!AF12)+IF(データ入力シート２回目!AF13=\"\",\"\",データ入力シート２回目!AF13)","v":{"$error":"#VALUE!"}},{"$f":"IF(データ入力シート２回目!AG11=\"\",\"\",データ入力シート２回目!AG11)+IF(データ入力シート２回目!AG12=\"\",\"\",データ入力シート２回目!AG12)+IF(データ入力シート２回目!AG13=\"\",\"\",データ入力シート２回目!AG13)","v":{"$error":"#VALUE!"}},{"$f":"IF(データ入力シート２回目!AH11=\"\",\"\",データ入力シート２回目!AH11)+IF(データ入力シート２回目!AH12=\"\",\"\",データ入力シート２回目!AH12)+IF(データ入力シート２回目!AH13=\"\",\"\",データ入力シート２回目!AH13)","v":{"$error":"#VALUE!"}},{"$f":"IF(データ入力シート２回目!AI11=\"\",\"\",データ入力シート２回目!AI11)+IF(データ入力シート２回目!AI12=\"\",\"\",データ入力シート２回目!AI12)+IF(データ入力シート２回目!AI13=\"\",\"\",データ入力シート２回目!AI13)","v":{"$error":"#VALUE!"}},{"$f":"IF(データ入力シート２回目!AJ11=\"\",\"\",データ入力シート２回目!AJ11)+IF(データ入力シート２回目!AJ12=\"\",\"\",データ入力シート２回目!AJ12)+IF(データ入力シート２回目!AJ13=\"\",\"\",データ入力シート２回目!AJ13)","v":{"$error":"#VALUE!"}},{"$f":"IF(データ入力シート２回目!AK11=\"\",\"\",データ入力シート２回目!AK11)+IF(データ入力シート２回目!AK12=\"\",\"\",データ入力シート２回目!AK12)+IF(データ入力シート２回目!AK13=\"\",\"\",データ入力シート２回目!AK13)","v":{"$error":"#VALUE!"}},{"$f":"IF(データ入力シート２回目!AL11=\"\",\"\",データ入力シート２回目!AL11)+IF(データ入力シート２回目!AL12=\"\",\"\",データ入力シート２回目!AL12)+IF(データ入力シート２回目!AL13=\"\",\"\",データ入力シート２回目!AL13)","v":{"$error":"#VALUE!"}},{"$f":"IF(データ入力シート２回目!AM11=\"\",\"\",データ入力シート２回目!AM11)+IF(データ入力シート２回目!AM12=\"\",\"\",データ入力シート２回目!AM12)+IF(データ入力シート２回目!AM13=\"\",\"\",データ入力シート２回目!AM13)","v":{"$error":"#VALUE!"}},{"$f":"IF(データ入力シート２回目!AN11=\"\",\"\",データ入力シート２回目!AN11)+IF(データ入力シート２回目!AN12=\"\",\"\",データ入力シート２回目!AN12)+IF(データ入力シート２回目!AN13=\"\",\"\",データ入力シート２回目!AN13)","v":{"$error":"#VALUE!"}},{"$f":"IF(データ入力シート２回目!AO11=\"\",\"\",データ入力シート２回目!AO11)+IF(データ入力シート２回目!AO12=\"\",\"\",データ入力シート２回目!AO12)+IF(データ入力シート２回目!AO13=\"\",\"\",データ入力シート２回目!AO13)","v":{"$error":"#VALUE!"}},{"$f":"IF(データ入力シート２回目!AP11=\"\",\"\",データ入力シート２回目!AP11)+IF(データ入力シート２回目!AP12=\"\",\"\",データ入力シート２回目!AP12)+IF(データ入力シート２回目!AP13=\"\",\"\",データ入力シート２回目!AP13)","v":{"$error":"#VALUE!"}},{"$f":"IF(データ入力シート２回目!AQ11=\"\",\"\",データ入力シート２回目!AQ11)+IF(データ入力シート２回目!AQ12=\"\",\"\",データ入力シート２回目!AQ12)+IF(データ入力シート２回目!AQ13=\"\",\"\",データ入力シート２回目!AQ13)","v":{"$error":"#VALUE!"}},{"$f":"IF(データ入力シート２回目!AR11=\"\",\"\",データ入力シート２回目!AR11)+IF(データ入力シート２回目!AR12=\"\",\"\",データ入力シート２回目!AR12)+IF(データ入力シート２回目!AR13=\"\",\"\",データ入力シート２回目!AR13)","v":{"$error":"#VALUE!"}},{"$f":"IF(データ入力シート２回目!AS11=\"\",\"\",データ入力シート２回目!AS11)+IF(データ入力シート２回目!AS12=\"\",\"\",データ入力シート２回目!AS12)+IF(データ入力シート２回目!AS13=\"\",\"\",データ入力シート２回目!AS13)","v":{"$error":"#VALUE!"}},{"$f":"IF(データ入力シート２回目!AT11=\"\",\"\",データ入力シート２回目!AT11)+IF(データ入力シート２回目!AT12=\"\",\"\",データ入力シート２回目!AT12)+IF(データ入力シート２回目!AT13=\"\",\"\",データ入力シート２回目!AT13)","v":{"$error":"#VALUE!"}},{"$f":"IF(データ入力シート２回目!AU11=\"\",\"\",データ入力シート２回目!AU11)+IF(データ入力シート２回目!AU12=\"\",\"\",データ入力シート２回目!AU12)+IF(データ入力シート２回目!AU13=\"\",\"\",データ入力シート２回目!AU13)","v":{"$error":"#VALUE!"}},{"$f":"IF(データ入力シート２回目!AV11=\"\",\"\",データ入力シート２回目!AV11)+IF(データ入力シート２回目!AV12=\"\",\"\",データ入力シート２回目!AV12)+IF(データ入力シート２回目!AV13=\"\",\"\",データ入力シート２回目!AV13)","v":{"$error":"#VALUE!"}},{"$f":"IF(データ入力シート２回目!AW11=\"\",\"\",データ入力シート２回目!AW11)+IF(データ入力シート２回目!AW12=\"\",\"\",データ入力シート２回目!AW12)+IF(データ入力シート２回目!AW13=\"\",\"\",データ入力シート２回目!AW13)","v":{"$error":"#VALUE!"}},{"$f":"IF(データ入力シート２回目!AX11=\"\",\"\",データ入力シート２回目!AX11)+IF(データ入力シート２回目!AX12=\"\",\"\",データ入力シート２回目!AX12)+IF(データ入力シート２回目!AX13=\"\",\"\",データ入力シート２回目!AX13)","v":{"$error":"#VALUE!"}},{"$f":"IF(データ入力シート２回目!AY11=\"\",\"\",データ入力シート２回目!AY11)+IF(データ入力シート２回目!AY12=\"\",\"\",データ入力シート２回目!AY12)+IF(データ入力シート２回目!AY13=\"\",\"\",データ入力シート２回目!AY13)","v":{"$error":"#VALUE!"}},{"$f":"IF(データ入力シート２回目!AZ11=\"\",\"\",データ入力シート２回目!AZ11)+IF(データ入力シート２回目!AZ12=\"\",\"\",データ入力シート２回目!AZ12)+IF(データ入力シート２回目!AZ13=\"\",\"\",データ入力シート２回目!AZ13)","v":{"$error":"#VALUE!"}},{"$f":"IF(データ入力シート２回目!BA11=\"\",\"\",データ入力シート２回目!BA11)+IF(データ入力シート２回目!BA12=\"\",\"\",データ入力シート２回目!BA12)+IF(データ入力シート２回目!BA13=\"\",\"\",データ入力シート２回目!BA13)","v":{"$error":"#VALUE!"}},{"$f":"IF(データ入力シート２回目!BB11=\"\",\"\",データ入力シート２回目!BB11)+IF(データ入力シート２回目!BB12=\"\",\"\",データ入力シート２回目!BB12)+IF(データ入力シート２回目!BB13=\"\",\"\",データ入力シート２回目!BB13)","v":{"$error":"#VALUE!"}},{"$f":"IF(データ入力シート２回目!BC11=\"\",\"\",データ入力シート２回目!BC11)+IF(データ入力シート２回目!BC12=\"\",\"\",データ入力シート２回目!BC12)+IF(データ入力シート２回目!BC13=\"\",\"\",データ入力シート２回目!BC13)","v":{"$error":"#VALUE!"}},{"$f":"IF(データ入力シート２回目!BD11=\"\",\"\",データ入力シート２回目!BD11)+IF(データ入力シート２回目!BD12=\"\",\"\",データ入力シート２回目!BD12)+IF(データ入力シート２回目!BD13=\"\",\"\",データ入力シート２回目!BD13)","v":{"$error":"#VALUE!"}},{"$f":"IF(データ入力シート２回目!BE11=\"\",\"\",データ入力シート２回目!BE11)+IF(データ入力シート２回目!BE12=\"\",\"\",データ入力シート２回目!BE12)+IF(データ入力シート２回目!BE13=\"\",\"\",データ入力シート２回目!BE13)","v":{"$error":"#VALUE!"}},{"$f":"IF(データ入力シート２回目!BF11=\"\",\"\",データ入力シート２回目!BF11)+IF(データ入力シート２回目!BF12=\"\",\"\",データ入力シート２回目!BF12)+IF(データ入力シート２回目!BF13=\"\",\"\",データ入力シート２回目!BF13)","v":{"$error":"#VALUE!"}},{"$f":"IF(データ入力シート２回目!BG11=\"\",\"\",データ入力シート２回目!BG11)+IF(データ入力シート２回目!BG12=\"\",\"\",データ入力シート２回目!BG12)+IF(データ入力シート２回目!BG13=\"\",\"\",データ入力シート２回目!BG13)","v":{"$error":"#VALUE!"}},{"$f":"IF(データ入力シート２回目!BH11=\"\",\"\",データ入力シート２回目!BH11)+IF(データ入力シート２回目!BH12=\"\",\"\",データ入力シート２回目!BH12)+IF(データ入力シート２回目!BH13=\"\",\"\",データ入力シート２回目!BH13)","v":{"$error":"#VALUE!"}},{"$f":"IF(データ入力シート２回目!BI11=\"\",\"\",データ入力シート２回目!BI11)+IF(データ入力シート２回目!BI12=\"\",\"\",データ入力シート２回目!BI12)+IF(データ入力シート２回目!BI13=\"\",\"\",データ入力シート２回目!BI13)","v":{"$error":"#VALUE!"}},{"$f":"IF(データ入力シート２回目!BJ11=\"\",\"\",データ入力シート２回目!BJ11)+IF(データ入力シート２回目!BJ12=\"\",\"\",データ入力シート２回目!BJ12)+IF(データ入力シート２回目!BJ13=\"\",\"\",データ入力シート２回目!BJ13)","v":{"$error":"#VALUE!"}},{"$f":"IF(データ入力シート２回目!BK11=\"\",\"\",データ入力シート２回目!BK11)+IF(データ入力シート２回目!BK12=\"\",\"\",データ入力シート２回目!BK12)+IF(データ入力シート２回目!BK13=\"\",\"\",データ入力シート２回目!BK13)","v":{"$error":"#VALUE!"}},{"$f":"IF(データ入力シート２回目!BL11=\"\",\"\",データ入力シート２回目!BL11)+IF(データ入力シート２回目!BL12=\"\",\"\",データ入力シート２回目!BL12)+IF(データ入力シート２回目!BL13=\"\",\"\",データ入力シート２回目!BL13)","v":{"$error":"#VALUE!"}},{"$f":"IF(データ入力シート２回目!BM11=\"\",\"\",データ入力シート２回目!BM11)+IF(データ入力シート２回目!BM12=\"\",\"\",データ入力シート２回目!BM12)+IF(データ入力シート２回目!BM13=\"\",\"\",データ入力シート２回目!BM13)","v":{"$error":"#VALUE!"}},{"$f":"IF(データ入力シート２回目!BN11=\"\",\"\",データ入力シート２回目!BN11)+IF(データ入力シート２回目!BN12=\"\",\"\",データ入力シート２回目!BN12)+IF(データ入力シート２回目!BN13=\"\",\"\",データ入力シート２回目!BN13)","v":{"$error":"#VALUE!"}},{"$f":"IF(データ入力シート２回目!BO11=\"\",\"\",データ入力シート２回目!BO11)+IF(データ入力シート２回目!BO12=\"\",\"\",データ入力シート２回目!BO12)+IF(データ入力シート２回目!BO13=\"\",\"\",データ入力シート２回目!BO13)","v":{"$error":"#VALUE!"}},{"$f":"IF(データ入力シート２回目!BP11=\"\",\"\",データ入力シート２回目!BP11)+IF(データ入力シート２回目!BP12=\"\",\"\",データ入力シート２回目!BP12)+IF(データ入力シート２回目!BP13=\"\",\"\",データ入力シート２回目!BP13)","v":{"$error":"#VALUE!"}},{"$f":"IF(データ入力シート２回目!BQ11=\"\",\"\",データ入力シート２回目!BQ11)+IF(データ入力シート２回目!BQ12=\"\",\"\",データ入力シート２回目!BQ12)+IF(データ入力シート２回目!BQ13=\"\",\"\",データ入力シート２回目!BQ13)","v":{"$error":"#VALUE!"}},{"$f":"IF(データ入力シート２回目!BR11=\"\",\"\",データ入力シート２回目!BR11)+IF(データ入力シート２回目!BR12=\"\",\"\",データ入力シート２回目!BR12)+IF(データ入力シート２回目!BR13=\"\",\"\",データ入力シート２回目!BR13)","v":{"$error":"#VALUE!"}},{"$f":"IF(データ入力シート２回目!BS11=\"\",\"\",データ入力シート２回目!BS11)+IF(データ入力シート２回目!BS12=\"\",\"\",データ入力シート２回目!BS12)+IF(データ入力シート２回目!BS13=\"\",\"\",データ入力シート２回目!BS13)","v":{"$error":"#VALUE!"}},{"$f":"IF(データ入力シート２回目!BT11=\"\",\"\",データ入力シート２回目!BT11)+IF(データ入力シート２回目!BT12=\"\",\"\",データ入力シート２回目!BT12)+IF(データ入力シート２回目!BT13=\"\",\"\",データ入力シート２回目!BT13)","v":{"$error":"#VALUE!"}},{"$f":"IF(データ入力シート２回目!BU11=\"\",\"\",データ入力シート２回目!BU11)+IF(データ入力シート２回目!BU12=\"\",\"\",データ入力シート２回目!BU12)+IF(データ入力シート２回目!BU13=\"\",\"\",データ入力シート２回目!BU13)","v":{"$error":"#VALUE!"}},{"$f":"IF(データ入力シート２回目!BV11=\"\",\"\",データ入力シート２回目!BV11)+IF(データ入力シート２回目!BV12=\"\",\"\",データ入力シート２回目!BV12)+IF(データ入力シート２回目!BV13=\"\",\"\",データ入力シート２回目!BV13)","v":{"$error":"#VALUE!"}},{"$f":"IF(データ入力シート２回目!BW11=\"\",\"\",データ入力シート２回目!BW11)+IF(データ入力シート２回目!BW12=\"\",\"\",データ入力シート２回目!BW12)+IF(データ入力シート２回目!BW13=\"\",\"\",データ入力シート２回目!BW13)","v":{"$error":"#VALUE!"}},{"$f":"IF(データ入力シート２回目!BX11=\"\",\"\",データ入力シート２回目!BX11)+IF(データ入力シート２回目!BX12=\"\",\"\",データ入力シート２回目!BX12)+IF(データ入力シート２回目!BX13=\"\",\"\",データ入力シート２回目!BX13)","v":{"$error":"#VALUE!"}},{"$f":"IF(データ入力シート２回目!BY11=\"\",\"\",データ入力シート２回目!BY11)+IF(データ入力シート２回目!BY12=\"\",\"\",データ入力シート２回目!BY12)+IF(データ入力シート２回目!BY13=\"\",\"\",データ入力シート２回目!BY13)","v":{"$error":"#VALUE!"}},{"$f":"IF(データ入力シート２回目!BZ11=\"\",\"\",データ入力シート２回目!BZ11)+IF(データ入力シート２回目!BZ12=\"\",\"\",データ入力シート２回目!BZ12)+IF(データ入力シート２回目!BZ13=\"\",\"\",データ入力シート２回目!BZ13)","v":{"$error":"#VALUE!"}},{"$f":"IF(データ入力シート２回目!CA11=\"\",\"\",データ入力シート２回目!CA11)+IF(データ入力シート２回目!CA12=\"\",\"\",データ入力シート２回目!CA12)+IF(データ入力シート２回目!CA13=\"\",\"\",データ入力シート２回目!CA13)","v":{"$error":"#VALUE!"}},{"$f":"IF(データ入力シート２回目!CB11=\"\",\"\",データ入力シート２回目!CB11)+IF(データ入力シート２回目!CB12=\"\",\"\",データ入力シート２回目!CB12)+IF(データ入力シート２回目!CB13=\"\",\"\",データ入力シート２回目!CB13)","v":{"$error":"#VALUE!"}},{"$f":"IF(データ入力シート２回目!CC11=\"\",\"\",データ入力シート２回目!CC11)+IF(データ入力シート２回目!CC12=\"\",\"\",データ入力シート２回目!CC12)+IF(データ入力シート２回目!CC13=\"\",\"\",データ入力シート２回目!CC13)","v":{"$error":"#VALUE!"}},{"$f":"IF(データ入力シート２回目!CD11=\"\",\"\",データ入力シート２回目!CD11)+IF(データ入力シート２回目!CD12=\"\",\"\",データ入力シート２回目!CD12)+IF(データ入力シート２回目!CD13=\"\",\"\",データ入力シート２回目!CD13)","v":{"$error":"#VALUE!"}},{"$f":"IF(データ入力シート２回目!CE11=\"\",\"\",データ入力シート２回目!CE11)+IF(データ入力シート２回目!CE12=\"\",\"\",データ入力シート２回目!CE12)+IF(データ入力シート２回目!CE13=\"\",\"\",データ入力シート２回目!CE13)","v":{"$error":"#VALUE!"}},{"$f":"IF(データ入力シート２回目!CF11=\"\",\"\",データ入力シート２回目!CF11)+IF(データ入力シート２回目!CF12=\"\",\"\",データ入力シート２回目!CF12)+IF(データ入力シート２回目!CF13=\"\",\"\",データ入力シート２回目!CF13)","v":{"$error":"#VALUE!"}},{"$f":"IF(データ入力シート２回目!CG11=\"\",\"\",データ入力シート２回目!CG11)+IF(データ入力シート２回目!CG12=\"\",\"\",データ入力シート２回目!CG12)+IF(データ入力シート２回目!CG13=\"\",\"\",データ入力シート２回目!CG13)","v":{"$error":"#VALUE!"}},{"$f":"IF(データ入力シート２回目!CH11=\"\",\"\",データ入力シート２回目!CH11)+IF(データ入力シート２回目!CH12=\"\",\"\",データ入力シート２回目!CH12)+IF(データ入力シート２回目!CH13=\"\",\"\",データ入力シート２回目!CH13)","v":{"$error":"#VALUE!"}},{"$f":"IF(データ入力シート２回目!CI11=\"\",\"\",データ入力シート２回目!CI11)+IF(データ入力シート２回目!CI12=\"\",\"\",データ入力シート２回目!CI12)+IF(データ入力シート２回目!CI13=\"\",\"\",データ入力シート２回目!CI13)","v":{"$error":"#VALUE!"}},{"$f":"IF(データ入力シート２回目!CJ11=\"\",\"\",データ入力シート２回目!CJ11)+IF(データ入力シート２回目!CJ12=\"\",\"\",データ入力シート２回目!CJ12)+IF(データ入力シート２回目!CJ13=\"\",\"\",データ入力シート２回目!CJ13)","v":{"$error":"#VALUE!"}},{"$f":"IF(データ入力シート２回目!CK11=\"\",\"\",データ入力シート２回目!CK11)+IF(データ入力シート２回目!CK12=\"\",\"\",データ入力シート２回目!CK12)+IF(データ入力シート２回目!CK13=\"\",\"\",データ入力シート２回目!CK13)","v":{"$error":"#VALUE!"}},{"$f":"IF(データ入力シート２回目!CL11=\"\",\"\",データ入力シート２回目!CL11)+IF(データ入力シート２回目!CL12=\"\",\"\",データ入力シート２回目!CL12)+IF(データ入力シート２回目!CL13=\"\",\"\",データ入力シート２回目!CL13)","v":{"$error":"#VALUE!"}},{"$f":"IF(データ入力シート２回目!CM11=\"\",\"\",データ入力シート２回目!CM11)+IF(データ入力シート２回目!CM12=\"\",\"\",データ入力シート２回目!CM12)+IF(データ入力シート２回目!CM13=\"\",\"\",データ入力シート２回目!CM13)","v":{"$error":"#VALUE!"}},{"$f":"IF(データ入力シート２回目!CN11=\"\",\"\",データ入力シート２回目!CN11)+IF(データ入力シート２回目!CN12=\"\",\"\",データ入力シート２回目!CN12)+IF(データ入力シート２回目!CN13=\"\",\"\",データ入力シート２回目!CN13)","v":{"$error":"#VALUE!"}},{"$f":"IF(データ入力シート２回目!CO11=\"\",\"\",データ入力シート２回目!CO11)+IF(データ入力シート２回目!CO12=\"\",\"\",データ入力シート２回目!CO12)+IF(データ入力シート２回目!CO13=\"\",\"\",データ入力シート２回目!CO13)","v":{"$error":"#VALUE!"}},{"$f":"IF(データ入力シート２回目!CP11=\"\",\"\",データ入力シート２回目!CP11)+IF(データ入力シート２回目!CP12=\"\",\"\",データ入力シート２回目!CP12)+IF(データ入力シート２回目!CP13=\"\",\"\",データ入力シート２回目!CP13)","v":{"$error":"#VALUE!"}},{"$f":"IF(データ入力シート２回目!CQ11=\"\",\"\",データ入力シート２回目!CQ11)+IF(データ入力シート２回目!CQ12=\"\",\"\",データ入力シート２回目!CQ12)+IF(データ入力シート２回目!CQ13=\"\",\"\",データ入力シート２回目!CQ13)","v":{"$error":"#VALUE!"}},{"$f":"IF(データ入力シート２回目!CR11=\"\",\"\",データ入力シート２回目!CR11)+IF(データ入力シート２回目!CR12=\"\",\"\",データ入力シート２回目!CR12)+IF(データ入力シート２回目!CR13=\"\",\"\",データ入力シート２回目!CR13)","v":{"$error":"#VALUE!"}},{"$f":"IF(データ入力シート２回目!CS11=\"\",\"\",データ入力シート２回目!CS11)+IF(データ入力シート２回目!CS12=\"\",\"\",データ入力シート２回目!CS12)+IF(データ入力シート２回目!CS13=\"\",\"\",データ入力シート２回目!CS13)","v":{"$error":"#VALUE!"}},{"$f":"IF(データ入力シート２回目!CT11=\"\",\"\",データ入力シート２回目!CT11)+IF(データ入力シート２回目!CT12=\"\",\"\",データ入力シート２回目!CT12)+IF(データ入力シート２回目!CT13=\"\",\"\",データ入力シート２回目!CT13)","v":{"$error":"#VALUE!"}},{"$f":"IF(データ入力シート２回目!CU11=\"\",\"\",データ入力シート２回目!CU11)+IF(データ入力シート２回目!CU12=\"\",\"\",データ入力シート２回目!CU12)+IF(データ入力シート２回目!CU13=\"\",\"\",データ入力シート２回目!CU13)","v":{"$error":"#VALUE!"}},{"$f":"IF(データ入力シート２回目!CV11=\"\",\"\",データ入力シート２回目!CV11)+IF(データ入力シート２回目!CV12=\"\",\"\",データ入力シート２回目!CV12)+IF(データ入力シート２回目!CV13=\"\",\"\",データ入力シート２回目!CV13)","v":{"$error":"#VALUE!"}},{"$f":"IF(データ入力シート２回目!CW11=\"\",\"\",データ入力シート２回目!CW11)+IF(データ入力シート２回目!CW12=\"\",\"\",データ入力シート２回目!CW12)+IF(データ入力シート２回目!CW13=\"\",\"\",データ入力シート２回目!CW13)","v":{"$error":"#VALUE!"}},{"$f":"IF(データ入力シート２回目!CX11=\"\",\"\",データ入力シート２回目!CX11)+IF(データ入力シート２回目!CX12=\"\",\"\",データ入力シート２回目!CX12)+IF(データ入力シート２回目!CX13=\"\",\"\",データ入力シート２回目!CX13)","v":{"$error":"#VALUE!"}},{"$f":"IF(データ入力シート２回目!CY11=\"\",\"\",データ入力シート２回目!CY11)+IF(データ入力シート２回目!CY12=\"\",\"\",データ入力シート２回目!CY12)+IF(データ入力シート２回目!CY13=\"\",\"\",データ入力シート２回目!CY13)","v":{"$error":"#VALUE!"}},{"$f":"IF(データ入力シート２回目!CZ11=\"\",\"\",データ入力シート２回目!CZ11)+IF(データ入力シート２回目!CZ12=\"\",\"\",データ入力シート２回目!CZ12)+IF(データ入力シート２回目!CZ13=\"\",\"\",データ入力シート２回目!CZ13)","v":{"$error":"#VALUE!"}}]
[null,"C",{"$f":"IF(データ入力シート２回目!E14=\"\",\"\",データ入力シート２回目!E14)+IF(データ入力シート２回目!E15=\"\",\"\",データ入力シート２回目!E15)+IF(データ入力シート２回目!E16=\"\",\"\",データ入力シート２回目!E16)","v":{"$error":"#VALUE!"}},{"$f":"IF(データ入力シート２回目!F14=\"\",\"\",データ入力シート２回目!F14)+IF(データ入力シート２回目!F15=\"\",\"\",データ入力シート２回目!F15)+IF(データ入力シート２回目!F16=\"\",\"\",データ入力シート２回目!F16)","v":{"$error":"#VALUE!"}},{"$f":"IF(データ入力シート２回目!G14=\"\",\"\",データ入力シート２回目!G14)+IF(データ入力シート２回目!G15=\"\",\"\",データ入力シート２回目!G15)+IF(データ入力シート２回目!G16=\"\",\"\",データ入力シート２回目!G16)","v":{"$error":"#VALUE!"}},{"$f":"IF(データ入力シート２回目!H14=\"\",\"\",データ入力シート２回目!H14)+IF(データ入力シート２回目!H15=\"\",\"\",データ入力シート２回目!H15)+IF(データ入力シート２回目!H16=\"\",\"\",データ入力シート２回目!H16)","v":{"$error":"#VALUE!"}},{"$f":"IF(データ入力シート２回目!I14=\"\",\"\",データ入力シート２回目!I14)+IF(データ入力シート２回目!I15=\"\",\"\",データ入力シート２回目!I15)+IF(データ入力シート２回目!I16=\"\",\"\",データ入力シート２回目!I16)","v":{"$error":"#VALUE!"}},{"$f":"IF(データ入力シート２回目!J14=\"\",\"\",データ入力シート２回目!J14)+IF(データ入力シート２回目!J15=\"\",\"\",データ入力シート２回目!J15)+IF(データ入力シート２回目!J16=\"\",\"\",データ入力シート２回目!J16)","v":{"$error":"#VALUE!"}},{"$f":"IF(データ入力シート２回目!K14=\"\",\"\",データ入力シート２回目!K14)+IF(データ入力シート２回目!K15=\"\",\"\",データ入力シート２回目!K15)+IF(データ入力シート２回目!K16=\"\",\"\",データ入力シート２回目!K16)","v":{"$error":"#VALUE!"}},{"$f":"IF(データ入力シート２回目!L14=\"\",\"\",データ入力シート２回目!L14)+IF(データ入力シート２回目!L15=\"\",\"\",データ入力シート２回目!L15)+IF(データ入力シート２回目!L16=\"\",\"\",データ入力シート２回目!L16)","v":{"$error":"#VALUE!"}},{"$f":"IF(データ入力シート２回目!M14=\"\",\"\",データ入力シート２回目!M14)+IF(データ入力シート２回目!M15=\"\",\"\",データ入力シート２回目!M15)+IF(データ入力シート２回目!M16=\"\",\"\",データ入力シート２回目!M16)","v":{"$error":"#VALUE!"}},{"$f":"IF(データ入力シート２回目!N14=\"\",\"\",データ入力シート２回目!N14)+IF(データ入力シート２回目!N15=\"\",\"\",データ入力シート２回目!N15)+IF(データ入力シート２回目!N16=\"\",\"\",データ入力シート２回目!N16)","v":{"$error":"#VALUE!"}},{"$f":"IF(データ入力シート２回目!O14=\"\",\"\",データ入力シート２回目!O14)+IF(データ入力シート２回目!O15=\"\",\"\",データ入力シート２回目!O15)+IF(データ入力シート２回目!O16=\"\",\"\",データ入力シート２回目!O16)","v":{"$error":"#VALUE!"}},{"$f":"IF(データ入力シート２回目!P14=\"\",\"\",データ入力シート２回目!P14)+IF(データ入力シート２回目!P15=\"\",\"\",データ入力シート２回目!P15)+IF(データ入力シート２回目!P16=\"\",\"\",データ入力シート２回目!P16)","v":{"$error":"#VALUE!"}},{"$f":"IF(データ入力シート２回目!Q14=\"\",\"\",データ入力シート２回目!Q14)+IF(データ入力シート２回目!Q15=\"\",\"\",データ入力シート２回目!Q15)+IF(データ入力シート２回目!Q16=\"\",\"\",データ入力シート２回目!Q16)","v":{"$error":"#VALUE!"}},{"$f":"IF(データ入力シート２回目!R14=\"\",\"\",データ入力シート２回目!R14)+IF(データ入力シート２回目!R15=\"\",\"\",データ入力シート２回目!R15)+IF(データ入力シート２回目!R16=\"\",\"\",データ入力シート２回目!R16)","v":{"$error":"#VALUE!"}},{"$f":"IF(データ入力シート２回目!S14=\"\",\"\",データ入力シート２回目!S14)+IF(データ入力シート２回目!S15=\"\",\"\",データ入力シート２回目!S15)+IF(データ入力シート２回目!S16=\"\",\"\",データ入力シート２回目!S16)","v":{"$error":"#VALUE!"}},{"$f":"IF(データ入力シート２回目!T14=\"\",\"\",データ入力シート２回目!T14)+IF(データ入力シート２回目!T15=\"\",\"\",データ入力シート２回目!T15)+IF(データ入力シート２回目!T16=\"\",\"\",データ入力シート２回目!T16)","v":{"$error":"#VALUE!"}},{"$f":"IF(データ入力シート２回目!U14=\"\",\"\",データ入力シート２回目!U14)+IF(データ入力シート２回目!U15=\"\",\"\",データ入力シート２回目!U15)+IF(データ入力シート２回目!U16=\"\",\"\",データ入力シート２回目!U16)","v":{"$error":"#VALUE!"}},{"$f":"IF(データ入力シート２回目!V14=\"\",\"\",データ入力シート２回目!V14)+IF(データ入力シート２回目!V15=\"\",\"\",データ入力シート２回目!V15)+IF(データ入力シート２回目!V16=\"\",\"\",データ入力シート２回目!V16)","v":{"$error":"#VALUE!"}},{"$f":"IF(データ入力シート２回目!W14=\"\",\"\",データ入力シート２回目!W14)+IF(データ入力シート２回目!W15=\"\",\"\",データ入力シート２回目!W15)+IF(データ入力シート２回目!W16=\"\",\"\",データ入力シート２回目!W16)","v":{"$error":"#VALUE!"}},{"$f":"IF(データ入力シート２回目!X14=\"\",\"\",データ入力シート２回目!X14)+IF(データ入力シート２回目!X15=\"\",\"\",データ入力シート２回目!X15)+IF(データ入力シート２回目!X16=\"\",\"\",データ入力シート２回目!X16)","v":{"$error":"#VALUE!"}},{"$f":"IF(データ入力シート２回目!Y14=\"\",\"\",データ入力シート２回目!Y14)+IF(データ入力シート２回目!Y15=\"\",\"\",データ入力シート２回目!Y15)+IF(データ入力シート２回目!Y16=\"\",\"\",データ入力シート２回目!Y16)","v":{"$error":"#VALUE!"}},{"$f":"IF(データ入力シート２回目!Z14=\"\",\"\",データ入力シート２回目!Z14)+IF(データ入力シート２回目!Z15=\"\",\"\",データ入力シート２回目!Z15)+IF(データ入力シート２回目!Z16=\"\",\"\",データ入力シート２回目!Z16)","v":{"$error":"#VALUE!"}},{"$f":"IF(データ入力シート２回目!AA14=\"\",\"\",データ入力シート２回目!AA14)+IF(データ入力シート２回目!AA15=\"\",\"\",データ入力シート２回目!AA15)+IF(データ入力シート２回目!AA16=\"\",\"\",データ入力シート２回目!AA16)","v":{"$error":"#VALUE!"}},{"$f":"IF(データ入力シート２回目!AB14=\"\",\"\",データ入力シート２回目!AB14)+IF(データ入力シート２回目!AB15=\"\",\"\",データ入力シート２回目!AB15)+IF(データ入力シート２回目!AB16=\"\",\"\",データ入力シート２回目!AB16)","v":{"$error":"#VALUE!"}},{"$f":"IF(データ入力シート２回目!AC14=\"\",\"\",データ入力シート２回目!AC14)+IF(データ入力シート２回目!AC15=\"\",\"\",データ入力シート２回目!AC15)+IF(データ入力シート２回目!AC16=\"\",\"\",データ入力シート２回目!AC16)","v":{"$error":"#VALUE!"}},{"$f":"IF(データ入力シート２回目!AD14=\"\",\"\",データ入力シート２回目!AD14)+IF(データ入力シート２回目!AD15=\"\",\"\",データ入力シート２回目!AD15)+IF(データ入力シート２回目!AD16=\"\",\"\",データ入力シート２回目!AD16)","v":{"$error":"#VALUE!"}},{"$f":"IF(データ入力シート２回目!AE14=\"\",\"\",データ入力シート２回目!AE14)+IF(データ入力シート２回目!AE15=\"\",\"\",データ入力シート２回目!AE15)+IF(データ入力シート２回目!AE16=\"\",\"\",データ入力シート２回目!AE16)","v":{"$error":"#VALUE!"}},{"$f":"IF(データ入力シート２回目!AF14=\"\",\"\",データ入力シート２回目!AF14)+IF(データ入力シート２回目!AF15=\"\",\"\",データ入力シート２回目!AF15)+IF(データ入力シート２回目!AF16=\"\",\"\",データ入力シート２回目!AF16)","v":{"$error":"#VALUE!"}},{"$f":"IF(データ入力シート２回目!AG14=\"\",\"\",データ入力シート２回目!AG14)+IF(データ入力シート２回目!AG15=\"\",\"\",データ入力シート２回目!AG15)+IF(データ入力シート２回目!AG16=\"\",\"\",データ入力シート２回目!AG16)","v":{"$error":"#VALUE!"}},{"$f":"IF(データ入力シート２回目!AH14=\"\",\"\",データ入力シート２回目!AH14)+IF(データ入力シート２回目!AH15=\"\",\"\",データ入力シート２回目!AH15)+IF(データ入力シート２回目!AH16=\"\",\"\",データ入力シート２回目!AH16)","v":{"$error":"#VALUE!"}},{"$f":"IF(データ入力シート２回目!AI14=\"\",\"\",データ入力シート２回目!AI14)+IF(データ入力シート２回目!AI15=\"\",\"\",データ入力シート２回目!AI15)+IF(データ入力シート２回目!AI16=\"\",\"\",データ入力シート２回目!AI16)","v":{"$error":"#VALUE!"}},{"$f":"IF(データ入力シート２回目!AJ14=\"\",\"\",データ入力シート２回目!AJ14)+IF(データ入力シート２回目!AJ15=\"\",\"\",データ入力シート２回目!AJ15)+IF(データ入力シート２回目!AJ16=\"\",\"\",データ入力シート２回目!AJ16)","v":{"$error":"#VALUE!"}},{"$f":"IF(データ入力シート２回目!AK14=\"\",\"\",データ入力シート２回目!AK14)+IF(データ入力シート２回目!AK15=\"\",\"\",データ入力シート２回目!AK15)+IF(データ入力シート２回目!AK16=\"\",\"\",データ入力シート２回目!AK16)","v":{"$error":"#VALUE!"}},{"$f":"IF(データ入力シート２回目!AL14=\"\",\"\",データ入力シート２回目!AL14)+IF(データ入力シート２回目!AL15=\"\",\"\",データ入力シート２回目!AL15)+IF(データ入力シート２回目!AL16=\"\",\"\",データ入力シート２回目!AL16)","v":{"$error":"#VALUE!"}},{"$f":"IF(データ入力シート２回目!AM14=\"\",\"\",データ入力シート２回目!AM14)+IF(データ入力シート２回目!AM15=\"\",\"\",データ入力シート２回目!AM15)+IF(データ入力シート２回目!AM16=\"\",\"\",データ入力シート２回目!AM16)","v":{"$error":"#VALUE!"}},{"$f":"IF(データ入力シート２回目!AN14=\"\",\"\",データ入力シート２回目!AN14)+IF(データ入力シート２回目!AN15=\"\",\"\",データ入力シート２回目!AN15)+IF(データ入力シート２回目!AN16=\"\",\"\",データ入力シート２回目!AN16)","v":{"$error":"#VALUE!"}},{"$f":"IF(データ入力シート２回目!AO14=\"\",\"\",データ入力シート２回目!AO14)+IF(データ入力シート２回目!AO15=\"\",\"\",データ入力シート２回目!AO15)+IF(データ入力シート２回目!AO16=\"\",\"\",データ入力シート２回目!AO16)","v":{"$error":"#VALUE!"}},{"$f":"IF(データ入力シート２回目!AP14=\"\",\"\",データ入力シート２回目!AP14)+IF(データ入力シート２回目!AP15=\"\",\"\",データ入力シート２回目!AP15)+IF(データ入力シート２回目!AP16=\"\",\"\",データ入力シート２回目!AP16)","v":{"$error":"#VALUE!"}},{"$f":"IF(データ入力シート２回目!AQ14=\"\",\"\",データ入力シート２回目!AQ14)+IF(データ入力シート２回目!AQ15=\"\",\"\",データ入力シート２回目!AQ15)+IF(データ入力シート２回目!AQ16=\"\",\"\",データ入力シート２回目!AQ16)","v":{"$error":"#VALUE!"}},{"$f":"IF(データ入力シート２回目!AR14=\"\",\"\",データ入力シート２回目!AR14)+IF(データ入力シート２回目!AR15=\"\",\"\",データ入力シート２回目!AR15)+IF(データ入力シート２回目!AR16=\"\",\"\",データ入力シート２回目!AR16)","v":{"$error":"#VALUE!"}},{"$f":"IF(データ入力シート２回目!AS14=\"\",\"\",データ入力シート２回目!AS14)+IF(データ入力シート２回目!AS15=\"\",\"\",データ入力シート２回目!AS15)+IF(データ入力シート２回目!AS16=\"\",\"\",データ入力シート２回目!AS16)","v":{"$error":"#VALUE!"}},{"$f":"IF(データ入力シート２回目!AT14=\"\",\"\",データ入力シート２回目!AT14)+IF(データ入力シート２回目!AT15=\"\",\"\",データ入力シート２回目!AT15)+IF(データ入力シート２回目!AT16=\"\",\"\",データ入力シート２回目!AT16)","v":{"$error":"#VALUE!"}},{"$f":"IF(データ入力シート２回目!AU14=\"\",\"\",データ入力シート２回目!AU14)+IF(データ入力シート２回目!AU15=\"\",\"\",データ入力シート２回目!AU15)+IF(データ入力シート２回目!AU16=\"\",\"\",データ入力シート２回目!AU16)","v":{"$error":"#VALUE!"}},{"$f":"IF(データ入力シート２回目!AV14=\"\",\"\",データ入力シート２回目!AV14)+IF(データ入力シート２回目!AV15=\"\",\"\",データ入力シート２回目!AV15)+IF(データ入力シート２回目!AV16=\"\",\"\",データ入力シート２回目!AV16)","v":{"$error":"#VALUE!"}},{"$f":"IF(データ入力シート２回目!AW14=\"\",\"\",データ入力シート２回目!AW14)+IF(データ入力シート２回目!AW15=\"\",\"\",データ入力シート２回目!AW15)+IF(データ入力シート２回目!AW16=\"\",\"\",データ入力シート２回目!AW16)","v":{"$error":"#VALUE!"}},{"$f":"IF(データ入力シート２回目!AX14=\"\",\"\",データ入力シート２回目!AX14)+IF(データ入力シート２回目!AX15=\"\",\"\",データ入力シート２回目!AX15)+IF(データ入力シート２回目!AX16=\"\",\"\",データ入力シート２回目!AX16)","v":{"$error":"#VALUE!"}},{"$f":"IF(データ入力シート２回目!AY14=\"\",\"\",データ入力シート２回目!AY14)+IF(データ入力シート２回目!AY15=\"\",\"\",データ入力シート２回目!AY15)+IF(データ入力シート２回目!AY16=\"\",\"\",データ入力シート２回目!AY16)","v":{"$error":"#VALUE!"}},{"$f":"IF(データ入力シート２回目!AZ14=\"\",\"\",データ入力シート２回目!AZ14)+IF(データ入力シート２回目!AZ15=\"\",\"\",データ入力シート２回目!AZ15)+IF(データ入力シート２回目!AZ16=\"\",\"\",データ入力シート２回目!AZ16)","v":{"$error":"#VALUE!"}},{"$f":"IF(データ入力シート２回目!BA14=\"\",\"\",データ入力シート２回目!BA14)+IF(データ入力シート２回目!BA15=\"\",\"\",データ入力シート２回目!BA15)+IF(データ入力シート２回目!BA16=\"\",\"\",データ入力シート２回目!BA16)","v":{"$error":"#VALUE!"}},{"$f":"IF(データ入力シート２回目!BB14=\"\",\"\",データ入力シート２回目!BB14)+IF(データ入力シート２回目!BB15=\"\",\"\",データ入力シート２回目!BB15)+IF(データ入力シート２回目!BB16=\"\",\"\",データ入力シート２回目!BB16)","v":{"$error":"#VALUE!"}},{"$f":"IF(データ入力シート２回目!BC14=\"\",\"\",データ入力シート２回目!BC14)+IF(データ入力シート２回目!BC15=\"\",\"\",データ入力シート２回目!BC15)+IF(データ入力シート２回目!BC16=\"\",\"\",データ入力シート２回目!BC16)","v":{"$error":"#VALUE!"}},{"$f":"IF(データ入力シート２回目!BD14=\"\",\"\",データ入力シート２回目!BD14)+IF(データ入力シート２回目!BD15=\"\",\"\",データ入力シート２回目!BD15)+IF(データ入力シート２回目!BD16=\"\",\"\",データ入力シート２回目!BD16)","v":{"$error":"#VALUE!"}},{"$f":"IF(データ入力シート２回目!BE14=\"\",\"\",データ入力シート２回目!BE14)+IF(データ入力シート２回目!BE15=\"\",\"\",データ入力シート２回目!BE15)+IF(データ入力シート２回目!BE16=\"\",\"\",データ入力シート２回目!BE16)","v":{"$error":"#VALUE!"}},{"$f":"IF(データ入力シート２回目!BF14=\"\",\"\",データ入力シート２回目!BF14)+IF(データ入力シート２回目!BF15=\"\",\"\",データ入力シート２回目!BF15)+IF(データ入力シート２回目!BF16=\"\",\"\",データ入力シート２回目!BF16)","v":{"$error":"#VALUE!"}},{"$f":"IF(データ入力シート２回目!BG14=\"\",\"\",データ入力シート２回目!BG14)+IF(データ入力シート２回目!BG15=\"\",\"\",データ入力シート２回目!BG15)+IF(データ入力シート２回目!BG16=\"\",\"\",データ入力シート２回目!BG16)","v":{"$error":"#VALUE!"}},{"$f":"IF(データ入力シート２回目!BH14=\"\",\"\",データ入力シート２回目!BH14)+IF(データ入力シート２回目!BH15=\"\",\"\",データ入力シート２回目!BH15)+IF(データ入力シート２回目!BH16=\"\",\"\",データ入力シート２回目!BH16)","v":{"$error":"#VALUE!"}},{"$f":"IF(データ入力シート２回目!BI14=\"\",\"\",データ入力シート２回目!BI14)+IF(データ入力シート２回目!BI15=\"\",\"\",データ入力シート２回目!BI15)+IF(データ入力シート２回目!BI16=\"\",\"\",データ入力シート２回目!BI16)","v":{"$error":"#VALUE!"}},{"$f":"IF(データ入力シート２回目!BJ14=\"\",\"\",データ入力シート２回目!BJ14)+IF(データ入力シート２回目!BJ15=\"\",\"\",データ入力シート２回目!BJ15)+IF(データ入力シート２回目!BJ16=\"\",\"\",データ入力シート２回目!BJ16)","v":{"$error":"#VALUE!"}},{"$f":"IF(データ入力シート２回目!BK14=\"\",\"\",データ入力シート２回目!BK14)+IF(データ入力シート２回目!BK15=\"\",\"\",データ入力シート２回目!BK15)+IF(データ入力シート２回目!BK16=\"\",\"\",データ入力シート２回目!BK16)","v":{"$error":"#VALUE!"}},{"$f":"IF(データ入力シート２回目!BL14=\"\",\"\",データ入力シート２回目!BL14)+IF(データ入力シート２回目!BL15=\"\",\"\",データ入力シート２回目!BL15)+IF(データ入力シート２回目!BL16=\"\",\"\",データ入力シート２回目!BL16)","v":{"$error":"#VALUE!"}},{"$f":"IF(データ入力シート２回目!BM14=\"\",\"\",データ入力シート２回目!BM14)+IF(データ入力シート２回目!BM15=\"\",\"\",データ入力シート２回目!BM15)+IF(データ入力シート２回目!BM16=\"\",\"\",データ入力シート２回目!BM16)","v":{"$error":"#VALUE!"}},{"$f":"IF(データ入力シート２回目!BN14=\"\",\"\",データ入力シート２回目!BN14)+IF(データ入力シート２回目!BN15=\"\",\"\",データ入力シート２回目!BN15)+IF(データ入力シート２回目!BN16=\"\",\"\",データ入力シート２回目!BN16)","v":{"$error":"#VALUE!"}},{"$f":"IF(データ入力シート２回目!BO14=\"\",\"\",データ入力シート２回目!BO14)+IF(データ入力シート２回目!BO15=\"\",\"\",データ入力シート２回目!BO15)+IF(データ入力シート２回目!BO16=\"\",\"\",データ入力シート２回目!BO16)","v":{"$error":"#VALUE!"}},{"$f":"IF(データ入力シート２回目!BP14=\"\",\"\",データ入力シート２回目!BP14)+IF(データ入力シート２回目!BP15=\"\",\"\",データ入力シート２回目!BP15)+IF(データ入力シート２回目!BP16=\"\",\"\",データ入力シート２回目!BP16)","v":{"$error":"#VALUE!"}},{"$f":"IF(データ入力シート２回目!BQ14=\"\",\"\",データ入力シート２回目!BQ14)+IF(データ入力シート２回目!BQ15=\"\",\"\",データ入力シート２回目!BQ15)+IF(データ入力シート２回目!BQ16=\"\",\"\",データ入力シート２回目!BQ16)","v":{"$error":"#VALUE!"}},{"$f":"IF(データ入力シート２回目!BR14=\"\",\"\",データ入力シート２回目!BR14)+IF(データ入力シート２回目!BR15=\"\",\"\",データ入力シート２回目!BR15)+IF(データ入力シート２回目!BR16=\"\",\"\",データ入力シート２回目!BR16)","v":{"$error":"#VALUE!"}},{"$f":"IF(データ入力シート２回目!BS14=\"\",\"\",データ入力シート２回目!BS14)+IF(データ入力シート２回目!BS15=\"\",\"\",データ入力シート２回目!BS15)+IF(データ入力シート２回目!BS16=\"\",\"\",データ入力シート２回目!BS16)","v":{"$error":"#VALUE!"}},{"$f":"IF(データ入力シート２回目!BT14=\"\",\"\",データ入力シート２回目!BT14)+IF(データ入力シート２回目!BT15=\"\",\"\",データ入力シート２回目!BT15)+IF(データ入力シート２回目!BT16=\"\",\"\",データ入力シート２回目!BT16)","v":{"$error":"#VALUE!"}},{"$f":"IF(データ入力シート２回目!BU14=\"\",\"\",データ入力シート２回目!BU14)+IF(データ入力シート２回目!BU15=\"\",\"\",データ入力シート２回目!BU15)+IF(データ入力シート２回目!BU16=\"\",\"\",データ入力シート２回目!BU16)","v":{"$error":"#VALUE!"}},{"$f":"IF(データ入力シート２回目!BV14=\"\",\"\",データ入力シート２回目!BV14)+IF(データ入力シート２回目!BV15=\"\",\"\",データ入力シート２回目!BV15)+IF(データ入力シート２回目!BV16=\"\",\"\",データ入力シート２回目!BV16)","v":{"$error":"#VALUE!"}},{"$f":"IF(データ入力シート２回目!BW14=\"\",\"\",データ入力シート２回目!BW14)+IF(データ入力シート２回目!BW15=\"\",\"\",データ入力シート２回目!BW15)+IF(データ入力シート２回目!BW16=\"\",\"\",データ入力シート２回目!BW16)","v":{"$error":"#VALUE!"}},{"$f":"IF(データ入力シート２回目!BX14=\"\",\"\",データ入力シート２回目!BX14)+IF(データ入力シート２回目!BX15=\"\",\"\",データ入力シート２回目!BX15)+IF(データ入力シート２回目!BX16=\"\",\"\",データ入力シート２回目!BX16)","v":{"$error":"#VALUE!"}},{"$f":"IF(データ入力シート２回目!BY14=\"\",\"\",データ入力シート２回目!BY14)+IF(データ入力シート２回目!BY15=\"\",\"\",データ入力シート２回目!BY15)+IF(データ入力シート２回目!BY16=\"\",\"\",データ入力シート２回目!BY16)","v":{"$error":"#VALUE!"}},{"$f":"IF(データ入力シート２回目!BZ14=\"\",\"\",データ入力シート２回目!BZ14)+IF(データ入力シート２回目!BZ15=\"\",\"\",データ入力シート２回目!BZ15)+IF(データ入力シート２回目!BZ16=\"\",\"\",データ入力シート２回目!BZ16)","v":{"$error":"#VALUE!"}},{"$f":"IF(データ入力シート２回目!CA14=\"\",\"\",データ入力シート２回目!CA14)+IF(データ入力シート２回目!CA15=\"\",\"\",データ入力シート２回目!CA15)+IF(データ入力シート２回目!CA16=\"\",\"\",データ入力シート２回目!CA16)","v":{"$error":"#VALUE!"}},{"$f":"IF(データ入力シート２回目!CB14=\"\",\"\",データ入力シート２回目!CB14)+IF(データ入力シート２回目!CB15=\"\",\"\",データ入力シート２回目!CB15)+IF(データ入力シート２回目!CB16=\"\",\"\",データ入力シート２回目!CB16)","v":{"$error":"#VALUE!"}},{"$f":"IF(データ入力シート２回目!CC14=\"\",\"\",データ入力シート２回目!CC14)+IF(データ入力シート２回目!CC15=\"\",\"\",データ入力シート２回目!CC15)+IF(データ入力シート２回目!CC16=\"\",\"\",データ入力シート２回目!CC16)","v":{"$error":"#VALUE!"}},{"$f":"IF(データ入力シート２回目!CD14=\"\",\"\",データ入力シート２回目!CD14)+IF(データ入力シート２回目!CD15=\"\",\"\",データ入力シート２回目!CD15)+IF(データ入力シート２回目!CD16=\"\",\"\",データ入力シート２回目!CD16)","v":{"$error":"#VALUE!"}},{"$f":"IF(データ入力シート２回目!CE14=\"\",\"\",データ入力シート２回目!CE14)+IF(データ入力シート２回目!CE15=\"\",\"\",データ入力シート２回目!CE15)+IF(データ入力シート２回目!CE16=\"\",\"\",データ入力シート２回目!CE16)","v":{"$error":"#VALUE!"}},{"$f":"IF(データ入力シート２回目!CF14=\"\",\"\",データ入力シート２回目!CF14)+IF(データ入力シート２回目!CF15=\"\",\"\",データ入力シート２回目!CF15)+IF(データ入力シート２回目!CF16=\"\",\"\",データ入力シート２回目!CF16)","v":{"$error":"#VALUE!"}},{"$f":"IF(データ入力シート２回目!CG14=\"\",\"\",データ入力シート２回目!CG14)+IF(データ入力シート２回目!CG15=\"\",\"\",データ入力シート２回目!CG15)+IF(データ入力シート２回目!CG16=\"\",\"\",データ入力シート２回目!CG16)","v":{"$error":"#VALUE!"}},{"$f":"IF(データ入力シート２回目!CH14=\"\",\"\",データ入力シート２回目!CH14)+IF(データ入力シート２回目!CH15=\"\",\"\",データ入力シート２回目!CH15)+IF(データ入力シート２回目!CH16=\"\",\"\",データ入力シート２回目!CH16)","v":{"$error":"#VALUE!"}},{"$f":"IF(データ入力シート２回目!CI14=\"\",\"\",データ入力シート２回目!CI14)+IF(データ入力シート２回目!CI15=\"\",\"\",データ入力シート２回目!CI15)+IF(データ入力シート２回目!CI16=\"\",\"\",データ入力シート２回目!CI16)","v":{"$error":"#VALUE!"}},{"$f":"IF(データ入力シート２回目!CJ14=\"\",\"\",データ入力シート２回目!CJ14)+IF(データ入力シート２回目!CJ15=\"\",\"\",データ入力シート２回目!CJ15)+IF(データ入力シート２回目!CJ16=\"\",\"\",データ入力シート２回目!CJ16)","v":{"$error":"#VALUE!"}},{"$f":"IF(データ入力シート２回目!CK14=\"\",\"\",データ入力シート２回目!CK14)+IF(データ入力シート２回目!CK15=\"\",\"\",データ入力シート２回目!CK15)+IF(データ入力シート２回目!CK16=\"\",\"\",データ入力シート２回目!CK16)","v":{"$error":"#VALUE!"}},{"$f":"IF(データ入力シート２回目!CL14=\"\",\"\",データ入力シート２回目!CL14)+IF(データ入力シート２回目!CL15=\"\",\"\",データ入力シート２回目!CL15)+IF(データ入力シート２回目!CL16=\"\",\"\",データ入力シート２回目!CL16)","v":{"$error":"#VALUE!"}},{"$f":"IF(データ入力シート２回目!CM14=\"\",\"\",データ入力シート２回目!CM14)+IF(データ入力シート２回目!CM15=\"\",\"\",データ入力シート２回目!CM15)+IF(データ入力シート２回目!CM16=\"\",\"\",データ入力シート２回目!CM16)","v":{"$error":"#VALUE!"}},{"$f":"IF(データ入力シート２回目!CN14=\"\",\"\",データ入力シート２回目!CN14)+IF(データ入力シート２回目!CN15=\"\",\"\",データ入力シート２回目!CN15)+IF(データ入力シート２回目!CN16=\"\",\"\",データ入力シート２回目!CN16)","v":{"$error":"#VALUE!"}},{"$f":"IF(データ入力シート２回目!CO14=\"\",\"\",データ入力シート２回目!CO14)+IF(データ入力シート２回目!CO15=\"\",\"\",データ入力シート２回目!CO15)+IF(データ入力シート２回目!CO16=\"\",\"\",データ入力シート２回目!CO16)","v":{"$error":"#VALUE!"}},{"$f":"IF(データ入力シート２回目!CP14=\"\",\"\",データ入力シート２回目!CP14)+IF(データ入力シート２回目!CP15=\"\",\"\",データ入力シート２回目!CP15)+IF(データ入力シート２回目!CP16=\"\",\"\",データ入力シート２回目!CP16)","v":{"$error":"#VALUE!"}},{"$f":"IF(データ入力シート２回目!CQ14=\"\",\"\",データ入力シート２回目!CQ14)+IF(データ入力シート２回目!CQ15=\"\",\"\",データ入力シート２回目!CQ15)+IF(データ入力シート２回目!CQ16=\"\",\"\",データ入力シート２回目!CQ16)","v":{"$error":"#VALUE!"}},{"$f":"IF(データ入力シート２回目!CR14=\"\",\"\",データ入力シート２回目!CR14)+IF(データ入力シート２回目!CR15=\"\",\"\",データ入力シート２回目!CR15)+IF(データ入力シート２回目!CR16=\"\",\"\",データ入力シート２回目!CR16)","v":{"$error":"#VALUE!"}},{"$f":"IF(データ入力シート２回目!CS14=\"\",\"\",データ入力シート２回目!CS14)+IF(データ入力シート２回目!CS15=\"\",\"\",データ入力シート２回目!CS15)+IF(データ入力シート２回目!CS16=\"\",\"\",データ入力シート２回目!CS16)","v":{"$error":"#VALUE!"}},{"$f":"IF(データ入力シート２回目!CT14=\"\",\"\",データ入力シート２回目!CT14)+IF(データ入力シート２回目!CT15=\"\",\"\",データ入力シート２回目!CT15)+IF(データ入力シート２回目!CT16=\"\",\"\",データ入力シート２回目!CT16)","v":{"$error":"#VALUE!"}},{"$f":"IF(データ入力シート２回目!CU14=\"\",\"\",データ入力シート２回目!CU14)+IF(データ入力シート２回目!CU15=\"\",\"\",データ入力シート２回目!CU15)+IF(データ入力シート２回目!CU16=\"\",\"\",データ入力シート２回目!CU16)","v":{"$error":"#VALUE!"}},{"$f":"IF(データ入力シート２回目!CV14=\"\",\"\",データ入力シート２回目!CV14)+IF(データ入力シート２回目!CV15=\"\",\"\",データ入力シート２回目!CV15)+IF(データ入力シート２回目!CV16=\"\",\"\",データ入力シート２回目!CV16)","v":{"$error":"#VALUE!"}},{"$f":"IF(データ入力シート２回目!CW14=\"\",\"\",データ入力シート２回目!CW14)+IF(データ入力シート２回目!CW15=\"\",\"\",データ入力シート２回目!CW15)+IF(データ入力シート２回目!CW16=\"\",\"\",データ入力シート２回目!CW16)","v":{"$error":"#VALUE!"}},{"$f":"IF(データ入力シート２回目!CX14=\"\",\"\",データ入力シート２回目!CX14)+IF(データ入力シート２回目!CX15=\"\",\"\",データ入力シート２回目!CX15)+IF(データ入力シート２回目!CX16=\"\",\"\",データ入力シート２回目!CX16)","v":{"$error":"#VALUE!"}},{"$f":"IF(データ入力シート２回目!CY14=\"\",\"\",データ入力シート２回目!CY14)+IF(データ入力シート２回目!CY15=\"\",\"\",データ入力シート２回目!CY15)+IF(データ入力シート２回目!CY16=\"\",\"\",データ入力シート２回目!CY16)","v":{"$error":"#VALUE!"}},{"$f":"IF(データ入力シート２回目!CZ14=\"\",\"\",データ入力シート２回目!CZ14)+IF(データ入力シート２回目!CZ15=\"\",\"\",データ入力シート２回目!CZ15)+IF(データ入力シート２回目!CZ16=\"\",\"\",データ入力シート２回目!CZ16)","v":{"$error":"#VALUE!"}}]
[null,"A",{"$f":"IF(データ入力シート２回目!E17=\"\",\"\",データ入力シート２回目!E17)+IF(データ入力シート２回目!E18=\"\",\"\",データ入力シート２回目!E18)+IF(データ入力シート２回目!E19=\"\",\"\",データ入力シート２回目!E19)","v":{"$error":"#VALUE!"}},{"$f":"IF(データ入力シート２回目!F17=\"\",\"\",データ入力シート２回目!F17)+IF(データ入力シート２回目!F18=\"\",\"\",データ入力シート２回目!F18)+IF(データ入力シート２回目!F19=\"\",\"\",データ入力シート２回目!F19)","v":{"$error":"#VALUE!"}},{"$f":"IF(データ入力シート２回目!G17=\"\",\"\",データ入力シート２回目!G17)+IF(データ入力シート２回目!G18=\"\",\"\",データ入力シート２回目!G18)+IF(データ入力シート２回目!G19=\"\",\"\",データ入力シート２回目!G19)","v":{"$error":"#VALUE!"}},{"$f":"IF(データ入力シート２回目!H17=\"\",\"\",データ入力シート２回目!H17)+IF(データ入力シート２回目!H18=\"\",\"\",データ入力シート２回目!H18)+IF(データ入力シート２回目!H19=\"\",\"\",データ入力シート２回目!H19)","v":{"$error":"#VALUE!"}},{"$f":"IF(データ入力シート２回目!I17=\"\",\"\",データ入力シート２回目!I17)+IF(データ入力シート２回目!I18=\"\",\"\",データ入力シート２回目!I18)+IF(データ入力シート２回目!I19=\"\",\"\",データ入力シート２回目!I19)","v":{"$error":"#VALUE!"}},{"$f":"IF(データ入力シート２回目!J17=\"\",\"\",データ入力シート２回目!J17)+IF(データ入力シート２回目!J18=\"\",\"\",データ入力シート２回目!J18)+IF(データ入力シート２回目!J19=\"\",\"\",データ入力シート２回目!J19)","v":{"$error":"#VALUE!"}},{"$f":"IF(データ入力シート２回目!K17=\"\",\"\",データ入力シート２回目!K17)+IF(データ入力シート２回目!K18=\"\",\"\",データ入力シート２回目!K18)+IF(データ入力シート２回目!K19=\"\",\"\",データ入力シート２回目!K19)","v":{"$error":"#VALUE!"}},{"$f":"IF(データ入力シート２回目!L17=\"\",\"\",データ入力シート２回目!L17)+IF(データ入力シート２回目!L18=\"\",\"\",データ入力シート２回目!L18)+IF(データ入力シート２回目!L19=\"\",\"\",データ入力シート２回目!L19)","v":{"$error":"#VALUE!"}},{"$f":"IF(データ入力シート２回目!M17=\"\",\"\",データ入力シート２回目!M17)+IF(データ入力シート２回目!M18=\"\",\"\",データ入力シート２回目!M18)+IF(データ入力シート２回目!M19=\"\",\"\",データ入力シート２回目!M19)","v":{"$error":"#VALUE!"}},{"$f":"IF(データ入力シート２回目!N17=\"\",\"\",データ入力シート２回目!N17)+IF(データ入力シート２回目!N18=\"\",\"\",データ入力シート２回目!N18)+IF(データ入力シート２回目!N19=\"\",\"\",データ入力シート２回目!N19)","v":{"$error":"#VALUE!"}},{"$f":"IF(データ入力シート２回目!O17=\"\",\"\",データ入力シート２回目!O17)+IF(データ入力シート２回目!O18=\"\",\"\",データ入力シート２回目!O18)+IF(データ入力シート２回目!O19=\"\",\"\",データ入力シート２回目!O19)","v":{"$error":"#VALUE!"}},{"$f":"IF(データ入力シート２回目!P17=\"\",\"\",データ入力シート２回目!P17)+IF(データ入力シート２回目!P18=\"\",\"\",データ入力シート２回目!P18)+IF(データ入力シート２回目!P19=\"\",\"\",データ入力シート２回目!P19)","v":{"$error":"#VALUE!"}},{"$f":"IF(データ入力シート２回目!Q17=\"\",\"\",データ入力シート２回目!Q17)+IF(データ入力シート２回目!Q18=\"\",\"\",データ入力シート２回目!Q18)+IF(データ入力シート２回目!Q19=\"\",\"\",データ入力シート２回目!Q19)","v":{"$error":"#VALUE!"}},{"$f":"IF(データ入力シート２回目!R17=\"\",\"\",データ入力シート２回目!R17)+IF(データ入力シート２回目!R18=\"\",\"\",データ入力シート２回目!R18)+IF(データ入力シート２回目!R19=\"\",\"\",データ入力シート２回目!R19)","v":{"$error":"#VALUE!"}},{"$f":"IF(データ入力シート２回目!S17=\"\",\"\",データ入力シート２回目!S17)+IF(データ入力シート２回目!S18=\"\",\"\",データ入力シート２回目!S18)+IF(データ入力シート２回目!S19=\"\",\"\",データ入力シート２回目!S19)","v":{"$error":"#VALUE!"}},{"$f":"IF(データ入力シート２回目!T17=\"\",\"\",データ入力シート２回目!T17)+IF(データ入力シート２回目!T18=\"\",\"\",データ入力シート２回目!T18)+IF(データ入力シート２回目!T19=\"\",\"\",データ入力シート２回目!T19)","v":{"$error":"#VALUE!"}},{"$f":"IF(データ入力シート２回目!U17=\"\",\"\",データ入力シート２回目!U17)+IF(データ入力シート２回目!U18=\"\",\"\",データ入力シート２回目!U18)+IF(データ入力シート２回目!U19=\"\",\"\",データ入力シート２回目!U19)","v":{"$error":"#VALUE!"}},{"$f":"IF(データ入力シート２回目!V17=\"\",\"\",データ入力シート２回目!V17)+IF(データ入力シート２回目!V18=\"\",\"\",データ入力シート２回目!V18)+IF(データ入力シート２回目!V19=\"\",\"\",データ入力シート２回目!V19)","v":{"$error":"#VALUE!"}},{"$f":"IF(データ入力シート２回目!W17=\"\",\"\",データ入力シート２回目!W17)+IF(データ入力シート２回目!W18=\"\",\"\",データ入力シート２回目!W18)+IF(データ入力シート２回目!W19=\"\",\"\",データ入力シート２回目!W19)","v":{"$error":"#VALUE!"}},{"$f":"IF(データ入力シート２回目!X17=\"\",\"\",データ入力シート２回目!X17)+IF(データ入力シート２回目!X18=\"\",\"\",データ入力シート２回目!X18)+IF(データ入力シート２回目!X19=\"\",\"\",データ入力シート２回目!X19)","v":{"$error":"#VALUE!"}},{"$f":"IF(データ入力シート２回目!Y17=\"\",\"\",データ入力シート２回目!Y17)+IF(データ入力シート２回目!Y18=\"\",\"\",データ入力シート２回目!Y18)+IF(データ入力シート２回目!Y19=\"\",\"\",データ入力シート２回目!Y19)","v":{"$error":"#VALUE!"}},{"$f":"IF(データ入力シート２回目!Z17=\"\",\"\",データ入力シート２回目!Z17)+IF(データ入力シート２回目!Z18=\"\",\"\",データ入力シート２回目!Z18)+IF(データ入力シート２回目!Z19=\"\",\"\",データ入力シート２回目!Z19)","v":{"$error":"#VALUE!"}},{"$f":"IF(データ入力シート２回目!AA17=\"\",\"\",データ入力シート２回目!AA17)+IF(データ入力シート２回目!AA18=\"\",\"\",データ入力シート２回目!AA18)+IF(データ入力シート２回目!AA19=\"\",\"\",データ入力シート２回目!AA19)","v":{"$error":"#VALUE!"}},{"$f":"IF(データ入力シート２回目!AB17=\"\",\"\",データ入力シート２回目!AB17)+IF(データ入力シート２回目!AB18=\"\",\"\",データ入力シート２回目!AB18)+IF(データ入力シート２回目!AB19=\"\",\"\",データ入力シート２回目!AB19)","v":{"$error":"#VALUE!"}},{"$f":"IF(データ入力シート２回目!AC17=\"\",\"\",データ入力シート２回目!AC17)+IF(データ入力シート２回目!AC18=\"\",\"\",データ入力シート２回目!AC18)+IF(データ入力シート２回目!AC19=\"\",\"\",データ入力シート２回目!AC19)","v":{"$error":"#VALUE!"}},{"$f":"IF(データ入力シート２回目!AD17=\"\",\"\",データ入力シート２回目!AD17)+IF(データ入力シート２回目!AD18=\"\",\"\",データ入力シート２回目!AD18)+IF(データ入力シート２回目!AD19=\"\",\"\",データ入力シート２回目!AD19)","v":{"$error":"#VALUE!"}},{"$f":"IF(データ入力シート２回目!AE17=\"\",\"\",データ入力シート２回目!AE17)+IF(データ入力シート２回目!AE18=\"\",\"\",データ入力シート２回目!AE18)+IF(データ入力シート２回目!AE19=\"\",\"\",データ入力シート２回目!AE19)","v":{"$error":"#VALUE!"}},{"$f":"IF(データ入力シート２回目!AF17=\"\",\"\",データ入力シート２回目!AF17)+IF(データ入力シート２回目!AF18=\"\",\"\",データ入力シート２回目!AF18)+IF(データ入力シート２回目!AF19=\"\",\"\",データ入力シート２回目!AF19)","v":{"$error":"#VALUE!"}},{"$f":"IF(データ入力シート２回目!AG17=\"\",\"\",データ入力シート２回目!AG17)+IF(データ入力シート２回目!AG18=\"\",\"\",データ入力シート２回目!AG18)+IF(データ入力シート２回目!AG19=\"\",\"\",データ入力シート２回目!AG19)","v":{"$error":"#VALUE!"}},{"$f":"IF(データ入力シート２回目!AH17=\"\",\"\",データ入力シート２回目!AH17)+IF(データ入力シート２回目!AH18=\"\",\"\",データ入力シート２回目!AH18)+IF(データ入力シート２回目!AH19=\"\",\"\",データ入力シート２回目!AH19)","v":{"$error":"#VALUE!"}},{"$f":"IF(データ入力シート２回目!AI17=\"\",\"\",データ入力シート２回目!AI17)+IF(データ入力シート２回目!AI18=\"\",\"\",データ入力シート２回目!AI18)+IF(データ入力シート２回目!AI19=\"\",\"\",データ入力シート２回目!AI19)","v":{"$error":"#VALUE!"}},{"$f":"IF(データ入力シート２回目!AJ17=\"\",\"\",データ入力シート２回目!AJ17)+IF(データ入力シート２回目!AJ18=\"\",\"\",データ入力シート２回目!AJ18)+IF(データ入力シート２回目!AJ19=\"\",\"\",データ入力シート２回目!AJ19)","v":{"$error":"#VALUE!"}},{"$f":"IF(データ入力シート２回目!AK17=\"\",\"\",データ入力シート２回目!AK17)+IF(データ入力シート２回目!AK18=\"\",\"\",データ入力シート２回目!AK18)+IF(データ入力シート２回目!AK19=\"\",\"\",データ入力シート２回目!AK19)","v":{"$error":"#VALUE!"}},{"$f":"IF(データ入力シート２回目!AL17=\"\",\"\",データ入力シート２回目!AL17)+IF(データ入力シート２回目!AL18=\"\",\"\",データ入力シート２回目!AL18)+IF(データ入力シート２回目!AL19=\"\",\"\",データ入力シート２回目!AL19)","v":{"$error":"#VALUE!"}},{"$f":"IF(データ入力シート２回目!AM17=\"\",\"\",データ入力シート２回目!AM17)+IF(データ入力シート２回目!AM18=\"\",\"\",データ入力シート２回目!AM18)+IF(データ入力シート２回目!AM19=\"\",\"\",データ入力シート２回目!AM19)","v":{"$error":"#VALUE!"}},{"$f":"IF(データ入力シート２回目!AN17=\"\",\"\",データ入力シート２回目!AN17)+IF(データ入力シート２回目!AN18=\"\",\"\",データ入力シート２回目!AN18)+IF(データ入力シート２回目!AN19=\"\",\"\",データ入力シート２回目!AN19)","v":{"$error":"#VALUE!"}},{"$f":"IF(データ入力シート２回目!AO17=\"\",\"\",データ入力シート２回目!AO17)+IF(データ入力シート２回目!AO18=\"\",\"\",データ入力シート２回目!AO18)+IF(データ入力シート２回目!AO19=\"\",\"\",データ入力シート２回目!AO19)","v":{"$error":"#VALUE!"}},{"$f":"IF(データ入力シート２回目!AP17=\"\",\"\",データ入力シート２回目!AP17)+IF(データ入力シート２回目!AP18=\"\",\"\",データ入力シート２回目!AP18)+IF(データ入力シート２回目!AP19=\"\",\"\",データ入力シート２回目!AP19)","v":{"$error":"#VALUE!"}},{"$f":"IF(データ入力シート２回目!AQ17=\"\",\"\",データ入力シート２回目!AQ17)+IF(データ入力シート２回目!AQ18=\"\",\"\",データ入力シート２回目!AQ18)+IF(データ入力シート２回目!AQ19=\"\",\"\",データ入力シート２回目!AQ19)","v":{"$error":"#VALUE!"}},{"$f":"IF(データ入力シート２回目!AR17=\"\",\"\",データ入力シート２回目!AR17)+IF(データ入力シート２回目!AR18=\"\",\"\",データ入力シート２回目!AR18)+IF(データ入力シート２回目!AR19=\"\",\"\",データ入力シート２回目!AR19)","v":{"$error":"#VALUE!"}},{"$f":"IF(データ入力シート２回目!AS17=\"\",\"\",データ入力シート２回目!AS17)+IF(データ入力シート２回目!AS18=\"\",\"\",データ入力シート２回目!AS18)+IF(データ入力シート２回目!AS19=\"\",\"\",データ入力シート２回目!AS19)","v":{"$error":"#VALUE!"}},{"$f":"IF(データ入力シート２回目!AT17=\"\",\"\",データ入力シート２回目!AT17)+IF(データ入力シート２回目!AT18=\"\",\"\",データ入力シート２回目!AT18)+IF(データ入力シート２回目!AT19=\"\",\"\",データ入力シート２回目!AT19)","v":{"$error":"#VALUE!"}},{"$f":"IF(データ入力シート２回目!AU17=\"\",\"\",データ入力シート２回目!AU17)+IF(データ入力シート２回目!AU18=\"\",\"\",データ入力シート２回目!AU18)+IF(データ入力シート２回目!AU19=\"\",\"\",データ入力シート２回目!AU19)","v":{"$error":"#VALUE!"}},{"$f":"IF(データ入力シート２回目!AV17=\"\",\"\",データ入力シート２回目!AV17)+IF(データ入力シート２回目!AV18=\"\",\"\",データ入力シート２回目!AV18)+IF(データ入力シート２回目!AV19=\"\",\"\",データ入力シート２回目!AV19)","v":{"$error":"#VALUE!"}},{"$f":"IF(データ入力シート２回目!AW17=\"\",\"\",データ入力シート２回目!AW17)+IF(データ入力シート２回目!AW18=\"\",\"\",データ入力シート２回目!AW18)+IF(データ入力シート２回目!AW19=\"\",\"\",データ入力シート２回目!AW19)","v":{"$error":"#VALUE!"}},{"$f":"IF(データ入力シート２回目!AX17=\"\",\"\",データ入力シート２回目!AX17)+IF(データ入力シート２回目!AX18=\"\",\"\",データ入力シート２回目!AX18)+IF(データ入力シート２回目!AX19=\"\",\"\",データ入力シート２回目!AX19)","v":{"$error":"#VALUE!"}},{"$f":"IF(データ入力シート２回目!AY17=\"\",\"\",データ入力シート２回目!AY17)+IF(データ入力シート２回目!AY18=\"\",\"\",データ入力シート２回目!AY18)+IF(データ入力シート２回目!AY19=\"\",\"\",データ入力シート２回目!AY19)","v":{"$error":"#VALUE!"}},{"$f":"IF(データ入力シート２回目!AZ17=\"\",\"\",データ入力シート２回目!AZ17)+IF(データ入力シート２回目!AZ18=\"\",\"\",データ入力シート２回目!AZ18)+IF(データ入力シート２回目!AZ19=\"\",\"\",データ入力シート２回目!AZ19)","v":{"$error":"#VALUE!"}},{"$f":"IF(データ入力シート２回目!BA17=\"\",\"\",データ入力シート２回目!BA17)+IF(データ入力シート２回目!BA18=\"\",\"\",データ入力シート２回目!BA18)+IF(データ入力シート２回目!BA19=\"\",\"\",データ入力シート２回目!BA19)","v":{"$error":"#VALUE!"}},{"$f":"IF(データ入力シート２回目!BB17=\"\",\"\",データ入力シート２回目!BB17)+IF(データ入力シート２回目!BB18=\"\",\"\",データ入力シート２回目!BB18)+IF(データ入力シート２回目!BB19=\"\",\"\",データ入力シート２回目!BB19)","v":{"$error":"#VALUE!"}},{"$f":"IF(データ入力シート２回目!BC17=\"\",\"\",データ入力シート２回目!BC17)+IF(データ入力シート２回目!BC18=\"\",\"\",データ入力シート２回目!BC18)+IF(データ入力シート２回目!BC19=\"\",\"\",データ入力シート２回目!BC19)","v":{"$error":"#VALUE!"}},{"$f":"IF(データ入力シート２回目!BD17=\"\",\"\",データ入力シート２回目!BD17)+IF(データ入力シート２回目!BD18=\"\",\"\",データ入力シート２回目!BD18)+IF(データ入力シート２回目!BD19=\"\",\"\",データ入力シート２回目!BD19)","v":{"$error":"#VALUE!"}},{"$f":"IF(データ入力シート２回目!BE17=\"\",\"\",データ入力シート２回目!BE17)+IF(データ入力シート２回目!BE18=\"\",\"\",データ入力シート２回目!BE18)+IF(データ入力シート２回目!BE19=\"\",\"\",データ入力シート２回目!BE19)","v":{"$error":"#VALUE!"}},{"$f":"IF(データ入力シート２回目!BF17=\"\",\"\",データ入力シート２回目!BF17)+IF(データ入力シート２回目!BF18=\"\",\"\",データ入力シート２回目!BF18)+IF(データ入力シート２回目!BF19=\"\",\"\",データ入力シート２回目!BF19)","v":{"$error":"#VALUE!"}},{"$f":"IF(データ入力シート２回目!BG17=\"\",\"\",データ入力シート２回目!BG17)+IF(データ入力シート２回目!BG18=\"\",\"\",データ入力シート２回目!BG18)+IF(データ入力シート２回目!BG19=\"\",\"\",データ入力シート２回目!BG19)","v":{"$error":"#VALUE!"}},{"$f":"IF(データ入力シート２回目!BH17=\"\",\"\",データ入力シート２回目!BH17)+IF(データ入力シート２回目!BH18=\"\",\"\",データ入力シート２回目!BH18)+IF(データ入力シート２回目!BH19=\"\",\"\",データ入力シート２回目!BH19)","v":{"$error":"#VALUE!"}},{"$f":"IF(データ入力シート２回目!BI17=\"\",\"\",データ入力シート２回目!BI17)+IF(データ入力シート２回目!BI18=\"\",\"\",データ入力シート２回目!BI18)+IF(データ入力シート２回目!BI19=\"\",\"\",データ入力シート２回目!BI19)","v":{"$error":"#VALUE!"}},{"$f":"IF(データ入力シート２回目!BJ17=\"\",\"\",データ入力シート２回目!BJ17)+IF(データ入力シート２回目!BJ18=\"\",\"\",データ入力シート２回目!BJ18)+IF(データ入力シート２回目!BJ19=\"\",\"\",データ入力シート２回目!BJ19)","v":{"$error":"#VALUE!"}},{"$f":"IF(データ入力シート２回目!BK17=\"\",\"\",データ入力シート２回目!BK17)+IF(データ入力シート２回目!BK18=\"\",\"\",データ入力シート２回目!BK18)+IF(データ入力シート２回目!BK19=\"\",\"\",データ入力シート２回目!BK19)","v":{"$error":"#VALUE!"}},{"$f":"IF(データ入力シート２回目!BL17=\"\",\"\",データ入力シート２回目!BL17)+IF(データ入力シート２回目!BL18=\"\",\"\",データ入力シート２回目!BL18)+IF(データ入力シート２回目!BL19=\"\",\"\",データ入力シート２回目!BL19)","v":{"$error":"#VALUE!"}},{"$f":"IF(データ入力シート２回目!BM17=\"\",\"\",データ入力シート２回目!BM17)+IF(データ入力シート２回目!BM18=\"\",\"\",データ入力シート２回目!BM18)+IF(データ入力シート２回目!BM19=\"\",\"\",データ入力シート２回目!BM19)","v":{"$error":"#VALUE!"}},{"$f":"IF(データ入力シート２回目!BN17=\"\",\"\",データ入力シート２回目!BN17)+IF(データ入力シート２回目!BN18=\"\",\"\",データ入力シート２回目!BN18)+IF(データ入力シート２回目!BN19=\"\",\"\",データ入力シート２回目!BN19)","v":{"$error":"#VALUE!"}},{"$f":"IF(データ入力シート２回目!BO17=\"\",\"\",データ入力シート２回目!BO17)+IF(データ入力シート２回目!BO18=\"\",\"\",データ入力シート２回目!BO18)+IF(データ入力シート２回目!BO19=\"\",\"\",データ入力シート２回目!BO19)","v":{"$error":"#VALUE!"}},{"$f":"IF(データ入力シート２回目!BP17=\"\",\"\",データ入力シート２回目!BP17)+IF(データ入力シート２回目!BP18=\"\",\"\",データ入力シート２回目!BP18)+IF(データ入力シート２回目!BP19=\"\",\"\",データ入力シート２回目!BP19)","v":{"$error":"#VALUE!"}},{"$f":"IF(データ入力シート２回目!BQ17=\"\",\"\",データ入力シート２回目!BQ17)+IF(データ入力シート２回目!BQ18=\"\",\"\",データ入力シート２回目!BQ18)+IF(データ入力シート２回目!BQ19=\"\",\"\",データ入力シート２回目!BQ19)","v":{"$error":"#VALUE!"}},{"$f":"IF(データ入力シート２回目!BR17=\"\",\"\",データ入力シート２回目!BR17)+IF(データ入力シート２回目!BR18=\"\",\"\",データ入力シート２回目!BR18)+IF(データ入力シート２回目!BR19=\"\",\"\",データ入力シート２回目!BR19)","v":{"$error":"#VALUE!"}},{"$f":"IF(データ入力シート２回目!BS17=\"\",\"\",データ入力シート２回目!BS17)+IF(データ入力シート２回目!BS18=\"\",\"\",データ入力シート２回目!BS18)+IF(データ入力シート２回目!BS19=\"\",\"\",データ入力シート２回目!BS19)","v":{"$error":"#VALUE!"}},{"$f":"IF(データ入力シート２回目!BT17=\"\",\"\",データ入力シート２回目!BT17)+IF(データ入力シート２回目!BT18=\"\",\"\",データ入力シート２回目!BT18)+IF(データ入力シート２回目!BT19=\"\",\"\",データ入力シート２回目!BT19)","v":{"$error":"#VALUE!"}},{"$f":"IF(データ入力シート２回目!BU17=\"\",\"\",データ入力シート２回目!BU17)+IF(データ入力シート２回目!BU18=\"\",\"\",データ入力シート２回目!BU18)+IF(データ入力シート２回目!BU19=\"\",\"\",データ入力シート２回目!BU19)","v":{"$error":"#VALUE!"}},{"$f":"IF(データ入力シート２回目!BV17=\"\",\"\",データ入力シート２回目!BV17)+IF(データ入力シート２回目!BV18=\"\",\"\",データ入力シート２回目!BV18)+IF(データ入力シート２回目!BV19=\"\",\"\",データ入力シート２回目!BV19)","v":{"$error":"#VALUE!"}},{"$f":"IF(データ入力シート２回目!BW17=\"\",\"\",データ入力シート２回目!BW17)+IF(データ入力シート２回目!BW18=\"\",\"\",データ入力シート２回目!BW18)+IF(データ入力シート２回目!BW19=\"\",\"\",データ入力シート２回目!BW19)","v":{"$error":"#VALUE!"}},{"$f":"IF(データ入力シート２回目!BX17=\"\",\"\",データ入力シート２回目!BX17)+IF(データ入力シート２回目!BX18=\"\",\"\",データ入力シート２回目!BX18)+IF(データ入力シート２回目!BX19=\"\",\"\",データ入力シート２回目!BX19)","v":{"$error":"#VALUE!"}},{"$f":"IF(データ入力シート２回目!BY17=\"\",\"\",データ入力シート２回目!BY17)+IF(データ入力シート２回目!BY18=\"\",\"\",データ入力シート２回目!BY18)+IF(データ入力シート２回目!BY19=\"\",\"\",データ入力シート２回目!BY19)","v":{"$error":"#VALUE!"}},{"$f":"IF(データ入力シート２回目!BZ17=\"\",\"\",データ入力シート２回目!BZ17)+IF(データ入力シート２回目!BZ18=\"\",\"\",データ入力シート２回目!BZ18)+IF(データ入力シート２回目!BZ19=\"\",\"\",データ入力シート２回目!BZ19)","v":{"$error":"#VALUE!"}},{"$f":"IF(データ入力シート２回目!CA17=\"\",\"\",データ入力シート２回目!CA17)+IF(データ入力シート２回目!CA18=\"\",\"\",データ入力シート２回目!CA18)+IF(データ入力シート２回目!CA19=\"\",\"\",データ入力シート２回目!CA19)","v":{"$error":"#VALUE!"}},{"$f":"IF(データ入力シート２回目!CB17=\"\",\"\",データ入力シート２回目!CB17)+IF(データ入力シート２回目!CB18=\"\",\"\",データ入力シート２回目!CB18)+IF(データ入力シート２回目!CB19=\"\",\"\",データ入力シート２回目!CB19)","v":{"$error":"#VALUE!"}},{"$f":"IF(データ入力シート２回目!CC17=\"\",\"\",データ入力シート２回目!CC17)+IF(データ入力シート２回目!CC18=\"\",\"\",データ入力シート２回目!CC18)+IF(データ入力シート２回目!CC19=\"\",\"\",データ入力シート２回目!CC19)","v":{"$error":"#VALUE!"}},{"$f":"IF(データ入力シート２回目!CD17=\"\",\"\",データ入力シート２回目!CD17)+IF(データ入力シート２回目!CD18=\"\",\"\",データ入力シート２回目!CD18)+IF(データ入力シート２回目!CD19=\"\",\"\",データ入力シート２回目!CD19)","v":{"$error":"#VALUE!"}},{"$f":"IF(データ入力シート２回目!CE17=\"\",\"\",データ入力シート２回目!CE17)+IF(データ入力シート２回目!CE18=\"\",\"\",データ入力シート２回目!CE18)+IF(データ入力シート２回目!CE19=\"\",\"\",データ入力シート２回目!CE19)","v":{"$error":"#VALUE!"}},{"$f":"IF(データ入力シート２回目!CF17=\"\",\"\",データ入力シート２回目!CF17)+IF(データ入力シート２回目!CF18=\"\",\"\",データ入力シート２回目!CF18)+IF(データ入力シート２回目!CF19=\"\",\"\",データ入力シート２回目!CF19)","v":{"$error":"#VALUE!"}},{"$f":"IF(データ入力シート２回目!CG17=\"\",\"\",データ入力シート２回目!CG17)+IF(データ入力シート２回目!CG18=\"\",\"\",データ入力シート２回目!CG18)+IF(データ入力シート２回目!CG19=\"\",\"\",データ入力シート２回目!CG19)","v":{"$error":"#VALUE!"}},{"$f":"IF(データ入力シート２回目!CH17=\"\",\"\",データ入力シート２回目!CH17)+IF(データ入力シート２回目!CH18=\"\",\"\",データ入力シート２回目!CH18)+IF(データ入力シート２回目!CH19=\"\",\"\",データ入力シート２回目!CH19)","v":{"$error":"#VALUE!"}},{"$f":"IF(データ入力シート２回目!CI17=\"\",\"\",データ入力シート２回目!CI17)+IF(データ入力シート２回目!CI18=\"\",\"\",データ入力シート２回目!CI18)+IF(データ入力シート２回目!CI19=\"\",\"\",データ入力シート２回目!CI19)","v":{"$error":"#VALUE!"}},{"$f":"IF(データ入力シート２回目!CJ17=\"\",\"\",データ入力シート２回目!CJ17)+IF(データ入力シート２回目!CJ18=\"\",\"\",データ入力シート２回目!CJ18)+IF(データ入力シート２回目!CJ19=\"\",\"\",データ入力シート２回目!CJ19)","v":{"$error":"#VALUE!"}},{"$f":"IF(データ入力シート２回目!CK17=\"\",\"\",データ入力シート２回目!CK17)+IF(データ入力シート２回目!CK18=\"\",\"\",データ入力シート２回目!CK18)+IF(データ入力シート２回目!CK19=\"\",\"\",データ入力シート２回目!CK19)","v":{"$error":"#VALUE!"}},{"$f":"IF(データ入力シート２回目!CL17=\"\",\"\",データ入力シート２回目!CL17)+IF(データ入力シート２回目!CL18=\"\",\"\",データ入力シート２回目!CL18)+IF(データ入力シート２回目!CL19=\"\",\"\",データ入力シート２回目!CL19)","v":{"$error":"#VALUE!"}},{"$f":"IF(データ入力シート２回目!CM17=\"\",\"\",データ入力シート２回目!CM17)+IF(データ入力シート２回目!CM18=\"\",\"\",データ入力シート２回目!CM18)+IF(データ入力シート２回目!CM19=\"\",\"\",データ入力シート２回目!CM19)","v":{"$error":"#VALUE!"}},{"$f":"IF(データ入力シート２回目!CN17=\"\",\"\",データ入力シート２回目!CN17)+IF(データ入力シート２回目!CN18=\"\",\"\",データ入力シート２回目!CN18)+IF(データ入力シート２回目!CN19=\"\",\"\",データ入力シート２回目!CN19)","v":{"$error":"#VALUE!"}},{"$f":"IF(データ入力シート２回目!CO17=\"\",\"\",データ入力シート２回目!CO17)+IF(データ入力シート２回目!CO18=\"\",\"\",データ入力シート２回目!CO18)+IF(データ入力シート２回目!CO19=\"\",\"\",データ入力シート２回目!CO19)","v":{"$error":"#VALUE!"}},{"$f":"IF(データ入力シート２回目!CP17=\"\",\"\",データ入力シート２回目!CP17)+IF(データ入力シート２回目!CP18=\"\",\"\",データ入力シート２回目!CP18)+IF(データ入力シート２回目!CP19=\"\",\"\",データ入力シート２回目!CP19)","v":{"$error":"#VALUE!"}},{"$f":"IF(データ入力シート２回目!CQ17=\"\",\"\",データ入力シート２回目!CQ17)+IF(データ入力シート２回目!CQ18=\"\",\"\",データ入力シート２回目!CQ18)+IF(データ入力シート２回目!CQ19=\"\",\"\",データ入力シート２回目!CQ19)","v":{"$error":"#VALUE!"}},{"$f":"IF(データ入力シート２回目!CR17=\"\",\"\",データ入力シート２回目!CR17)+IF(データ入力シート２回目!CR18=\"\",\"\",データ入力シート２回目!CR18)+IF(データ入力シート２回目!CR19=\"\",\"\",データ入力シート２回目!CR19)","v":{"$error":"#VALUE!"}},{"$f":"IF(データ入力シート２回目!CS17=\"\",\"\",データ入力シート２回目!CS17)+IF(データ入力シート２回目!CS18=\"\",\"\",データ入力シート２回目!CS18)+IF(データ入力シート２回目!CS19=\"\",\"\",データ入力シート２回目!CS19)","v":{"$error":"#VALUE!"}},{"$f":"IF(データ入力シート２回目!CT17=\"\",\"\",データ入力シート２回目!CT17)+IF(データ入力シート２回目!CT18=\"\",\"\",データ入力シート２回目!CT18)+IF(データ入力シート２回目!CT19=\"\",\"\",データ入力シート２回目!CT19)","v":{"$error":"#VALUE!"}},{"$f":"IF(データ入力シート２回目!CU17=\"\",\"\",データ入力シート２回目!CU17)+IF(データ入力シート２回目!CU18=\"\",\"\",データ入力シート２回目!CU18)+IF(データ入力シート２回目!CU19=\"\",\"\",データ入力シート２回目!CU19)","v":{"$error":"#VALUE!"}},{"$f":"IF(データ入力シート２回目!CV17=\"\",\"\",データ入力シート２回目!CV17)+IF(データ入力シート２回目!CV18=\"\",\"\",データ入力シート２回目!CV18)+IF(データ入力シート２回目!CV19=\"\",\"\",データ入力シート２回目!CV19)","v":{"$error":"#VALUE!"}},{"$f":"IF(データ入力シート２回目!CW17=\"\",\"\",データ入力シート２回目!CW17)+IF(データ入力シート２回目!CW18=\"\",\"\",データ入力シート２回目!CW18)+IF(データ入力シート２回目!CW19=\"\",\"\",データ入力シート２回目!CW19)","v":{"$error":"#VALUE!"}},{"$f":"IF(データ入力シート２回目!CX17=\"\",\"\",データ入力シート２回目!CX17)+IF(データ入力シート２回目!CX18=\"\",\"\",データ入力シート２回目!CX18)+IF(データ入力シート２回目!CX19=\"\",\"\",データ入力シート２回目!CX19)","v":{"$error":"#VALUE!"}},{"$f":"IF(データ入力シート２回目!CY17=\"\",\"\",データ入力シート２回目!CY17)+IF(データ入力シート２回目!CY18=\"\",\"\",データ入力シート２回目!CY18)+IF(データ入力シート２回目!CY19=\"\",\"\",データ入力シート２回目!CY19)","v":{"$error":"#VALUE!"}},{"$f":"IF(データ入力シート２回目!CZ17=\"\",\"\",データ入力シート２回目!CZ17)+IF(データ入力シート２回目!CZ18=\"\",\"\",データ入力シート２回目!CZ18)+IF(データ入力シート２回目!CZ19=\"\",\"\",データ入力シート２回目!CZ19)","v":{"$error":"#VALUE!"}}]
["人的資源について","P",{"$f":"IF(データ入力シート２回目!E20=\"\",\"\",データ入力シート２回目!E20)+IF(データ入力シート２回目!E21=\"\",\"\",データ入力シート２回目!E21)+IF(データ入力シート２回目!E22=\"\",\"\",データ入力シート２回目!E22)","v":{"$error":"#VALUE!"}},{"$f":"IF(データ入力シート２回目!F20=\"\",\"\",データ入力シート２回目!F20)+IF(データ入力シート２回目!F21=\"\",\"\",データ入力シート２回目!F21)+IF(データ入力シート２回目!F22=\"\",\"\",データ入力シート２回目!F22)","v":{"$error":"#VALUE!"}},{"$f":"IF(データ入力シート２回目!G20=\"\",\"\",データ入力シート２回目!G20)+IF(データ入力シート２回目!G21=\"\",\"\",データ入力シート２回目!G21)+IF(データ入力シート２回目!G22=\"\",\"\",データ入力シート２回目!G22)","v":{"$error":"#VALUE!"}},{"$f":"IF(データ入力シート２回目!H20=\"\",\"\",データ入力シート２回目!H20)+IF(データ入力シート２回目!H21=\"\",\"\",データ入力シート２回目!H21)+IF(データ入力シート２回目!H22=\"\",\"\",データ入力シート２回目!H22)","v":{"$error":"#VALUE!"}},{"$f":"IF(データ入力シート２回目!I20=\"\",\"\",データ入力シート２回目!I20)+IF(データ入力シート２回目!I21=\"\",\"\",データ入力シート２回目!I21)+IF(データ入力シート２回目!I22=\"\",\"\",データ入力シート２回目!I22)","v":{"$error":"#VALUE!"}},{"$f":"IF(データ入力シート２回目!J20=\"\",\"\",データ入力シート２回目!J20)+IF(データ入力シート２回目!J21=\"\",\"\",データ入力シート２回目!J21)+IF(データ入力シート２回目!J22=\"\",\"\",データ入力シート２回目!J22)","v":{"$error":"#VALUE!"}},{"$f":"IF(データ入力シート２回目!K20=\"\",\"\",データ入力シート２回目!K20)+IF(データ入力シート２回目!K21=\"\",\"\",データ入力シート２回目!K21)+IF(データ入力シート２回目!K22=\"\",\"\",データ入力シート２回目!K22)","v":{"$error":"#VALUE!"}},{"$f":"IF(データ入力シート２回目!L20=\"\",\"\",データ入力シート２回目!L20)+IF(データ入力シート２回目!L21=\"\",\"\",データ入力シート２回目!L21)+IF(データ入力シート２回目!L22=\"\",\"\",データ入力シート２回目!L22)","v":{"$error":"#VALUE!"}},{"$f":"IF(データ入力シート２回目!M20=\"\",\"\",データ入力シート２回目!M20)+IF(データ入力シート２回目!M21=\"\",\"\",データ入力シート２回目!M21)+IF(データ入力シート２回目!M22=\"\",\"\",データ入力シート２回目!M22)","v":{"$error":"#VALUE!"}},{"$f":"IF(データ入力シート２回目!N20=\"\",\"\",データ入力シート２回目!N20)+IF(データ入力シート２回目!N21=\"\",\"\",データ入力シート２回目!N21)+IF(データ入力シート２回目!N22=\"\",\"\",データ入力シート２回目!N22)","v":{"$error":"#VALUE!"}},{"$f":"IF(データ入力シート２回目!O20=\"\",\"\",データ入力シート２回目!O20)+IF(データ入力シート２回目!O21=\"\",\"\",データ入力シート２回目!O21)+IF(データ入力シート２回目!O22=\"\",\"\",データ入力シート２回目!O22)","v":{"$error":"#VALUE!"}},{"$f":"IF(データ入力シート２回目!P20=\"\",\"\",データ入力シート２回目!P20)+IF(データ入力シート２回目!P21=\"\",\"\",データ入力シート２回目!P21)+IF(データ入力シート２回目!P22=\"\",\"\",データ入力シート２回目!P22)","v":{"$error":"#VALUE!"}},{"$f":"IF(データ入力シート２回目!Q20=\"\",\"\",データ入力シート２回目!Q20)+IF(データ入力シート２回目!Q21=\"\",\"\",データ入力シート２回目!Q21)+IF(データ入力シート２回目!Q22=\"\",\"\",データ入力シート２回目!Q22)","v":{"$error":"#VALUE!"}},{"$f":"IF(データ入力シート２回目!R20=\"\",\"\",データ入力シート２回目!R20)+IF(データ入力シート２回目!R21=\"\",\"\",データ入力シート２回目!R21)+IF(データ入力シート２回目!R22=\"\",\"\",データ入力シート２回目!R22)","v":{"$error":"#VALUE!"}},{"$f":"IF(データ入力シート２回目!S20=\"\",\"\",データ入力シート２回目!S20)+IF(データ入力シート２回目!S21=\"\",\"\",データ入力シート２回目!S21)+IF(データ入力シート２回目!S22=\"\",\"\",データ入力シート２回目!S22)","v":{"$error":"#VALUE!"}},{"$f":"IF(データ入力シート２回目!T20=\"\",\"\",データ入力シート２回目!T20)+IF(データ入力シート２回目!T21=\"\",\"\",データ入力シート２回目!T21)+IF(データ入力シート２回目!T22=\"\",\"\",データ入力シート２回目!T22)","v":{"$error":"#VALUE!"}},{"$f":"IF(データ入力シート２回目!U20=\"\",\"\",データ入力シート２回目!U20)+IF(データ入力シート２回目!U21=\"\",\"\",データ入力シート２回目!U21)+IF(データ入力シート２回目!U22=\"\",\"\",データ入力シート２回目!U22)","v":{"$error":"#VALUE!"}},{"$f":"IF(データ入力シート２回目!V20=\"\",\"\",データ入力シート２回目!V20)+IF(データ入力シート２回目!V21=\"\",\"\",データ入力シート２回目!V21)+IF(データ入力シート２回目!V22=\"\",\"\",データ入力シート２回目!V22)","v":{"$error":"#VALUE!"}},{"$f":"IF(データ入力シート２回目!W20=\"\",\"\",データ入力シート２回目!W20)+IF(データ入力シート２回目!W21=\"\",\"\",データ入力シート２回目!W21)+IF(データ入力シート２回目!W22=\"\",\"\",データ入力シート２回目!W22)","v":{"$error":"#VALUE!"}},{"$f":"IF(データ入力シート２回目!X20=\"\",\"\",データ入力シート２回目!X20)+IF(データ入力シート２回目!X21=\"\",\"\",データ入力シート２回目!X21)+IF(データ入力シート２回目!X22=\"\",\"\",データ入力シート２回目!X22)","v":{"$error":"#VALUE!"}},{"$f":"IF(データ入力シート２回目!Y20=\"\",\"\",データ入力シート２回目!Y20)+IF(データ入力シート２回目!Y21=\"\",\"\",データ入力シート２回目!Y21)+IF(データ入力シート２回目!Y22=\"\",\"\",データ入力シート２回目!Y22)","v":{"$error":"#VALUE!"}},{"$f":"IF(データ入力シート２回目!Z20=\"\",\"\",データ入力シート２回目!Z20)+IF(データ入力シート２回目!Z21=\"\",\"\",データ入力シート２回目!Z21)+IF(データ入力シート２回目!Z22=\"\",\"\",データ入力シート２回目!Z22)","v":{"$error":"#VALUE!"}},{"$f":"IF(データ入力シート２回目!AA20=\"\",\"\",データ入力シート２回目!AA20)+IF(データ入力シート２回目!AA21=\"\",\"\",データ入力シート２回目!AA21)+IF(データ入力シート２回目!AA22=\"\",\"\",データ入力シート２回目!AA22)","v":{"$error":"#VALUE!"}},{"$f":"IF(データ入力シート２回目!AB20=\"\",\"\",データ入力シート２回目!AB20)+IF(データ入力シート２回目!AB21=\"\",\"\",データ入力シート２回目!AB21)+IF(データ入力シート２回目!AB22=\"\",\"\",データ入力シート２回目!AB22)","v":{"$error":"#VALUE!"}},{"$f":"IF(データ入力シート２回目!AC20=\"\",\"\",データ入力シート２回目!AC20)+IF(データ入力シート２回目!AC21=\"\",\"\",データ入力シート２回目!AC21)+IF(データ入力シート２回目!AC22=\"\",\"\",データ入力シート２回目!AC22)","v":{"$error":"#VALUE!"}},{"$f":"IF(データ入力シート２回目!AD20=\"\",\"\",データ入力シート２回目!AD20)+IF(データ入力シート２回目!AD21=\"\",\"\",データ入力シート２回目!AD21)+IF(データ入力シート２回目!AD22=\"\",\"\",データ入力シート２回目!AD22)","v":{"$error":"#VALUE!"}},{"$f":"IF(データ入力シート２回目!AE20=\"\",\"\",データ入力シート２回目!AE20)+IF(データ入力シート２回目!AE21=\"\",\"\",データ入力シート２回目!AE21)+IF(データ入力シート２回目!AE22=\"\",\"\",データ入力シート２回目!AE22)","v":{"$error":"#VALUE!"}},{"$f":"IF(データ入力シート２回目!AF20=\"\",\"\",データ入力シート２回目!AF20)+IF(データ入力シート２回目!AF21=\"\",\"\",データ入力シート２回目!AF21)+IF(データ入力シート２回目!AF22=\"\",\"\",データ入力シート２回目!AF22)","v":{"$error":"#VALUE!"}},{"$f":"IF(データ入力シート２回目!AG20=\"\",\"\",データ入力シート２回目!AG20)+IF(データ入力シート２回目!AG21=\"\",\"\",データ入力シート２回目!AG21)+IF(データ入力シート２回目!AG22=\"\",\"\",データ入力シート２回目!AG22)","v":{"$error":"#VALUE!"}},{"$f":"IF(データ入力シート２回目!AH20=\"\",\"\",データ入力シート２回目!AH20)+IF(データ入力シート２回目!AH21=\"\",\"\",データ入力シート２回目!AH21)+IF(データ入力シート２回目!AH22=\"\",\"\",データ入力シート２回目!AH22)","v":{"$error":"#VALUE!"}},{"$f":"IF(データ入力シート２回目!AI20=\"\",\"\",データ入力シート２回目!AI20)+IF(データ入力シート２回目!AI21=\"\",\"\",データ入力シート２回目!AI21)+IF(データ入力シート２回目!AI22=\"\",\"\",データ入力シート２回目!AI22)","v":{"$error":"#VALUE!"}},{"$f":"IF(データ入力シート２回目!AJ20=\"\",\"\",データ入力シート２回目!AJ20)+IF(データ入力シート２回目!AJ21=\"\",\"\",データ入力シート２回目!AJ21)+IF(データ入力シート２回目!AJ22=\"\",\"\",データ入力シート２回目!AJ22)","v":{"$error":"#VALUE!"}},{"$f":"IF(データ入力シート２回目!AK20=\"\",\"\",データ入力シート２回目!AK20)+IF(データ入力シート２回目!AK21=\"\",\"\",データ入力シート２回目!AK21)+IF(データ入力シート２回目!AK22=\"\",\"\",データ入力シート２回目!AK22)","v":{"$error":"#VALUE!"}},{"$f":"IF(データ入力シート２回目!AL20=\"\",\"\",データ入力シート２回目!AL20)+IF(データ入力シート２回目!AL21=\"\",\"\",データ入力シート２回目!AL21)+IF(データ入力シート２回目!AL22=\"\",\"\",データ入力シート２回目!AL22)","v":{"$error":"#VALUE!"}},{"$f":"IF(データ入力シート２回目!AM20=\"\",\"\",データ入力シート２回目!AM20)+IF(データ入力シート２回目!AM21=\"\",\"\",データ入力シート２回目!AM21)+IF(データ入力シート２回目!AM22=\"\",\"\",データ入力シート２回目!AM22)","v":{"$error":"#VALUE!"}},{"$f":"IF(データ入力シート２回目!AN20=\"\",\"\",データ入力シート２回目!AN20)+IF(データ入力シート２回目!AN21=\"\",\"\",データ入力シート２回目!AN21)+IF(データ入力シート２回目!AN22=\"\",\"\",データ入力シート２回目!AN22)","v":{"$error":"#VALUE!"}},{"$f":"IF(データ入力シート２回目!AO20=\"\",\"\",データ入力シート２回目!AO20)+IF(データ入力シート２回目!AO21=\"\",\"\",データ入力シート２回目!AO21)+IF(データ入力シート２回目!AO22=\"\",\"\",データ入力シート２回目!AO22)","v":{"$error":"#VALUE!"}},{"$f":"IF(データ入力シート２回目!AP20=\"\",\"\",データ入力シート２回目!AP20)+IF(データ入力シート２回目!AP21=\"\",\"\",データ入力シート２回目!AP21)+IF(データ入力シート２回目!AP22=\"\",\"\",データ入力シート２回目!AP22)","v":{"$error":"#VALUE!"}},{"$f":"IF(データ入力シート２回目!AQ20=\"\",\"\",データ入力シート２回目!AQ20)+IF(データ入力シート２回目!AQ21=\"\",\"\",データ入力シート２回目!AQ21)+IF(データ入力シート２回目!AQ22=\"\",\"\",データ入力シート２回目!AQ22)","v":{"$error":"#VALUE!"}},{"$f":"IF(データ入力シート２回目!AR20=\"\",\"\",データ入力シート２回目!AR20)+IF(データ入力シート２回目!AR21=\"\",\"\",データ入力シート２回目!AR21)+IF(データ入力シート２回目!AR22=\"\",\"\",データ入力シート２回目!AR22)","v":{"$error":"#VALUE!"}},{"$f":"IF(データ入力シート２回目!AS20=\"\",\"\",データ入力シート２回目!AS20)+IF(データ入力シート２回目!AS21=\"\",\"\",データ入力シート２回目!AS21)+IF(データ入力シート２回目!AS22=\"\",\"\",データ入力シート２回目!AS22)","v":{"$error":"#VALUE!"}},{"$f":"IF(データ入力シート２回目!AT20=\"\",\"\",データ入力シート２回目!AT20)+IF(データ入力シート２回目!AT21=\"\",\"\",データ入力シート２回目!AT21)+IF(データ入力シート２回目!AT22=\"\",\"\",データ入力シート２回目!AT22)","v":{"$error":"#VALUE!"}},{"$f":"IF(データ入力シート２回目!AU20=\"\",\"\",データ入力シート２回目!AU20)+IF(データ入力シート２回目!AU21=\"\",\"\",データ入力シート２回目!AU21)+IF(データ入力シート２回目!AU22=\"\",\"\",データ入力シート２回目!AU22)","v":{"$error":"#VALUE!"}},{"$f":"IF(データ入力シート２回目!AV20=\"\",\"\",データ入力シート２回目!AV20)+IF(データ入力シート２回目!AV21=\"\",\"\",データ入力シート２回目!AV21)+IF(データ入力シート２回目!AV22=\"\",\"\",データ入力シート２回目!AV22)","v":{"$error":"#VALUE!"}},{"$f":"IF(データ入力シート２回目!AW20=\"\",\"\",データ入力シート２回目!AW20)+IF(データ入力シート２回目!AW21=\"\",\"\",データ入力シート２回目!AW21)+IF(データ入力シート２回目!AW22=\"\",\"\",データ入力シート２回目!AW22)","v":{"$error":"#VALUE!"}},{"$f":"IF(データ入力シート２回目!AX20=\"\",\"\",データ入力シート２回目!AX20)+IF(データ入力シート２回目!AX21=\"\",\"\",データ入力シート２回目!AX21)+IF(データ入力シート２回目!AX22=\"\",\"\",データ入力シート２回目!AX22)","v":{"$error":"#VALUE!"}},{"$f":"IF(データ入力シート２回目!AY20=\"\",\"\",データ入力シート２回目!AY20)+IF(データ入力シート２回目!AY21=\"\",\"\",データ入力シート２回目!AY21)+IF(データ入力シート２回目!AY22=\"\",\"\",データ入力シート２回目!AY22)","v":{"$error":"#VALUE!"}},{"$f":"IF(データ入力シート２回目!AZ20=\"\",\"\",データ入力シート２回目!AZ20)+IF(データ入力シート２回目!AZ21=\"\",\"\",データ入力シート２回目!AZ21)+IF(データ入力シート２回目!AZ22=\"\",\"\",データ入力シート２回目!AZ22)","v":{"$error":"#VALUE!"}},{"$f":"IF(データ入力シート２回目!BA20=\"\",\"\",データ入力シート２回目!BA20)+IF(データ入力シート２回目!BA21=\"\",\"\",データ入力シート２回目!BA21)+IF(データ入力シート２回目!BA22=\"\",\"\",データ入力シート２回目!BA22)","v":{"$error":"#VALUE!"}},{"$f":"IF(データ入力シート２回目!BB20=\"\",\"\",データ入力シート２回目!BB20)+IF(データ入力シート２回目!BB21=\"\",\"\",データ入力シート２回目!BB21)+IF(データ入力シート２回目!BB22=\"\",\"\",データ入力シート２回目!BB22)","v":{"$error":"#VALUE!"}},{"$f":"IF(データ入力シート２回目!BC20=\"\",\"\",データ入力シート２回目!BC20)+IF(データ入力シート２回目!BC21=\"\",\"\",データ入力シート２回目!BC21)+IF(データ入力シート２回目!BC22=\"\",\"\",データ入力シート２回目!BC22)","v":{"$error":"#VALUE!"}},{"$f":"IF(データ入力シート２回目!BD20=\"\",\"\",データ入力シート２回目!BD20)+IF(データ入力シート２回目!BD21=\"\",\"\",データ入力シート２回目!BD21)+IF(データ入力シート２回目!BD22=\"\",\"\",データ入力シート２回目!BD22)","v":{"$error":"#VALUE!"}},{"$f":"IF(データ入力シート２回目!BE20=\"\",\"\",データ入力シート２回目!BE20)+IF(データ入力シート２回目!BE21=\"\",\"\",データ入力シート２回目!BE21)+IF(データ入力シート２回目!BE22=\"\",\"\",データ入力シート２回目!BE22)","v":{"$error":"#VALUE!"}},{"$f":"IF(データ入力シート２回目!BF20=\"\",\"\",データ入力シート２回目!BF20)+IF(データ入力シート２回目!BF21=\"\",\"\",データ入力シート２回目!BF21)+IF(データ入力シート２回目!BF22=\"\",\"\",データ入力シート２回目!BF22)","v":{"$error":"#VALUE!"}},{"$f":"IF(データ入力シート２回目!BG20=\"\",\"\",データ入力シート２回目!BG20)+IF(データ入力シート２回目!BG21=\"\",\"\",データ入力シート２回目!BG21)+IF(データ入力シート２回目!BG22=\"\",\"\",データ入力シート２回目!BG22)","v":{"$error":"#VALUE!"}},{"$f":"IF(データ入力シート２回目!BH20=\"\",\"\",データ入力シート２回目!BH20)+IF(データ入力シート２回目!BH21=\"\",\"\",データ入力シート２回目!BH21)+IF(データ入力シート２回目!BH22=\"\",\"\",データ入力シート２回目!BH22)","v":{"$error":"#VALUE!"}},{"$f":"IF(データ入力シート２回目!BI20=\"\",\"\",データ入力シート２回目!BI20)+IF(データ入力シート２回目!BI21=\"\",\"\",データ入力シート２回目!BI21)+IF(データ入力シート２回目!BI22=\"\",\"\",データ入力シート２回目!BI22)","v":{"$error":"#VALUE!"}},{"$f":"IF(データ入力シート２回目!BJ20=\"\",\"\",データ入力シート２回目!BJ20)+IF(データ入力シート２回目!BJ21=\"\",\"\",データ入力シート２回目!BJ21)+IF(データ入力シート２回目!BJ22=\"\",\"\",データ入力シート２回目!BJ22)","v":{"$error":"#VALUE!"}},{"$f":"IF(データ入力シート２回目!BK20=\"\",\"\",データ入力シート２回目!BK20)+IF(データ入力シート２回目!BK21=\"\",\"\",データ入力シート２回目!BK21)+IF(データ入力シート２回目!BK22=\"\",\"\",データ入力シート２回目!BK22)","v":{"$error":"#VALUE!"}},{"$f":"IF(データ入力シート２回目!BL20=\"\",\"\",データ入力シート２回目!BL20)+IF(データ入力シート２回目!BL21=\"\",\"\",データ入力シート２回目!BL21)+IF(データ入力シート２回目!BL22=\"\",\"\",データ入力シート２回目!BL22)","v":{"$error":"#VALUE!"}},{"$f":"IF(データ入力シート２回目!BM20=\"\",\"\",データ入力シート２回目!BM20)+IF(データ入力シート２回目!BM21=\"\",\"\",データ入力シート２回目!BM21)+IF(データ入力シート２回目!BM22=\"\",\"\",データ入力シート２回目!BM22)","v":{"$error":"#VALUE!"}},{"$f":"IF(データ入力シート２回目!BN20=\"\",\"\",データ入力シート２回目!BN20)+IF(データ入力シート２回目!BN21=\"\",\"\",データ入力シート２回目!BN21)+IF(データ入力シート２回目!BN22=\"\",\"\",データ入力シート２回目!BN22)","v":{"$error":"#VALUE!"}},{"$f":"IF(データ入力シート２回目!BO20=\"\",\"\",データ入力シート２回目!BO20)+IF(データ入力シート２回目!BO21=\"\",\"\",データ入力シート２回目!BO21)+IF(データ入力シート２回目!BO22=\"\",\"\",データ入力シート２回目!BO22)","v":{"$error":"#VALUE!"}},{"$f":"IF(データ入力シート２回目!BP20=\"\",\"\",データ入力シート２回目!BP20)+IF(データ入力シート２回目!BP21=\"\",\"\",データ入力シート２回目!BP21)+IF(データ入力シート２回目!BP22=\"\",\"\",データ入力シート２回目!BP22)","v":{"$error":"#VALUE!"}},{"$f":"IF(データ入力シート２回目!BQ20=\"\",\"\",データ入力シート２回目!BQ20)+IF(データ入力シート２回目!BQ21=\"\",\"\",データ入力シート２回目!BQ21)+IF(データ入力シート２回目!BQ22=\"\",\"\",データ入力シート２回目!BQ22)","v":{"$error":"#VALUE!"}},{"$f":"IF(データ入力シート２回目!BR20=\"\",\"\",データ入力シート２回目!BR20)+IF(データ入力シート２回目!BR21=\"\",\"\",データ入力シート２回目!BR21)+IF(データ入力シート２回目!BR22=\"\",\"\",データ入力シート２回目!BR22)","v":{"$error":"#VALUE!"}},{"$f":"IF(データ入力シート２回目!BS20=\"\",\"\",データ入力シート２回目!BS20)+IF(データ入力シート２回目!BS21=\"\",\"\",データ入力シート２回目!BS21)+IF(データ入力シート２回目!BS22=\"\",\"\",データ入力シート２回目!BS22)","v":{"$error":"#VALUE!"}},{"$f":"IF(データ入力シート２回目!BT20=\"\",\"\",データ入力シート２回目!BT20)+IF(データ入力シート２回目!BT21=\"\",\"\",データ入力シート２回目!BT21)+IF(データ入力シート２回目!BT22=\"\",\"\",データ入力シート２回目!BT22)","v":{"$error":"#VALUE!"}},{"$f":"IF(データ入力シート２回目!BU20=\"\",\"\",データ入力シート２回目!BU20)+IF(データ入力シート２回目!BU21=\"\",\"\",データ入力シート２回目!BU21)+IF(データ入力シート２回目!BU22=\"\",\"\",データ入力シート２回目!BU22)","v":{"$error":"#VALUE!"}},{"$f":"IF(データ入力シート２回目!BV20=\"\",\"\",データ入力シート２回目!BV20)+IF(データ入力シート２回目!BV21=\"\",\"\",データ入力シート２回目!BV21)+IF(データ入力シート２回目!BV22=\"\",\"\",データ入力シート２回目!BV22)","v":{"$error":"#VALUE!"}},{"$f":"IF(データ入力シート２回目!BW20=\"\",\"\",データ入力シート２回目!BW20)+IF(データ入力シート２回目!BW21=\"\",\"\",データ入力シート２回目!BW21)+IF(データ入力シート２回目!BW22=\"\",\"\",データ入力シート２回目!BW22)","v":{"$error":"#VALUE!"}},{"$f":"IF(データ入力シート２回目!BX20=\"\",\"\",データ入力シート２回目!BX20)+IF(データ入力シート２回目!BX21=\"\",\"\",データ入力シート２回目!BX21)+IF(データ入力シート２回目!BX22=\"\",\"\",データ入力シート２回目!BX22)","v":{"$error":"#VALUE!"}},{"$f":"IF(データ入力シート２回目!BY20=\"\",\"\",データ入力シート２回目!BY20)+IF(データ入力シート２回目!BY21=\"\",\"\",データ入力シート２回目!BY21)+IF(データ入力シート２回目!BY22=\"\",\"\",データ入力シート２回目!BY22)","v":{"$error":"#VALUE!"}},{"$f":"IF(データ入力シート２回目!BZ20=\"\",\"\",データ入力シート２回目!BZ20)+IF(データ入力シート２回目!BZ21=\"\",\"\",データ入力シート２回目!BZ21)+IF(データ入力シート２回目!BZ22=\"\",\"\",データ入力シート２回目!BZ22)","v":{"$error":"#VALUE!"}},{"$f":"IF(データ入力シート２回目!CA20=\"\",\"\",データ入力シート２回目!CA20)+IF(データ入力シート２回目!CA21=\"\",\"\",データ入力シート２回目!CA21)+IF(データ入力シート２回目!CA22=\"\",\"\",データ入力シート２回目!CA22)","v":{"$error":"#VALUE!"}},{"$f":"IF(データ入力シート２回目!CB20=\"\",\"\",データ入力シート２回目!CB20)+IF(データ入力シート２回目!CB21=\"\",\"\",データ入力シート２回目!CB21)+IF(データ入力シート２回目!CB22=\"\",\"\",データ入力シート２回目!CB22)","v":{"$error":"#VALUE!"}},{"$f":"IF(データ入力シート２回目!CC20=\"\",\"\",データ入力シート２回目!CC20)+IF(データ入力シート２回目!CC21=\"\",\"\",データ入力シート２回目!CC21)+IF(データ入力シート２回目!CC22=\"\",\"\",データ入力シート２回目!CC22)","v":{"$error":"#VALUE!"}},{"$f":"IF(データ入力シート２回目!CD20=\"\",\"\",データ入力シート２回目!CD20)+IF(データ入力シート２回目!CD21=\"\",\"\",データ入力シート２回目!CD21)+IF(データ入力シート２回目!CD22=\"\",\"\",データ入力シート２回目!CD22)","v":{"$error":"#VALUE!"}},{"$f":"IF(データ入力シート２回目!CE20=\"\",\"\",データ入力シート２回目!CE20)+IF(データ入力シート２回目!CE21=\"\",\"\",データ入力シート２回目!CE21)+IF(データ入力シート２回目!CE22=\"\",\"\",データ入力シート２回目!CE22)","v":{"$error":"#VALUE!"}},{"$f":"IF(データ入力シート２回目!CF20=\"\",\"\",データ入力シート２回目!CF20)+IF(データ入力シート２回目!CF21=\"\",\"\",データ入力シート２回目!CF21)+IF(データ入力シート２回目!CF22=\"\",\"\",データ入力シート２回目!CF22)","v":{"$error":"#VALUE!"}},{"$f":"IF(データ入力シート２回目!CG20=\"\",\"\",データ入力シート２回目!CG20)+IF(データ入力シート２回目!CG21=\"\",\"\",データ入力シート２回目!CG21)+IF(データ入力シート２回目!CG22=\"\",\"\",データ入力シート２回目!CG22)","v":{"$error":"#VALUE!"}},{"$f":"IF(データ入力シート２回目!CH20=\"\",\"\",データ入力シート２回目!CH20)+IF(データ入力シート２回目!CH21=\"\",\"\",データ入力シート２回目!CH21)+IF(データ入力シート２回目!CH22=\"\",\"\",データ入力シート２回目!CH22)","v":{"$error":"#VALUE!"}},{"$f":"IF(データ入力シート２回目!CI20=\"\",\"\",データ入力シート２回目!CI20)+IF(データ入力シート２回目!CI21=\"\",\"\",データ入力シート２回目!CI21)+IF(データ入力シート２回目!CI22=\"\",\"\",データ入力シート２回目!CI22)","v":{"$error":"#VALUE!"}},{"$f":"IF(データ入力シート２回目!CJ20=\"\",\"\",データ入力シート２回目!CJ20)+IF(データ入力シート２回目!CJ21=\"\",\"\",データ入力シート２回目!CJ21)+IF(データ入力シート２回目!CJ22=\"\",\"\",データ入力シート２回目!CJ22)","v":{"$error":"#VALUE!"}},{"$f":"IF(データ入力シート２回目!CK20=\"\",\"\",データ入力シート２回目!CK20)+IF(データ入力シート２回目!CK21=\"\",\"\",データ入力シート２回目!CK21)+IF(データ入力シート２回目!CK22=\"\",\"\",データ入力シート２回目!CK22)","v":{"$error":"#VALUE!"}},{"$f":"IF(データ入力シート２回目!CL20=\"\",\"\",データ入力シート２回目!CL20)+IF(データ入力シート２回目!CL21=\"\",\"\",データ入力シート２回目!CL21)+IF(データ入力シート２回目!CL22=\"\",\"\",データ入力シート２回目!CL22)","v":{"$error":"#VALUE!"}},{"$f":"IF(データ入力シート２回目!CM20=\"\",\"\",データ入力シート２回目!CM20)+IF(データ入力シート２回目!CM21=\"\",\"\",データ入力シート２回目!CM21)+IF(データ入力シート２回目!CM22=\"\",\"\",データ入力シート２回目!CM22)","v":{"$error":"#VALUE!"}},{"$f":"IF(データ入力シート２回目!CN20=\"\",\"\",データ入力シート２回目!CN20)+IF(データ入力シート２回目!CN21=\"\",\"\",データ入力シート２回目!CN21)+IF(データ入力シート２回目!CN22=\"\",\"\",データ入力シート２回目!CN22)","v":{"$error":"#VALUE!"}},{"$f":"IF(データ入力シート２回目!CO20=\"\",\"\",データ入力シート２回目!CO20)+IF(データ入力シート２回目!CO21=\"\",\"\",データ入力シート２回目!CO21)+IF(データ入力シート２回目!CO22=\"\",\"\",データ入力シート２回目!CO22)","v":{"$error":"#VALUE!"}},{"$f":"IF(データ入力シート２回目!CP20=\"\",\"\",データ入力シート２回目!CP20)+IF(データ入力シート２回目!CP21=\"\",\"\",データ入力シート２回目!CP21)+IF(データ入力シート２回目!CP22=\"\",\"\",データ入力シート２回目!CP22)","v":{"$error":"#VALUE!"}},{"$f":"IF(データ入力シート２回目!CQ20=\"\",\"\",データ入力シート２回目!CQ20)+IF(データ入力シート２回目!CQ21=\"\",\"\",データ入力シート２回目!CQ21)+IF(データ入力シート２回目!CQ22=\"\",\"\",データ入力シート２回目!CQ22)","v":{"$error":"#VALUE!"}},{"$f":"IF(データ入力シート２回目!CR20=\"\",\"\",データ入力シート２回目!CR20)+IF(データ入力シート２回目!CR21=\"\",\"\",データ入力シート２回目!CR21)+IF(データ入力シート２回目!CR22=\"\",\"\",データ入力シート２回目!CR22)","v":{"$error":"#VALUE!"}},{"$f":"IF(データ入力シート２回目!CS20=\"\",\"\",データ入力シート２回目!CS20)+IF(データ入力シート２回目!CS21=\"\",\"\",データ入力シート２回目!CS21)+IF(データ入力シート２回目!CS22=\"\",\"\",データ入力シート２回目!CS22)","v":{"$error":"#VALUE!"}},{"$f":"IF(データ入力シート２回目!CT20=\"\",\"\",データ入力シート２回目!CT20)+IF(データ入力シート２回目!CT21=\"\",\"\",データ入力シート２回目!CT21)+IF(データ入力シート２回目!CT22=\"\",\"\",データ入力シート２回目!CT22)","v":{"$error":"#VALUE!"}},{"$f":"IF(データ入力シート２回目!CU20=\"\",\"\",データ入力シート２回目!CU20)+IF(データ入力シート２回目!CU21=\"\",\"\",データ入力シート２回目!CU21)+IF(データ入力シート２回目!CU22=\"\",\"\",データ入力シート２回目!CU22)","v":{"$error":"#VALUE!"}},{"$f":"IF(データ入力シート２回目!CV20=\"\",\"\",データ入力シート２回目!CV20)+IF(データ入力シート２回目!CV21=\"\",\"\",データ入力シート２回目!CV21)+IF(データ入力シート２回目!CV22=\"\",\"\",データ入力シート２回目!CV22)","v":{"$error":"#VALUE!"}},{"$f":"IF(データ入力シート２回目!CW20=\"\",\"\",データ入力シート２回目!CW20)+IF(データ入力シート２回目!CW21=\"\",\"\",データ入力シート２回目!CW21)+IF(データ入力シート２回目!CW22=\"\",\"\",データ入力シート２回目!CW22)","v":{"$error":"#VALUE!"}},{"$f":"IF(データ入力シート２回目!CX20=\"\",\"\",データ入力シート２回目!CX20)+IF(データ入力シート２回目!CX21=\"\",\"\",データ入力シート２回目!CX21)+IF(データ入力シート２回目!CX22=\"\",\"\",データ入力シート２回目!CX22)","v":{"$error":"#VALUE!"}},{"$f":"IF(データ入力シート２回目!CY20=\"\",\"\",データ入力シート２回目!CY20)+IF(データ入力シート２回目!CY21=\"\",\"\",データ入力シート２回目!CY21)+IF(データ入力シート２回目!CY22=\"\",\"\",データ入力シート２回目!CY22)","v":{"$error":"#VALUE!"}},{"$f":"IF(データ入力シート２回目!CZ20=\"\",\"\",データ入力シート２回目!CZ20)+IF(データ入力シート２回目!CZ21=\"\",\"\",データ入力シート２回目!CZ21)+IF(データ入力シート２回目!CZ22=\"\",\"\",データ入力シート２回目!CZ22)","v":{"$error":"#VALUE!"}}]
[null,"D",{"$f":"IF(データ入力シート２回目!E23=\"\",\"\",データ入力シート２回目!E23)+IF(データ入力シート２回目!E24=\"\",\"\",データ入力シート２回目!E24)+IF(データ入力シート２回目!E25=\"\",\"\",データ入力シート２回目!E25)","v":{"$error":"#VALUE!"}},{"$f":"IF(データ入力シート２回目!F23=\"\",\"\",データ入力シート２回目!F23)+IF(データ入力シート２回目!F24=\"\",\"\",データ入力シート２回目!F24)+IF(データ入力シート２回目!F25=\"\",\"\",データ入力シート２回目!F25)","v":{"$error":"#VALUE!"}},{"$f":"IF(データ入力シート２回目!G23=\"\",\"\",データ入力シート２回目!G23)+IF(データ入力シート２回目!G24=\"\",\"\",データ入力シート２回目!G24)+IF(データ入力シート２回目!G25=\"\",\"\",データ入力シート２回目!G25)","v":{"$error":"#VALUE!"}},{"$f":"IF(データ入力シート２回目!H23=\"\",\"\",データ入力シート２回目!H23)+IF(データ入力シート２回目!H24=\"\",\"\",データ入力シート２回目!H24)+IF(データ入力シート２回目!H25=\"\",\"\",データ入力シート２回目!H25)","v":{"$error":"#VALUE!"}},{"$f":"IF(データ入力シート２回目!I23=\"\",\"\",データ入力シート２回目!I23)+IF(データ入力シート２回目!I24=\"\",\"\",データ入力シート２回目!I24)+IF(データ入力シート２回目!I25=\"\",\"\",データ入力シート２回目!I25)","v":{"$error":"#VALUE!"}},{"$f":"IF(データ入力シート２回目!J23=\"\",\"\",データ入力シート２回目!J23)+IF(データ入力シート２回目!J24=\"\",\"\",データ入力シート２回目!J24)+IF(データ入力シート２回目!J25=\"\",\"\",データ入力シート２回目!J25)","v":{"$error":"#VALUE!"}},{"$f":"IF(データ入力シート２回目!K23=\"\",\"\",データ入力シート２回目!K23)+IF(データ入力シート２回目!K24=\"\",\"\",データ入力シート２回目!K24)+IF(データ入力シート２回目!K25=\"\",\"\",データ入力シート２回目!K25)","v":{"$error":"#VALUE!"}},{"$f":"IF(データ入力シート２回目!L23=\"\",\"\",データ入力シート２回目!L23)+IF(データ入力シート２回目!L24=\"\",\"\",データ入力シート２回目!L24)+IF(データ入力シート２回目!L25=\"\",\"\",データ入力シート２回目!L25)","v":{"$error":"#VALUE!"}},{"$f":"IF(データ入力シート２回目!M23=\"\",\"\",データ入力シート２回目!M23)+IF(データ入力シート２回目!M24=\"\",\"\",データ入力シート２回目!M24)+IF(データ入力シート２回目!M25=\"\",\"\",データ入力シート２回目!M25)","v":{"$error":"#VALUE!"}},{"$f":"IF(データ入力シート２回目!N23=\"\",\"\",データ入力シート２回目!N23)+IF(データ入力シート２回目!N24=\"\",\"\",データ入力シート２回目!N24)+IF(データ入力シート２回目!N25=\"\",\"\",データ入力シート２回目!N25)","v":{"$error":"#VALUE!"}},{"$f":"IF(データ入力シート２回目!O23=\"\",\"\",データ入力シート２回目!O23)+IF(データ入力シート２回目!O24=\"\",\"\",データ入力シート２回目!O24)+IF(データ入力シート２回目!O25=\"\",\"\",データ入力シート２回目!O25)","v":{"$error":"#VALUE!"}},{"$f":"IF(データ入力シート２回目!P23=\"\",\"\",データ入力シート２回目!P23)+IF(データ入力シート２回目!P24=\"\",\"\",データ入力シート２回目!P24)+IF(データ入力シート２回目!P25=\"\",\"\",データ入力シート２回目!P25)","v":{"$error":"#VALUE!"}},{"$f":"IF(データ入力シート２回目!Q23=\"\",\"\",データ入力シート２回目!Q23)+IF(データ入力シート２回目!Q24=\"\",\"\",データ入力シート２回目!Q24)+IF(データ入力シート２回目!Q25=\"\",\"\",データ入力シート２回目!Q25)","v":{"$error":"#VALUE!"}},{"$f":"IF(データ入力シート２回目!R23=\"\",\"\",データ入力シート２回目!R23)+IF(データ入力シート２回目!R24=\"\",\"\",データ入力シート２回目!R24)+IF(データ入力シート２回目!R25=\"\",\"\",データ入力シート２回目!R25)","v":{"$error":"#VALUE!"}},{"$f":"IF(データ入力シート２回目!S23=\"\",\"\",データ入力シート２回目!S23)+IF(データ入力シート２回目!S24=\"\",\"\",データ入力シート２回目!S24)+IF(データ入力シート２回目!S25=\"\",\"\",データ入力シート２回目!S25)","v":{"$error":"#VALUE!"}},{"$f":"IF(データ入力シート２回目!T23=\"\",\"\",データ入力シート２回目!T23)+IF(データ入力シート２回目!T24=\"\",\"\",データ入力シート２回目!T24)+IF(データ入力シート２回目!T25=\"\",\"\",データ入力シート２回目!T25)","v":{"$error":"#VALUE!"}},{"$f":"IF(データ入力シート２回目!U23=\"\",\"\",データ入力シート２回目!U23)+IF(データ入力シート２回目!U24=\"\",\"\",データ入力シート２回目!U24)+IF(データ入力シート２回目!U25=\"\",\"\",データ入力シート２回目!U25)","v":{"$error":"#VALUE!"}},{"$f":"IF(データ入力シート２回目!V23=\"\",\"\",データ入力シート２回目!V23)+IF(データ入力シート２回目!V24=\"\",\"\",データ入力シート２回目!V24)+IF(データ入力シート２回目!V25=\"\",\"\",データ入力シート２回目!V25)","v":{"$error":"#VALUE!"}},{"$f":"IF(データ入力シート２回目!W23=\"\",\"\",データ入力シート２回目!W23)+IF(データ入力シート２回目!W24=\"\",\"\",データ入力シート２回目!W24)+IF(データ入力シート２回目!W25=\"\",\"\",データ入力シート２回目!W25)","v":{"$error":"#VALUE!"}},{"$f":"IF(データ入力シート２回目!X23=\"\",\"\",データ入力シート２回目!X23)+IF(データ入力シート２回目!X24=\"\",\"\",データ入力シート２回目!X24)+IF(データ入力シート２回目!X25=\"\",\"\",データ入力シート２回目!X25)","v":{"$error":"#VALUE!"}},{"$f":"IF(データ入力シート２回目!Y23=\"\",\"\",データ入力シート２回目!Y23)+IF(データ入力シート２回目!Y24=\"\",\"\",データ入力シート２回目!Y24)+IF(データ入力シート２回目!Y25=\"\",\"\",データ入力シート２回目!Y25)","v":{"$error":"#VALUE!"}},{"$f":"IF(データ入力シート２回目!Z23=\"\",\"\",データ入力シート２回目!Z23)+IF(データ入力シート２回目!Z24=\"\",\"\",データ入力シート２回目!Z24)+IF(データ入力シート２回目!Z25=\"\",\"\",データ入力シート２回目!Z25)","v":{"$error":"#VALUE!"}},{"$f":"IF(データ入力シート２回目!AA23=\"\",\"\",データ入力シート２回目!AA23)+IF(データ入力シート２回目!AA24=\"\",\"\",データ入力シート２回目!AA24)+IF(データ入力シート２回目!AA25=\"\",\"\",データ入力シート２回目!AA25)","v":{"$error":"#VALUE!"}},{"$f":"IF(データ入力シート２回目!AB23=\"\",\"\",データ入力シート２回目!AB23)+IF(データ入力シート２回目!AB24=\"\",\"\",データ入力シート２回目!AB24)+IF(データ入力シート２回目!AB25=\"\",\"\",データ入力シート２回目!AB25)","v":{"$error":"#VALUE!"}},{"$f":"IF(データ入力シート２回目!AC23=\"\",\"\",データ入力シート２回目!AC23)+IF(データ入力シート２回目!AC24=\"\",\"\",データ入力シート２回目!AC24)+IF(データ入力シート２回目!AC25=\"\",\"\",データ入力シート２回目!AC25)","v":{"$error":"#VALUE!"}},{"$f":"IF(データ入力シート２回目!AD23=\"\",\"\",データ入力シート２回目!AD23)+IF(データ入力シート２回目!AD24=\"\",\"\",データ入力シート２回目!AD24)+IF(データ入力シート２回目!AD25=\"\",\"\",データ入力シート２回目!AD25)","v":{"$error":"#VALUE!"}},{"$f":"IF(データ入力シート２回目!AE23=\"\",\"\",データ入力シート２回目!AE23)+IF(データ入力シート２回目!AE24=\"\",\"\",データ入力シート２回目!AE24)+IF(データ入力シート２回目!AE25=\"\",\"\",データ入力シート２回目!AE25)","v":{"$error":"#VALUE!"}},{"$f":"IF(データ入力シート２回目!AF23=\"\",\"\",データ入力シート２回目!AF23)+IF(データ入力シート２回目!AF24=\"\",\"\",データ入力シート２回目!AF24)+IF(データ入力シート２回目!AF25=\"\",\"\",データ入力シート２回目!AF25)","v":{"$error":"#VALUE!"}},{"$f":"IF(データ入力シート２回目!AG23=\"\",\"\",データ入力シート２回目!AG23)+IF(データ入力シート２回目!AG24=\"\",\"\",データ入力シート２回目!AG24)+IF(データ入力シート２回目!AG25=\"\",\"\",データ入力シート２回目!AG25)","v":{"$error":"#VALUE!"}},{"$f":"IF(データ入力シート２回目!AH23=\"\",\"\",データ入力シート２回目!AH23)+IF(データ入力シート２回目!AH24=\"\",\"\",データ入力シート２回目!AH24)+IF(データ入力シート２回目!AH25=\"\",\"\",データ入力シート２回目!AH25)","v":{"$error":"#VALUE!"}},{"$f":"IF(データ入力シート２回目!AI23=\"\",\"\",データ入力シート２回目!AI23)+IF(データ入力シート２回目!AI24=\"\",\"\",データ入力シート２回目!AI24)+IF(データ入力シート２回目!AI25=\"\",\"\",データ入力シート２回目!AI25)","v":{"$error":"#VALUE!"}},{"$f":"IF(データ入力シート２回目!AJ23=\"\",\"\",データ入力シート２回目!AJ23)+IF(データ入力シート２回目!AJ24=\"\",\"\",データ入力シート２回目!AJ24)+IF(データ入力シート２回目!AJ25=\"\",\"\",データ入力シート２回目!AJ25)","v":{"$error":"#VALUE!"}},{"$f":"IF(データ入力シート２回目!AK23=\"\",\"\",データ入力シート２回目!AK23)+IF(データ入力シート２回目!AK24=\"\",\"\",データ入力シート２回目!AK24)+IF(データ入力シート２回目!AK25=\"\",\"\",データ入力シート２回目!AK25)","v":{"$error":"#VALUE!"}},{"$f":"IF(データ入力シート２回目!AL23=\"\",\"\",データ入力シート２回目!AL23)+IF(データ入力シート２回目!AL24=\"\",\"\",データ入力シート２回目!AL24)+IF(データ入力シート２回目!AL25=\"\",\"\",データ入力シート２回目!AL25)","v":{"$error":"#VALUE!"}},{"$f":"IF(データ入力シート２回目!AM23=\"\",\"\",データ入力シート２回目!AM23)+IF(データ入力シート２回目!AM24=\"\",\"\",データ入力シート２回目!AM24)+IF(データ入力シート２回目!AM25=\"\",\"\",データ入力シート２回目!AM25)","v":{"$error":"#VALUE!"}},{"$f":"IF(データ入力シート２回目!AN23=\"\",\"\",データ入力シート２回目!AN23)+IF(データ入力シート２回目!AN24=\"\",\"\",データ入力シート２回目!AN24)+IF(データ入力シート２回目!AN25=\"\",\"\",データ入力シート２回目!AN25)","v":{"$error":"#VALUE!"}},{"$f":"IF(データ入力シート２回目!AO23=\"\",\"\",データ入力シート２回目!AO23)+IF(データ入力シート２回目!AO24=\"\",\"\",データ入力シート２回目!AO24)+IF(データ入力シート２回目!AO25=\"\",\"\",データ入力シート２回目!AO25)","v":{"$error":"#VALUE!"}},{"$f":"IF(データ入力シート２回目!AP23=\"\",\"\",データ入力シート２回目!AP23)+IF(データ入力シート２回目!AP24=\"\",\"\",データ入力シート２回目!AP24)+IF(データ入力シート２回目!AP25=\"\",\"\",データ入力シート２回目!AP25)","v":{"$error":"#VALUE!"}},{"$f":"IF(データ入力シート２回目!AQ23=\"\",\"\",データ入力シート２回目!AQ23)+IF(データ入力シート２回目!AQ24=\"\",\"\",データ入力シート２回目!AQ24)+IF(データ入力シート２回目!AQ25=\"\",\"\",データ入力シート２回目!AQ25)","v":{"$error":"#VALUE!"}},{"$f":"IF(データ入力シート２回目!AR23=\"\",\"\",データ入力シート２回目!AR23)+IF(データ入力シート２回目!AR24=\"\",\"\",データ入力シート２回目!AR24)+IF(データ入力シート２回目!AR25=\"\",\"\",データ入力シート２回目!AR25)","v":{"$error":"#VALUE!"}},{"$f":"IF(データ入力シート２回目!AS23=\"\",\"\",データ入力シート２回目!AS23)+IF(データ入力シート２回目!AS24=\"\",\"\",データ入力シート２回目!AS24)+IF(データ入力シート２回目!AS25=\"\",\"\",データ入力シート２回目!AS25)","v":{"$error":"#VALUE!"}},{"$f":"IF(データ入力シート２回目!AT23=\"\",\"\",データ入力シート２回目!AT23)+IF(データ入力シート２回目!AT24=\"\",\"\",データ入力シート２回目!AT24)+IF(データ入力シート２回目!AT25=\"\",\"\",データ入力シート２回目!AT25)","v":{"$error":"#VALUE!"}},{"$f":"IF(データ入力シート２回目!AU23=\"\",\"\",データ入力シート２回目!AU23)+IF(データ入力シート２回目!AU24=\"\",\"\",データ入力シート２回目!AU24)+IF(データ入力シート２回目!AU25=\"\",\"\",データ入力シート２回目!AU25)","v":{"$error":"#VALUE!"}},{"$f":"IF(データ入力シート２回目!AV23=\"\",\"\",データ入力シート２回目!AV23)+IF(データ入力シート２回目!AV24=\"\",\"\",データ入力シート２回目!AV24)+IF(データ入力シート２回目!AV25=\"\",\"\",データ入力シート２回目!AV25)","v":{"$error":"#VALUE!"}},{"$f":"IF(データ入力シート２回目!AW23=\"\",\"\",データ入力シート２回目!AW23)+IF(データ入力シート２回目!AW24=\"\",\"\",データ入力シート２回目!AW24)+IF(データ入力シート２回目!AW25=\"\",\"\",データ入力シート２回目!AW25)","v":{"$error":"#VALUE!"}},{"$f":"IF(データ入力シート２回目!AX23=\"\",\"\",データ入力シート２回目!AX23)+IF(データ入力シート２回目!AX24=\"\",\"\",データ入力シート２回目!AX24)+IF(データ入力シート２回目!AX25=\"\",\"\",データ入力シート２回目!AX25)","v":{"$error":"#VALUE!"}},{"$f":"IF(データ入力シート２回目!AY23=\"\",\"\",データ入力シート２回目!AY23)+IF(データ入力シート２回目!AY24=\"\",\"\",データ入力シート２回目!AY24)+IF(データ入力シート２回目!AY25=\"\",\"\",データ入力シート２回目!AY25)","v":{"$error":"#VALUE!"}},{"$f":"IF(データ入力シート２回目!AZ23=\"\",\"\",データ入力シート２回目!AZ23)+IF(データ入力シート２回目!AZ24=\"\",\"\",データ入力シート２回目!AZ24)+IF(データ入力シート２回目!AZ25=\"\",\"\",データ入力シート２回目!AZ25)","v":{"$error":"#VALUE!"}},{"$f":"IF(データ入力シート２回目!BA23=\"\",\"\",データ入力シート２回目!BA23)+IF(データ入力シート２回目!BA24=\"\",\"\",データ入力シート２回目!BA24)+IF(データ入力シート２回目!BA25=\"\",\"\",データ入力シート２回目!BA25)","v":{"$error":"#VALUE!"}},{"$f":"IF(データ入力シート２回目!BB23=\"\",\"\",データ入力シート２回目!BB23)+IF(データ入力シート２回目!BB24=\"\",\"\",データ入力シート２回目!BB24)+IF(データ入力シート２回目!BB25=\"\",\"\",データ入力シート２回目!BB25)","v":{"$error":"#VALUE!"}},{"$f":"IF(データ入力シート２回目!BC23=\"\",\"\",データ入力シート２回目!BC23)+IF(データ入力シート２回目!BC24=\"\",\"\",データ入力シート２回目!BC24)+IF(データ入力シート２回目!BC25=\"\",\"\",データ入力シート２回目!BC25)","v":{"$error":"#VALUE!"}},{"$f":"IF(データ入力シート２回目!BD23=\"\",\"\",データ入力シート２回目!BD23)+IF(データ入力シート２回目!BD24=\"\",\"\",データ入力シート２回目!BD24)+IF(データ入力シート２回目!BD25=\"\",\"\",データ入力シート２回目!BD25)","v":{"$error":"#VALUE!"}},{"$f":"IF(データ入力シート２回目!BE23=\"\",\"\",データ入力シート２回目!BE23)+IF(データ入力シート２回目!BE24=\"\",\"\",データ入力シート２回目!BE24)+IF(データ入力シート２回目!BE25=\"\",\"\",データ入力シート２回目!BE25)","v":{"$error":"#VALUE!"}},{"$f":"IF(データ入力シート２回目!BF23=\"\",\"\",データ入力シート２回目!BF23)+IF(データ入力シート２回目!BF24=\"\",\"\",データ入力シート２回目!BF24)+IF(データ入力シート２回目!BF25=\"\",\"\",データ入力シート２回目!BF25)","v":{"$error":"#VALUE!"}},{"$f":"IF(データ入力シート２回目!BG23=\"\",\"\",データ入力シート２回目!BG23)+IF(データ入力シート２回目!BG24=\"\",\"\",データ入力シート２回目!BG24)+IF(データ入力シート２回目!BG25=\"\",\"\",データ入力シート２回目!BG25)","v":{"$error":"#VALUE!"}},{"$f":"IF(データ入力シート２回目!BH23=\"\",\"\",データ入力シート２回目!BH23)+IF(データ入力シート２回目!BH24=\"\",\"\",データ入力シート２回目!BH24)+IF(データ入力シート２回目!BH25=\"\",\"\",データ入力シート２回目!BH25)","v":{"$error":"#VALUE!"}},{"$f":"IF(データ入力シート２回目!BI23=\"\",\"\",データ入力シート２回目!BI23)+IF(データ入力シート２回目!BI24=\"\",\"\",データ入力シート２回目!BI24)+IF(データ入力シート２回目!BI25=\"\",\"\",データ入力シート２回目!BI25)","v":{"$error":"#VALUE!"}},{"$f":"IF(データ入力シート２回目!BJ23=\"\",\"\",データ入力シート２回目!BJ23)+IF(データ入力シート２回目!BJ24=\"\",\"\",データ入力シート２回目!BJ24)+IF(データ入力シート２回目!BJ25=\"\",\"\",データ入力シート２回目!BJ25)","v":{"$error":"#VALUE!"}},{"$f":"IF(データ入力シート２回目!BK23=\"\",\"\",データ入力シート２回目!BK23)+IF(データ入力シート２回目!BK24=\"\",\"\",データ入力シート２回目!BK24)+IF(データ入力シート２回目!BK25=\"\",\"\",データ入力シート２回目!BK25)","v":{"$error":"#VALUE!"}},{"$f":"IF(データ入力シート２回目!BL23=\"\",\"\",データ入力シート２回目!BL23)+IF(データ入力シート２回目!BL24=\"\",\"\",データ入力シート２回目!BL24)+IF(データ入力シート２回目!BL25=\"\",\"\",データ入力シート２回目!BL25)","v":{"$error":"#VALUE!"}},{"$f":"IF(データ入力シート２回目!BM23=\"\",\"\",データ入力シート２回目!BM23)+IF(データ入力シート２回目!BM24=\"\",\"\",データ入力シート２回目!BM24)+IF(データ入力シート２回目!BM25=\"\",\"\",データ入力シート２回目!BM25)","v":{"$error":"#VALUE!"}},{"$f":"IF(データ入力シート２回目!BN23=\"\",\"\",データ入力シート２回目!BN23)+IF(データ入力シート２回目!BN24=\"\",\"\",データ入力シート２回目!BN24)+IF(データ入力シート２回目!BN25=\"\",\"\",データ入力シート２回目!BN25)","v":{"$error":"#VALUE!"}},{"$f":"IF(データ入力シート２回目!BO23=\"\",\"\",データ入力シート２回目!BO23)+IF(データ入力シート２回目!BO24=\"\",\"\",データ入力シート２回目!BO24)+IF(データ入力シート２回目!BO25=\"\",\"\",データ入力シート２回目!BO25)","v":{"$error":"#VALUE!"}},{"$f":"IF(データ入力シート２回目!BP23=\"\",\"\",データ入力シート２回目!BP23)+IF(データ入力シート２回目!BP24=\"\",\"\",データ入力シート２回目!BP24)+IF(データ入力シート２回目!BP25=\"\",\"\",データ入力シート２回目!BP25)","v":{"$error":"#VALUE!"}},{"$f":"IF(データ入力シート２回目!BQ23=\"\",\"\",データ入力シート２回目!BQ23)+IF(データ入力シート２回目!BQ24=\"\",\"\",データ入力シート２回目!BQ24)+IF(データ入力シート２回目!BQ25=\"\",\"\",データ入力シート２回目!BQ25)","v":{"$error":"#VALUE!"}},{"$f":"IF(データ入力シート２回目!BR23=\"\",\"\",データ入力シート２回目!BR23)+IF(データ入力シート２回目!BR24=\"\",\"\",データ入力シート２回目!BR24)+IF(データ入力シート２回目!BR25=\"\",\"\",データ入力シート２回目!BR25)","v":{"$error":"#VALUE!"}},{"$f":"IF(データ入力シート２回目!BS23=\"\",\"\",データ入力シート２回目!BS23)+IF(データ入力シート２回目!BS24=\"\",\"\",データ入力シート２回目!BS24)+IF(データ入力シート２回目!BS25=\"\",\"\",データ入力シート２回目!BS25)","v":{"$error":"#VALUE!"}},{"$f":"IF(データ入力シート２回目!BT23=\"\",\"\",データ入力シート２回目!BT23)+IF(データ入力シート２回目!BT24=\"\",\"\",データ入力シート２回目!BT24)+IF(データ入力シート２回目!BT25=\"\",\"\",データ入力シート２回目!BT25)","v":{"$error":"#VALUE!"}},{"$f":"IF(データ入力シート２回目!BU23=\"\",\"\",データ入力シート２回目!BU23)+IF(データ入力シート２回目!BU24=\"\",\"\",データ入力シート２回目!BU24)+IF(データ入力シート２回目!BU25=\"\",\"\",データ入力シート２回目!BU25)","v":{"$error":"#VALUE!"}},{"$f":"IF(データ入力シート２回目!BV23=\"\",\"\",データ入力シート２回目!BV23)+IF(データ入力シート２回目!BV24=\"\",\"\",データ入力シート２回目!BV24)+IF(データ入力シート２回目!BV25=\"\",\"\",データ入力シート２回目!BV25)","v":{"$error":"#VALUE!"}},{"$f":"IF(データ入力シート２回目!BW23=\"\",\"\",データ入力シート２回目!BW23)+IF(データ入力シート２回目!BW24=\"\",\"\",データ入力シート２回目!BW24)+IF(データ入力シート２回目!BW25=\"\",\"\",データ入力シート２回目!BW25)","v":{"$error":"#VALUE!"}},{"$f":"IF(データ入力シート２回目!BX23=\"\",\"\",データ入力シート２回目!BX23)+IF(データ入力シート２回目!BX24=\"\",\"\",データ入力シート２回目!BX24)+IF(データ入力シート２回目!BX25=\"\",\"\",データ入力シート２回目!BX25)","v":{"$error":"#VALUE!"}},{"$f":"IF(データ入力シート２回目!BY23=\"\",\"\",データ入力シート２回目!BY23)+IF(データ入力シート２回目!BY24=\"\",\"\",データ入力シート２回目!BY24)+IF(データ入力シート２回目!BY25=\"\",\"\",データ入力シート２回目!BY25)","v":{"$error":"#VALUE!"}},{"$f":"IF(データ入力シート２回目!BZ23=\"\",\"\",データ入力シート２回目!BZ23)+IF(データ入力シート２回目!BZ24=\"\",\"\",データ入力シート２回目!BZ24)+IF(データ入力シート２回目!BZ25=\"\",\"\",データ入力シート２回目!BZ25)","v":{"$error":"#VALUE!"}},{"$f":"IF(データ入力シート２回目!CA23=\"\",\"\",データ入力シート２回目!CA23)+IF(データ入力シート２回目!CA24=\"\",\"\",データ入力シート２回目!CA24)+IF(データ入力シート２回目!CA25=\"\",\"\",データ入力シート２回目!CA25)","v":{"$error":"#VALUE!"}},{"$f":"IF(データ入力シート２回目!CB23=\"\",\"\",データ入力シート２回目!CB23)+IF(データ入力シート２回目!CB24=\"\",\"\",データ入力シート２回目!CB24)+IF(データ入力シート２回目!CB25=\"\",\"\",データ入力シート２回目!CB25)","v":{"$error":"#VALUE!"}},{"$f":"IF(データ入力シート２回目!CC23=\"\",\"\",データ入力シート２回目!CC23)+IF(データ入力シート２回目!CC24=\"\",\"\",データ入力シート２回目!CC24)+IF(データ入力シート２回目!CC25=\"\",\"\",データ入力シート２回目!CC25)","v":{"$error":"#VALUE!"}},{"$f":"IF(データ入力シート２回目!CD23=\"\",\"\",データ入力シート２回目!CD23)+IF(データ入力シート２回目!CD24=\"\",\"\",データ入力シート２回目!CD24)+IF(データ入力シート２回目!CD25=\"\",\"\",データ入力シート２回目!CD25)","v":{"$error":"#VALUE!"}},{"$f":"IF(データ入力シート２回目!CE23=\"\",\"\",データ入力シート２回目!CE23)+IF(データ入力シート２回目!CE24=\"\",\"\",データ入力シート２回目!CE24)+IF(データ入力シート２回目!CE25=\"\",\"\",データ入力シート２回目!CE25)","v":{"$error":"#VALUE!"}},{"$f":"IF(データ入力シート２回目!CF23=\"\",\"\",データ入力シート２回目!CF23)+IF(データ入力シート２回目!CF24=\"\",\"\",データ入力シート２回目!CF24)+IF(データ入力シート２回目!CF25=\"\",\"\",データ入力シート２回目!CF25)","v":{"$error":"#VALUE!"}},{"$f":"IF(データ入力シート２回目!CG23=\"\",\"\",データ入力シート２回目!CG23)+IF(データ入力シート２回目!CG24=\"\",\"\",データ入力シート２回目!CG24)+IF(データ入力シート２回目!CG25=\"\",\"\",データ入力シート２回目!CG25)","v":{"$error":"#VALUE!"}},{"$f":"IF(データ入力シート２回目!CH23=\"\",\"\",データ入力シート２回目!CH23)+IF(データ入力シート２回目!CH24=\"\",\"\",データ入力シート２回目!CH24)+IF(データ入力シート２回目!CH25=\"\",\"\",データ入力シート２回目!CH25)","v":{"$error":"#VALUE!"}},{"$f":"IF(データ入力シート２回目!CI23=\"\",\"\",データ入力シート２回目!CI23)+IF(データ入力シート２回目!CI24=\"\",\"\",データ入力シート２回目!CI24)+IF(データ入力シート２回目!CI25=\"\",\"\",データ入力シート２回目!CI25)","v":{"$error":"#VALUE!"}},{"$f":"IF(データ入力シート２回目!CJ23=\"\",\"\",データ入力シート２回目!CJ23)+IF(データ入力シート２回目!CJ24=\"\",\"\",データ入力シート２回目!CJ24)+IF(データ入力シート２回目!CJ25=\"\",\"\",データ入力シート２回目!CJ25)","v":{"$error":"#VALUE!"}},{"$f":"IF(データ入力シート２回目!CK23=\"\",\"\",データ入力シート２回目!CK23)+IF(データ入力シート２回目!CK24=\"\",\"\",データ入力シート２回目!CK24)+IF(データ入力シート２回目!CK25=\"\",\"\",データ入力シート２回目!CK25)","v":{"$error":"#VALUE!"}},{"$f":"IF(データ入力シート２回目!CL23=\"\",\"\",データ入力シート２回目!CL23)+IF(データ入力シート２回目!CL24=\"\",\"\",データ入力シート２回目!CL24)+IF(データ入力シート２回目!CL25=\"\",\"\",データ入力シート２回目!CL25)","v":{"$error":"#VALUE!"}},{"$f":"IF(データ入力シート２回目!CM23=\"\",\"\",データ入力シート２回目!CM23)+IF(データ入力シート２回目!CM24=\"\",\"\",データ入力シート２回目!CM24)+IF(データ入力シート２回目!CM25=\"\",\"\",データ入力シート２回目!CM25)","v":{"$error":"#VALUE!"}},{"$f":"IF(データ入力シート２回目!CN23=\"\",\"\",データ入力シート２回目!CN23)+IF(データ入力シート２回目!CN24=\"\",\"\",データ入力シート２回目!CN24)+IF(データ入力シート２回目!CN25=\"\",\"\",データ入力シート２回目!CN25)","v":{"$error":"#VALUE!"}},{"$f":"IF(データ入力シート２回目!CO23=\"\",\"\",データ入力シート２回目!CO23)+IF(データ入力シート２回目!CO24=\"\",\"\",データ入力シート２回目!CO24)+IF(データ入力シート２回目!CO25=\"\",\"\",データ入力シート２回目!CO25)","v":{"$error":"#VALUE!"}},{"$f":"IF(データ入力シート２回目!CP23=\"\",\"\",データ入力シート２回目!CP23)+IF(データ入力シート２回目!CP24=\"\",\"\",データ入力シート２回目!CP24)+IF(データ入力シート２回目!CP25=\"\",\"\",データ入力シート２回目!CP25)","v":{"$error":"#VALUE!"}},{"$f":"IF(データ入力シート２回目!CQ23=\"\",\"\",データ入力シート２回目!CQ23)+IF(データ入力シート２回目!CQ24=\"\",\"\",データ入力シート２回目!CQ24)+IF(データ入力シート２回目!CQ25=\"\",\"\",データ入力シート２回目!CQ25)","v":{"$error":"#VALUE!"}},{"$f":"IF(データ入力シート２回目!CR23=\"\",\"\",データ入力シート２回目!CR23)+IF(データ入力シート２回目!CR24=\"\",\"\",データ入力シート２回目!CR24)+IF(データ入力シート２回目!CR25=\"\",\"\",データ入力シート２回目!CR25)","v":{"$error":"#VALUE!"}},{"$f":"IF(データ入力シート２回目!CS23=\"\",\"\",データ入力シート２回目!CS23)+IF(データ入力シート２回目!CS24=\"\",\"\",データ入力シート２回目!CS24)+IF(データ入力シート２回目!CS25=\"\",\"\",データ入力シート２回目!CS25)","v":{"$error":"#VALUE!"}},{"$f":"IF(データ入力シート２回目!CT23=\"\",\"\",データ入力シート２回目!CT23)+IF(データ入力シート２回目!CT24=\"\",\"\",データ入力シート２回目!CT24)+IF(データ入力シート２回目!CT25=\"\",\"\",データ入力シート２回目!CT25)","v":{"$error":"#VALUE!"}},{"$f":"IF(データ入力シート２回目!CU23=\"\",\"\",データ入力シート２回目!CU23)+IF(データ入力シート２回目!CU24=\"\",\"\",データ入力シート２回目!CU24)+IF(データ入力シート２回目!CU25=\"\",\"\",データ入力シート２回目!CU25)","v":{"$error":"#VALUE!"}},{"$f":"IF(データ入力シート２回目!CV23=\"\",\"\",データ入力シート２回目!CV23)+IF(データ入力シート２回目!CV24=\"\",\"\",データ入力シート２回目!CV24)+IF(データ入力シート２回目!CV25=\"\",\"\",データ入力シート２回目!CV25)","v":{"$error":"#VALUE!"}},{"$f":"IF(データ入力シート２回目!CW23=\"\",\"\",データ入力シート２回目!CW23)+IF(データ入力シート２回目!CW24=\"\",\"\",データ入力シート２回目!CW24)+IF(データ入力シート２回目!CW25=\"\",\"\",データ入力シート２回目!CW25)","v":{"$error":"#VALUE!"}},{"$f":"IF(データ入力シート２回目!CX23=\"\",\"\",データ入力シート２回目!CX23)+IF(データ入力シート２回目!CX24=\"\",\"\",データ入力シート２回目!CX24)+IF(データ入力シート２回目!CX25=\"\",\"\",データ入力シート２回目!CX25)","v":{"$error":"#VALUE!"}},{"$f":"IF(データ入力シート２回目!CY23=\"\",\"\",データ入力シート２回目!CY23)+IF(データ入力シート２回目!CY24=\"\",\"\",データ入力シート２回目!CY24)+IF(データ入力シート２回目!CY25=\"\",\"\",データ入力シート２回目!CY25)","v":{"$error":"#VALUE!"}},{"$f":"IF(データ入力シート２回目!CZ23=\"\",\"\",データ入力シート２回目!CZ23)+IF(データ入力シート２回目!CZ24=\"\",\"\",データ入力シート２回目!CZ24)+IF(データ入力シート２回目!CZ25=\"\",\"\",データ入力シート２回目!CZ25)","v":{"$error":"#VALUE!"}}]
[null,"C",{"$f":"IF(データ入力シート２回目!E26=\"\",\"\",データ入力シート２回目!E26)+IF(データ入力シート２回目!E27=\"\",\"\",データ入力シート２回目!E27)+IF(データ入力シート２回目!E28=\"\",\"\",データ入力シート２回目!E28)","v":{"$error":"#VALUE!"}},{"$f":"IF(データ入力シート２回目!F26=\"\",\"\",データ入力シート２回目!F26)+IF(データ入力シート２回目!F27=\"\",\"\",データ入力シート２回目!F27)+IF(データ入力シート２回目!F28=\"\",\"\",データ入力シート２回目!F28)","v":{"$error":"#VALUE!"}},{"$f":"IF(データ入力シート２回目!G26=\"\",\"\",データ入力シート２回目!G26)+IF(データ入力シート２回目!G27=\"\",\"\",データ入力シート２回目!G27)+IF(データ入力シート２回目!G28=\"\",\"\",データ入力シート２回目!G28)","v":{"$error":"#VALUE!"}},{"$f":"IF(データ入力シート２回目!H26=\"\",\"\",データ入力シート２回目!H26)+IF(データ入力シート２回目!H27=\"\",\"\",データ入力シート２回目!H27)+IF(データ入力シート２回目!H28=\"\",\"\",データ入力シート２回目!H28)","v":{"$error":"#VALUE!"}},{"$f":"IF(データ入力シート２回目!I26=\"\",\"\",データ入力シート２回目!I26)+IF(データ入力シート２回目!I27=\"\",\"\",データ入力シート２回目!I27)+IF(データ入力シート２回目!I28=\"\",\"\",データ入力シート２回目!I28)","v":{"$error":"#VALUE!"}},{"$f":"IF(データ入力シート２回目!J26=\"\",\"\",データ入力シート２回目!J26)+IF(データ入力シート２回目!J27=\"\",\"\",データ入力シート２回目!J27)+IF(データ入力シート２回目!J28=\"\",\"\",データ入力シート２回目!J28)","v":{"$error":"#VALUE!"}},{"$f":"IF(データ入力シート２回目!K26=\"\",\"\",データ入力シート２回目!K26)+IF(データ入力シート２回目!K27=\"\",\"\",データ入力シート２回目!K27)+IF(データ入力シート２回目!K28=\"\",\"\",データ入力シート２回目!K28)","v":{"$error":"#VALUE!"}},{"$f":"IF(データ入力シート２回目!L26=\"\",\"\",データ入力シート２回目!L26)+IF(データ入力シート２回目!L27=\"\",\"\",データ入力シート２回目!L27)+IF(データ入力シート２回目!L28=\"\",\"\",データ入力シート２回目!L28)","v":{"$error":"#VALUE!"}},{"$f":"IF(データ入力シート２回目!M26=\"\",\"\",データ入力シート２回目!M26)+IF(データ入力シート２回目!M27=\"\",\"\",データ入力シート２回目!M27)+IF(データ入力シート２回目!M28=\"\",\"\",データ入力シート２回目!M28)","v":{"$error":"#VALUE!"}},{"$f":"IF(データ入力シート２回目!N26=\"\",\"\",データ入力シート２回目!N26)+IF(データ入力シート２回目!N27=\"\",\"\",データ入力シート２回目!N27)+IF(データ入力シート２回目!N28=\"\",\"\",データ入力シート２回目!N28)","v":{"$error":"#VALUE!"}},{"$f":"IF(データ入力シート２回目!O26=\"\",\"\",データ入力シート２回目!O26)+IF(データ入力シート２回目!O27=\"\",\"\",データ入力シート２回目!O27)+IF(データ入力シート２回目!O28=\"\",\"\",データ入力シート２回目!O28)","v":{"$error":"#VALUE!"}},{"$f":"IF(データ入力シート２回目!P26=\"\",\"\",データ入力シート２回目!P26)+IF(データ入力シート２回目!P27=\"\",\"\",データ入力シート２回目!P27)+IF(データ入力シート２回目!P28=\"\",\"\",データ入力シート２回目!P28)","v":{"$error":"#VALUE!"}},{"$f":"IF(データ入力シート２回目!Q26=\"\",\"\",データ入力シート２回目!Q26)+IF(データ入力シート２回目!Q27=\"\",\"\",データ入力シート２回目!Q27)+IF(データ入力シート２回目!Q28=\"\",\"\",データ入力シート２回目!Q28)","v":{"$error":"#VALUE!"}},{"$f":"IF(データ入力シート２回目!R26=\"\",\"\",データ入力シート２回目!R26)+IF(データ入力シート２回目!R27=\"\",\"\",データ入力シート２回目!R27)+IF(データ入力シート２回目!R28=\"\",\"\",データ入力シート２回目!R28)","v":{"$error":"#VALUE!"}},{"$f":"IF(データ入力シート２回目!S26=\"\",\"\",データ入力シート２回目!S26)+IF(データ入力シート２回目!S27=\"\",\"\",データ入力シート２回目!S27)+IF(データ入力シート２回目!S28=\"\",\"\",データ入力シート２回目!S28)","v":{"$error":"#VALUE!"}},{"$f":"IF(データ入力シート２回目!T26=\"\",\"\",データ入力シート２回目!T26)+IF(データ入力シート２回目!T27=\"\",\"\",データ入力シート２回目!T27)+IF(データ入力シート２回目!T28=\"\",\"\",データ入力シート２回目!T28)","v":{"$error":"#VALUE!"}},{"$f":"IF(データ入力シート２回目!U26=\"\",\"\",データ入力シート２回目!U26)+IF(データ入力シート２回目!U27=\"\",\"\",データ入力シート２回目!U27)+IF(データ入力シート２回目!U28=\"\",\"\",データ入力シート２回目!U28)","v":{"$error":"#VALUE!"}},{"$f":"IF(データ入力シート２回目!V26=\"\",\"\",データ入力シート２回目!V26)+IF(データ入力シート２回目!V27=\"\",\"\",データ入力シート２回目!V27)+IF(データ入力シート２回目!V28=\"\",\"\",データ入力シート２回目!V28)","v":{"$error":"#VALUE!"}},{"$f":"IF(データ入力シート２回目!W26=\"\",\"\",データ入力シート２回目!W26)+IF(データ入力シート２回目!W27=\"\",\"\",データ入力シート２回目!W27)+IF(データ入力シート２回目!W28=\"\",\"\",データ入力シート２回目!W28)","v":{"$error":"#VALUE!"}},{"$f":"IF(データ入力シート２回目!X26=\"\",\"\",データ入力シート２回目!X26)+IF(データ入力シート２回目!X27=\"\",\"\",データ入力シート２回目!X27)+IF(データ入力シート２回目!X28=\"\",\"\",データ入力シート２回目!X28)","v":{"$error":"#VALUE!"}},{"$f":"IF(データ入力シート２回目!Y26=\"\",\"\",データ入力シート２回目!Y26)+IF(データ入力シート２回目!Y27=\"\",\"\",データ入力シート２回目!Y27)+IF(データ入力シート２回目!Y28=\"\",\"\",データ入力シート２回目!Y28)","v":{"$error":"#VALUE!"}},{"$f":"IF(データ入力シート２回目!Z26=\"\",\"\",データ入力シート２回目!Z26)+IF(データ入力シート２回目!Z27=\"\",\"\",データ入力シート２回目!Z27)+IF(データ入力シート２回目!Z28=\"\",\"\",データ入力シート２回目!Z28)","v":{"$error":"#VALUE!"}},{"$f":"IF(データ入力シート２回目!AA26=\"\",\"\",データ入力シート２回目!AA26)+IF(データ入力シート２回目!AA27=\"\",\"\",データ入力シート２回目!AA27)+IF(データ入力シート２回目!AA28=\"\",\"\",データ入力シート２回目!AA28)","v":{"$error":"#VALUE!"}},{"$f":"IF(データ入力シート２回目!AB26=\"\",\"\",データ入力シート２回目!AB26)+IF(データ入力シート２回目!AB27=\"\",\"\",データ入力シート２回目!AB27)+IF(データ入力シート２回目!AB28=\"\",\"\",データ入力シート２回目!AB28)","v":{"$error":"#VALUE!"}},{"$f":"IF(データ入力シート２回目!AC26=\"\",\"\",データ入力シート２回目!AC26)+IF(データ入力シート２回目!AC27=\"\",\"\",データ入力シート２回目!AC27)+IF(データ入力シート２回目!AC28=\"\",\"\",データ入力シート２回目!AC28)","v":{"$error":"#VALUE!"}},{"$f":"IF(データ入力シート２回目!AD26=\"\",\"\",データ入力シート２回目!AD26)+IF(データ入力シート２回目!AD27=\"\",\"\",データ入力シート２回目!AD27)+IF(データ入力シート２回目!AD28=\"\",\"\",データ入力シート２回目!AD28)","v":{"$error":"#VALUE!"}},{"$f":"IF(データ入力シート２回目!AE26=\"\",\"\",データ入力シート２回目!AE26)+IF(データ入力シート２回目!AE27=\"\",\"\",データ入力シート２回目!AE27)+IF(データ入力シート２回目!AE28=\"\",\"\",データ入力シート２回目!AE28)","v":{"$error":"#VALUE!"}},{"$f":"IF(データ入力シート２回目!AF26=\"\",\"\",データ入力シート２回目!AF26)+IF(データ入力シート２回目!AF27=\"\",\"\",データ入力シート２回目!AF27)+IF(データ入力シート２回目!AF28=\"\",\"\",データ入力シート２回目!AF28)","v":{"$error":"#VALUE!"}},{"$f":"IF(データ入力シート２回目!AG26=\"\",\"\",データ入力シート２回目!AG26)+IF(データ入力シート２回目!AG27=\"\",\"\",データ入力シート２回目!AG27)+IF(データ入力シート２回目!AG28=\"\",\"\",データ入力シート２回目!AG28)","v":{"$error":"#VALUE!"}},{"$f":"IF(データ入力シート２回目!AH26=\"\",\"\",データ入力シート２回目!AH26)+IF(データ入力シート２回目!AH27=\"\",\"\",データ入力シート２回目!AH27)+IF(データ入力シート２回目!AH28=\"\",\"\",データ入力シート２回目!AH28)","v":{"$error":"#VALUE!"}},{"$f":"IF(データ入力シート２回目!AI26=\"\",\"\",データ入力シート２回目!AI26)+IF(データ入力シート２回目!AI27=\"\",\"\",データ入力シート２回目!AI27)+IF(データ入力シート２回目!AI28=\"\",\"\",データ入力シート２回目!AI28)","v":{"$error":"#VALUE!"}},{"$f":"IF(データ入力シート２回目!AJ26=\"\",\"\",データ入力シート２回目!AJ26)+IF(データ入力シート２回目!AJ27=\"\",\"\",データ入力シート２回目!AJ27)+IF(データ入力シート２回目!AJ28=\"\",\"\",データ入力シート２回目!AJ28)","v":{"$error":"#VALUE!"}},{"$f":"IF(データ入力シート２回目!AK26=\"\",\"\",データ入力シート２回目!AK26)+IF(データ入力シート２回目!AK27=\"\",\"\",データ入力シート２回目!AK27)+IF(データ入力シート２回目!AK28=\"\",\"\",データ入力シート２回目!AK28)","v":{"$error":"#VALUE!"}},{"$f":"IF(データ入力シート２回目!AL26=\"\",\"\",データ入力シート２回目!AL26)+IF(データ入力シート２回目!AL27=\"\",\"\",データ入力シート２回目!AL27)+IF(データ入力シート２回目!AL28=\"\",\"\",データ入力シート２回目!AL28)","v":{"$error":"#VALUE!"}},{"$f":"IF(データ入力シート２回目!AM26=\"\",\"\",データ入力シート２回目!AM26)+IF(データ入力シート２回目!AM27=\"\",\"\",データ入力シート２回目!AM27)+IF(データ入力シート２回目!AM28=\"\",\"\",データ入力シート２回目!AM28)","v":{"$error":"#VALUE!"}},{"$f":"IF(データ入力シート２回目!AN26=\"\",\"\",データ入力シート２回目!AN26)+IF(データ入力シート２回目!AN27=\"\",\"\",データ入力シート２回目!AN27)+IF(データ入力シート２回目!AN28=\"\",\"\",データ入力シート２回目!AN28)","v":{"$error":"#VALUE!"}},{"$f":"IF(データ入力シート２回目!AO26=\"\",\"\",データ入力シート２回目!AO26)+IF(データ入力シート２回目!AO27=\"\",\"\",データ入力シート２回目!AO27)+IF(データ入力シート２回目!AO28=\"\",\"\",データ入力シート２回目!AO28)","v":{"$error":"#VALUE!"}},{"$f":"IF(データ入力シート２回目!AP26=\"\",\"\",データ入力シート２回目!AP26)+IF(データ入力シート２回目!AP27=\"\",\"\",データ入力シート２回目!AP27)+IF(データ入力シート２回目!AP28=\"\",\"\",データ入力シート２回目!AP28)","v":{"$error":"#VALUE!"}},{"$f":"IF(データ入力シート２回目!AQ26=\"\",\"\",データ入力シート２回目!AQ26)+IF(データ入力シート２回目!AQ27=\"\",\"\",データ入力シート２回目!AQ27)+IF(データ入力シート２回目!AQ28=\"\",\"\",データ入力シート２回目!AQ28)","v":{"$error":"#VALUE!"}},{"$f":"IF(データ入力シート２回目!AR26=\"\",\"\",データ入力シート２回目!AR26)+IF(データ入力シート２回目!AR27=\"\",\"\",データ入力シート２回目!AR27)+IF(データ入力シート２回目!AR28=\"\",\"\",データ入力シート２回目!AR28)","v":{"$error":"#VALUE!"}},{"$f":"IF(データ入力シート２回目!AS26=\"\",\"\",データ入力シート２回目!AS26)+IF(データ入力シート２回目!AS27=\"\",\"\",データ入力シート２回目!AS27)+IF(データ入力シート２回目!AS28=\"\",\"\",データ入力シート２回目!AS28)","v":{"$error":"#VALUE!"}},{"$f":"IF(データ入力シート２回目!AT26=\"\",\"\",データ入力シート２回目!AT26)+IF(データ入力シート２回目!AT27=\"\",\"\",データ入力シート２回目!AT27)+IF(データ入力シート２回目!AT28=\"\",\"\",データ入力シート２回目!AT28)","v":{"$error":"#VALUE!"}},{"$f":"IF(データ入力シート２回目!AU26=\"\",\"\",データ入力シート２回目!AU26)+IF(データ入力シート２回目!AU27=\"\",\"\",データ入力シート２回目!AU27)+IF(データ入力シート２回目!AU28=\"\",\"\",データ入力シート２回目!AU28)","v":{"$error":"#VALUE!"}},{"$f":"IF(データ入力シート２回目!AV26=\"\",\"\",データ入力シート２回目!AV26)+IF(データ入力シート２回目!AV27=\"\",\"\",データ入力シート２回目!AV27)+IF(データ入力シート２回目!AV28=\"\",\"\",データ入力シート２回目!AV28)","v":{"$error":"#VALUE!"}},{"$f":"IF(データ入力シート２回目!AW26=\"\",\"\",データ入力シート２回目!AW26)+IF(データ入力シート２回目!AW27=\"\",\"\",データ入力シート２回目!AW27)+IF(データ入力シート２回目!AW28=\"\",\"\",データ入力シート２回目!AW28)","v":{"$error":"#VALUE!"}},{"$f":"IF(データ入力シート２回目!AX26=\"\",\"\",データ入力シート２回目!AX26)+IF(データ入力シート２回目!AX27=\"\",\"\",データ入力シート２回目!AX27)+IF(データ入力シート２回目!AX28=\"\",\"\",データ入力シート２回目!AX28)","v":{"$error":"#VALUE!"}},{"$f":"IF(データ入力シート２回目!AY26=\"\",\"\",データ入力シート２回目!AY26)+IF(データ入力シート２回目!AY27=\"\",\"\",データ入力シート２回目!AY27)+IF(データ入力シート２回目!AY28=\"\",\"\",データ入力シート２回目!AY28)","v":{"$error":"#VALUE!"}},{"$f":"IF(データ入力シート２回目!AZ26=\"\",\"\",データ入力シート２回目!AZ26)+IF(データ入力シート２回目!AZ27=\"\",\"\",データ入力シート２回目!AZ27)+IF(データ入力シート２回目!AZ28=\"\",\"\",データ入力シート２回目!AZ28)","v":{"$error":"#VALUE!"}},{"$f":"IF(データ入力シート２回目!BA26=\"\",\"\",データ入力シート２回目!BA26)+IF(データ入力シート２回目!BA27=\"\",\"\",データ入力シート２回目!BA27)+IF(データ入力シート２回目!BA28=\"\",\"\",データ入力シート２回目!BA28)","v":{"$error":"#VALUE!"}},{"$f":"IF(データ入力シート２回目!BB26=\"\",\"\",データ入力シート２回目!BB26)+IF(データ入力シート２回目!BB27=\"\",\"\",データ入力シート２回目!BB27)+IF(データ入力シート２回目!BB28=\"\",\"\",データ入力シート２回目!BB28)","v":{"$error":"#VALUE!"}},{"$f":"IF(データ入力シート２回目!BC26=\"\",\"\",データ入力シート２回目!BC26)+IF(データ入力シート２回目!BC27=\"\",\"\",データ入力シート２回目!BC27)+IF(データ入力シート２回目!BC28=\"\",\"\",データ入力シート２回目!BC28)","v":{"$error":"#VALUE!"}},{"$f":"IF(データ入力シート２回目!BD26=\"\",\"\",データ入力シート２回目!BD26)+IF(データ入力シート２回目!BD27=\"\",\"\",データ入力シート２回目!BD27)+IF(データ入力シート２回目!BD28=\"\",\"\",データ入力シート２回目!BD28)","v":{"$error":"#VALUE!"}},{"$f":"IF(データ入力シート２回目!BE26=\"\",\"\",データ入力シート２回目!BE26)+IF(データ入力シート２回目!BE27=\"\",\"\",データ入力シート２回目!BE27)+IF(データ入力シート２回目!BE28=\"\",\"\",データ入力シート２回目!BE28)","v":{"$error":"#VALUE!"}},{"$f":"IF(データ入力シート２回目!BF26=\"\",\"\",データ入力シート２回目!BF26)+IF(データ入力シート２回目!BF27=\"\",\"\",データ入力シート２回目!BF27)+IF(データ入力シート２回目!BF28=\"\",\"\",データ入力シート２回目!BF28)","v":{"$error":"#VALUE!"}},{"$f":"IF(データ入力シート２回目!BG26=\"\",\"\",データ入力シート２回目!BG26)+IF(データ入力シート２回目!BG27=\"\",\"\",データ入力シート２回目!BG27)+IF(データ入力シート２回目!BG28=\"\",\"\",データ入力シート２回目!BG28)","v":{"$error":"#VALUE!"}},{"$f":"IF(データ入力シート２回目!BH26=\"\",\"\",データ入力シート２回目!BH26)+IF(データ入力シート２回目!BH27=\"\",\"\",データ入力シート２回目!BH27)+IF(データ入力シート２回目!BH28=\"\",\"\",データ入力シート２回目!BH28)","v":{"$error":"#VALUE!"}},{"$f":"IF(データ入力シート２回目!BI26=\"\",\"\",データ入力シート２回目!BI26)+IF(データ入力シート２回目!BI27=\"\",\"\",データ入力シート２回目!BI27)+IF(データ入力シート２回目!BI28=\"\",\"\",データ入力シート２回目!BI28)","v":{"$error":"#VALUE!"}},{"$f":"IF(データ入力シート２回目!BJ26=\"\",\"\",データ入力シート２回目!BJ26)+IF(データ入力シート２回目!BJ27=\"\",\"\",データ入力シート２回目!BJ27)+IF(データ入力シート２回目!BJ28=\"\",\"\",データ入力シート２回目!BJ28)","v":{"$error":"#VALUE!"}},{"$f":"IF(データ入力シート２回目!BK26=\"\",\"\",データ入力シート２回目!BK26)+IF(データ入力シート２回目!BK27=\"\",\"\",データ入力シート２回目!BK27)+IF(データ入力シート２回目!BK28=\"\",\"\",データ入力シート２回目!BK28)","v":{"$error":"#VALUE!"}},{"$f":"IF(データ入力シート２回目!BL26=\"\",\"\",データ入力シート２回目!BL26)+IF(データ入力シート２回目!BL27=\"\",\"\",データ入力シート２回目!BL27)+IF(データ入力シート２回目!BL28=\"\",\"\",データ入力シート２回目!BL28)","v":{"$error":"#VALUE!"}},{"$f":"IF(データ入力シート２回目!BM26=\"\",\"\",データ入力シート２回目!BM26)+IF(データ入力シート２回目!BM27=\"\",\"\",データ入力シート２回目!BM27)+IF(データ入力シート２回目!BM28=\"\",\"\",データ入力シート２回目!BM28)","v":{"$error":"#VALUE!"}},{"$f":"IF(データ入力シート２回目!BN26=\"\",\"\",データ入力シート２回目!BN26)+IF(データ入力シート２回目!BN27=\"\",\"\",データ入力シート２回目!BN27)+IF(データ入力シート２回目!BN28=\"\",\"\",データ入力シート２回目!BN28)","v":{"$error":"#VALUE!"}},{"$f":"IF(データ入力シート２回目!BO26=\"\",\"\",データ入力シート２回目!BO26)+IF(データ入力シート２回目!BO27=\"\",\"\",データ入力シート２回目!BO27)+IF(データ入力シート２回目!BO28=\"\",\"\",データ入力シート２回目!BO28)","v":{"$error":"#VALUE!"}},{"$f":"IF(データ入力シート２回目!BP26=\"\",\"\",データ入力シート２回目!BP26)+IF(データ入力シート２回目!BP27=\"\",\"\",データ入力シート２回目!BP27)+IF(データ入力シート２回目!BP28=\"\",\"\",データ入力シート２回目!BP28)","v":{"$error":"#VALUE!"}},{"$f":"IF(データ入力シート２回目!BQ26=\"\",\"\",データ入力シート２回目!BQ26)+IF(データ入力シート２回目!BQ27=\"\",\"\",データ入力シート２回目!BQ27)+IF(データ入力シート２回目!BQ28=\"\",\"\",データ入力シート２回目!BQ28)","v":{"$error":"#VALUE!"}},{"$f":"IF(データ入力シート２回目!BR26=\"\",\"\",データ入力シート２回目!BR26)+IF(データ入力シート２回目!BR27=\"\",\"\",データ入力シート２回目!BR27)+IF(データ入力シート２回目!BR28=\"\",\"\",データ入力シート２回目!BR28)","v":{"$error":"#VALUE!"}},{"$f":"IF(データ入力シート２回目!BS26=\"\",\"\",データ入力シート２回目!BS26)+IF(データ入力シート２回目!BS27=\"\",\"\",データ入力シート２回目!BS27)+IF(データ入力シート２回目!BS28=\"\",\"\",データ入力シート２回目!BS28)","v":{"$error":"#VALUE!"}},{"$f":"IF(データ入力シート２回目!BT26=\"\",\"\",データ入力シート２回目!BT26)+IF(データ入力シート２回目!BT27=\"\",\"\",データ入力シート２回目!BT27)+IF(データ入力シート２回目!BT28=\"\",\"\",データ入力シート２回目!BT28)","v":{"$error":"#VALUE!"}},{"$f":"IF(データ入力シート２回目!BU26=\"\",\"\",データ入力シート２回目!BU26)+IF(データ入力シート２回目!BU27=\"\",\"\",データ入力シート２回目!BU27)+IF(データ入力シート２回目!BU28=\"\",\"\",データ入力シート２回目!BU28)","v":{"$error":"#VALUE!"}},{"$f":"IF(データ入力シート２回目!BV26=\"\",\"\",データ入力シート２回目!BV26)+IF(データ入力シート２回目!BV27=\"\",\"\",データ入力シート２回目!BV27)+IF(データ入力シート２回目!BV28=\"\",\"\",データ入力シート２回目!BV28)","v":{"$error":"#VALUE!"}},{"$f":"IF(データ入力シート２回目!BW26=\"\",\"\",データ入力シート２回目!BW26)+IF(データ入力シート２回目!BW27=\"\",\"\",データ入力シート２回目!BW27)+IF(データ入力シート２回目!BW28=\"\",\"\",データ入力シート２回目!BW28)","v":{"$error":"#VALUE!"}},{"$f":"IF(データ入力シート２回目!BX26=\"\",\"\",データ入力シート２回目!BX26)+IF(データ入力シート２回目!BX27=\"\",\"\",データ入力シート２回目!BX27)+IF(データ入力シート２回目!BX28=\"\",\"\",データ入力シート２回目!BX28)","v":{"$error":"#VALUE!"}},{"$f":"IF(データ入力シート２回目!BY26=\"\",\"\",データ入力シート２回目!BY26)+IF(データ入力シート２回目!BY27=\"\",\"\",データ入力シート２回目!BY27)+IF(データ入力シート２回目!BY28=\"\",\"\",データ入力シート２回目!BY28)","v":{"$error":"#VALUE!"}},{"$f":"IF(データ入力シート２回目!BZ26=\"\",\"\",データ入力シート２回目!BZ26)+IF(データ入力シート２回目!BZ27=\"\",\"\",データ入力シート２回目!BZ27)+IF(データ入力シート２回目!BZ28=\"\",\"\",データ入力シート２回目!BZ28)","v":{"$error":"#VALUE!"}},{"$f":"IF(データ入力シート２回目!CA26=\"\",\"\",データ入力シート２回目!CA26)+IF(データ入力シート２回目!CA27=\"\",\"\",データ入力シート２回目!CA27)+IF(データ入力シート２回目!CA28=\"\",\"\",データ入力シート２回目!CA28)","v":{"$error":"#VALUE!"}},{"$f":"IF(データ入力シート２回目!CB26=\"\",\"\",データ入力シート２回目!CB26)+IF(データ入力シート２回目!CB27=\"\",\"\",データ入力シート２回目!CB27)+IF(データ入力シート２回目!CB28=\"\",\"\",データ入力シート２回目!CB28)","v":{"$error":"#VALUE!"}},{"$f":"IF(データ入力シート２回目!CC26=\"\",\"\",データ入力シート２回目!CC26)+IF(データ入力シート２回目!CC27=\"\",\"\",データ入力シート２回目!CC27)+IF(データ入力シート２回目!CC28=\"\",\"\",データ入力シート２回目!CC28)","v":{"$error":"#VALUE!"}},{"$f":"IF(データ入力シート２回目!CD26=\"\",\"\",データ入力シート２回目!CD26)+IF(データ入力シート２回目!CD27=\"\",\"\",データ入力シート２回目!CD27)+IF(データ入力シート２回目!CD28=\"\",\"\",データ入力シート２回目!CD28)","v":{"$error":"#VALUE!"}},{"$f":"IF(データ入力シート２回目!CE26=\"\",\"\",データ入力シート２回目!CE26)+IF(データ入力シート２回目!CE27=\"\",\"\",データ入力シート２回目!CE27)+IF(データ入力シート２回目!CE28=\"\",\"\",データ入力シート２回目!CE28)","v":{"$error":"#VALUE!"}},{"$f":"IF(データ入力シート２回目!CF26=\"\",\"\",データ入力シート２回目!CF26)+IF(データ入力シート２回目!CF27=\"\",\"\",データ入力シート２回目!CF27)+IF(データ入力シート２回目!CF28=\"\",\"\",データ入力シート２回目!CF28)","v":{"$error":"#VALUE!"}},{"$f":"IF(データ入力シート２回目!CG26=\"\",\"\",データ入力シート２回目!CG26)+IF(データ入力シート２回目!CG27=\"\",\"\",データ入力シート２回目!CG27)+IF(データ入力シート２回目!CG28=\"\",\"\",データ入力シート２回目!CG28)","v":{"$error":"#VALUE!"}},{"$f":"IF(データ入力シート２回目!CH26=\"\",\"\",データ入力シート２回目!CH26)+IF(データ入力シート２回目!CH27=\"\",\"\",データ入力シート２回目!CH27)+IF(データ入力シート２回目!CH28=\"\",\"\",データ入力シート２回目!CH28)","v":{"$error":"#VALUE!"}},{"$f":"IF(データ入力シート２回目!CI26=\"\",\"\",データ入力シート２回目!CI26)+IF(データ入力シート２回目!CI27=\"\",\"\",データ入力シート２回目!CI27)+IF(データ入力シート２回目!CI28=\"\",\"\",データ入力シート２回目!CI28)","v":{"$error":"#VALUE!"}},{"$f":"IF(データ入力シート２回目!CJ26=\"\",\"\",データ入力シート２回目!CJ26)+IF(データ入力シート２回目!CJ27=\"\",\"\",データ入力シート２回目!CJ27)+IF(データ入力シート２回目!CJ28=\"\",\"\",データ入力シート２回目!CJ28)","v":{"$error":"#VALUE!"}},{"$f":"IF(データ入力シート２回目!CK26=\"\",\"\",データ入力シート２回目!CK26)+IF(データ入力シート２回目!CK27=\"\",\"\",データ入力シート２回目!CK27)+IF(データ入力シート２回目!CK28=\"\",\"\",データ入力シート２回目!CK28)","v":{"$error":"#VALUE!"}},{"$f":"IF(データ入力シート２回目!CL26=\"\",\"\",データ入力シート２回目!CL26)+IF(データ入力シート２回目!CL27=\"\",\"\",データ入力シート２回目!CL27)+IF(データ入力シート２回目!CL28=\"\",\"\",データ入力シート２回目!CL28)","v":{"$error":"#VALUE!"}},{"$f":"IF(データ入力シート２回目!CM26=\"\",\"\",データ入力シート２回目!CM26)+IF(データ入力シート２回目!CM27=\"\",\"\",データ入力シート２回目!CM27)+IF(データ入力シート２回目!CM28=\"\",\"\",データ入力シート２回目!CM28)","v":{"$error":"#VALUE!"}},{"$f":"IF(データ入力シート２回目!CN26=\"\",\"\",データ入力シート２回目!CN26)+IF(データ入力シート２回目!CN27=\"\",\"\",データ入力シート２回目!CN27)+IF(データ入力シート２回目!CN28=\"\",\"\",データ入力シート２回目!CN28)","v":{"$error":"#VALUE!"}},{"$f":"IF(データ入力シート２回目!CO26=\"\",\"\",データ入力シート２回目!CO26)+IF(データ入力シート２回目!CO27=\"\",\"\",データ入力シート２回目!CO27)+IF(データ入力シート２回目!CO28=\"\",\"\",データ入力シート２回目!CO28)","v":{"$error":"#VALUE!"}},{"$f":"IF(データ入力シート２回目!CP26=\"\",\"\",データ入力シート２回目!CP26)+IF(データ入力シート２回目!CP27=\"\",\"\",データ入力シート２回目!CP27)+IF(データ入力シート２回目!CP28=\"\",\"\",データ入力シート２回目!CP28)","v":{"$error":"#VALUE!"}},{"$f":"IF(データ入力シート２回目!CQ26=\"\",\"\",データ入力シート２回目!CQ26)+IF(データ入力シート２回目!CQ27=\"\",\"\",データ入力シート２回目!CQ27)+IF(データ入力シート２回目!CQ28=\"\",\"\",データ入力シート２回目!CQ28)","v":{"$error":"#VALUE!"}},{"$f":"IF(データ入力シート２回目!CR26=\"\",\"\",データ入力シート２回目!CR26)+IF(データ入力シート２回目!CR27=\"\",\"\",データ入力シート２回目!CR27)+IF(データ入力シート２回目!CR28=\"\",\"\",データ入力シート２回目!CR28)","v":{"$error":"#VALUE!"}},{"$f":"IF(データ入力シート２回目!CS26=\"\",\"\",データ入力シート２回目!CS26)+IF(データ入力シート２回目!CS27=\"\",\"\",データ入力シート２回目!CS27)+IF(データ入力シート２回目!CS28=\"\",\"\",データ入力シート２回目!CS28)","v":{"$error":"#VALUE!"}},{"$f":"IF(データ入力シート２回目!CT26=\"\",\"\",データ入力シート２回目!CT26)+IF(データ入力シート２回目!CT27=\"\",\"\",データ入力シート２回目!CT27)+IF(データ入力シート２回目!CT28=\"\",\"\",データ入力シート２回目!CT28)","v":{"$error":"#VALUE!"}},{"$f":"IF(データ入力シート２回目!CU26=\"\",\"\",データ入力シート２回目!CU26)+IF(データ入力シート２回目!CU27=\"\",\"\",データ入力シート２回目!CU27)+IF(データ入力シート２回目!CU28=\"\",\"\",データ入力シート２回目!CU28)","v":{"$error":"#VALUE!"}},{"$f":"IF(データ入力シート２回目!CV26=\"\",\"\",データ入力シート２回目!CV26)+IF(データ入力シート２回目!CV27=\"\",\"\",データ入力シート２回目!CV27)+IF(データ入力シート２回目!CV28=\"\",\"\",データ入力シート２回目!CV28)","v":{"$error":"#VALUE!"}},{"$f":"IF(データ入力シート２回目!CW26=\"\",\"\",データ入力シート２回目!CW26)+IF(データ入力シート２回目!CW27=\"\",\"\",データ入力シート２回目!CW27)+IF(データ入力シート２回目!CW28=\"\",\"\",データ入力シート２回目!CW28)","v":{"$error":"#VALUE!"}},{"$f":"IF(データ入力シート２回目!CX26=\"\",\"\",データ入力シート２回目!CX26)+IF(データ入力シート２回目!CX27=\"\",\"\",データ入力シート２回目!CX27)+IF(データ入力シート２回目!CX28=\"\",\"\",データ入力シート２回目!CX28)","v":{"$error":"#VALUE!"}},{"$f":"IF(データ入力シート２回目!CY26=\"\",\"\",データ入力シート２回目!CY26)+IF(データ入力シート２回目!CY27=\"\",\"\",データ入力シート２回目!CY27)+IF(データ入力シート２回目!CY28=\"\",\"\",データ入力シート２回目!CY28)","v":{"$error":"#VALUE!"}},{"$f":"IF(データ入力シート２回目!CZ26=\"\",\"\",データ入力シート２回目!CZ26)+IF(データ入力シート２回目!CZ27=\"\",\"\",データ入力シート２回目!CZ27)+IF(データ入力シート２回目!CZ28=\"\",\"\",データ入力シート２回目!CZ28)","v":{"$error":"#VALUE!"}}]
[null,"A",{"$f":"IF(データ入力シート２回目!E29=\"\",\"\",データ入力シート２回目!E29)+IF(データ入力シート２回目!E30=\"\",\"\",データ入力シート２回目!E30)+IF(データ入力シート２回目!E31=\"\",\"\",データ入力シート２回目!E31)","v":{"$error":"#VALUE!"}},{"$f":"IF(データ入力シート２回目!F29=\"\",\"\",データ入力シート２回目!F29)+IF(データ入力シート２回目!F30=\"\",\"\",データ入力シート２回目!F30)+IF(データ入力シート２回目!F31=\"\",\"\",データ入力シート２回目!F31)","v":{"$error":"#VALUE!"}},{"$f":"IF(データ入力シート２回目!G29=\"\",\"\",データ入力シート２回目!G29)+IF(データ入力シート２回目!G30=\"\",\"\",データ入力シート２回目!G30)+IF(データ入力シート２回目!G31=\"\",\"\",データ入力シート２回目!G31)","v":{"$error":"#VALUE!"}},{"$f":"IF(データ入力シート２回目!H29=\"\",\"\",データ入力シート２回目!H29)+IF(データ入力シート２回目!H30=\"\",\"\",データ入力シート２回目!H30)+IF(データ入力シート２回目!H31=\"\",\"\",データ入力シート２回目!H31)","v":{"$error":"#VALUE!"}},{"$f":"IF(データ入力シート２回目!I29=\"\",\"\",データ入力シート２回目!I29)+IF(データ入力シート２回目!I30=\"\",\"\",データ入力シート２回目!I30)+IF(データ入力シート２回目!I31=\"\",\"\",データ入力シート２回目!I31)","v":{"$error":"#VALUE!"}},{"$f":"IF(データ入力シート２回目!J29=\"\",\"\",データ入力シート２回目!J29)+IF(データ入力シート２回目!J30=\"\",\"\",データ入力シート２回目!J30)+IF(データ入力シート２回目!J31=\"\",\"\",データ入力シート２回目!J31)","v":{"$error":"#VALUE!"}},{"$f":"IF(データ入力シート２回目!K29=\"\",\"\",データ入力シート２回目!K29)+IF(データ入力シート２回目!K30=\"\",\"\",データ入力シート２回目!K30)+IF(データ入力シート２回目!K31=\"\",\"\",データ入力シート２回目!K31)","v":{"$error":"#VALUE!"}},{"$f":"IF(データ入力シート２回目!L29=\"\",\"\",データ入力シート２回目!L29)+IF(データ入力シート２回目!L30=\"\",\"\",データ入力シート２回目!L30)+IF(データ入力シート２回目!L31=\"\",\"\",データ入力シート２回目!L31)","v":{"$error":"#VALUE!"}},{"$f":"IF(データ入力シート２回目!M29=\"\",\"\",データ入力シート２回目!M29)+IF(データ入力シート２回目!M30=\"\",\"\",データ入力シート２回目!M30)+IF(データ入力シート２回目!M31=\"\",\"\",データ入力シート２回目!M31)","v":{"$error":"#VALUE!"}},{"$f":"IF(データ入力シート２回目!N29=\"\",\"\",データ入力シート２回目!N29)+IF(データ入力シート２回目!N30=\"\",\"\",データ入力シート２回目!N30)+IF(データ入力シート２回目!N31=\"\",\"\",データ入力シート２回目!N31)","v":{"$error":"#VALUE!"}},{"$f":"IF(データ入力シート２回目!O29=\"\",\"\",データ入力シート２回目!O29)+IF(データ入力シート２回目!O30=\"\",\"\",データ入力シート２回目!O30)+IF(データ入力シート２回目!O31=\"\",\"\",データ入力シート２回目!O31)","v":{"$error":"#VALUE!"}},{"$f":"IF(データ入力シート２回目!P29=\"\",\"\",データ入力シート２回目!P29)+IF(データ入力シート２回目!P30=\"\",\"\",データ入力シート２回目!P30)+IF(データ入力シート２回目!P31=\"\",\"\",データ入力シート２回目!P31)","v":{"$error":"#VALUE!"}},{"$f":"IF(データ入力シート２回目!Q29=\"\",\"\",データ入力シート２回目!Q29)+IF(データ入力シート２回目!Q30=\"\",\"\",データ入力シート２回目!Q30)+IF(データ入力シート２回目!Q31=\"\",\"\",データ入力シート２回目!Q31)","v":{"$error":"#VALUE!"}},{"$f":"IF(データ入力シート２回目!R29=\"\",\"\",データ入力シート２回目!R29)+IF(データ入力シート２回目!R30=\"\",\"\",データ入力シート２回目!R30)+IF(データ入力シート２回目!R31=\"\",\"\",データ入力シート２回目!R31)","v":{"$error":"#VALUE!"}},{"$f":"IF(データ入力シート２回目!S29=\"\",\"\",データ入力シート２回目!S29)+IF(データ入力シート２回目!S30=\"\",\"\",データ入力シート２回目!S30)+IF(データ入力シート２回目!S31=\"\",\"\",データ入力シート２回目!S31)","v":{"$error":"#VALUE!"}},{"$f":"IF(データ入力シート２回目!T29=\"\",\"\",データ入力シート２回目!T29)+IF(データ入力シート２回目!T30=\"\",\"\",データ入力シート２回目!T30)+IF(データ入力シート２回目!T31=\"\",\"\",データ入力シート２回目!T31)","v":{"$error":"#VALUE!"}},{"$f":"IF(データ入力シート２回目!U29=\"\",\"\",データ入力シート２回目!U29)+IF(データ入力シート２回目!U30=\"\",\"\",データ入力シート２回目!U30)+IF(データ入力シート２回目!U31=\"\",\"\",データ入力シート２回目!U31)","v":{"$error":"#VALUE!"}},{"$f":"IF(データ入力シート２回目!V29=\"\",\"\",データ入力シート２回目!V29)+IF(データ入力シート２回目!V30=\"\",\"\",データ入力シート２回目!V30)+IF(データ入力シート２回目!V31=\"\",\"\",データ入力シート２回目!V31)","v":{"$error":"#VALUE!"}},{"$f":"IF(データ入力シート２回目!W29=\"\",\"\",データ入力シート２回目!W29)+IF(データ入力シート２回目!W30=\"\",\"\",データ入力シート２回目!W30)+IF(データ入力シート２回目!W31=\"\",\"\",データ入力シート２回目!W31)","v":{"$error":"#VALUE!"}},{"$f":"IF(データ入力シート２回目!X29=\"\",\"\",データ入力シート２回目!X29)+IF(データ入力シート２回目!X30=\"\",\"\",データ入力シート２回目!X30)+IF(データ入力シート２回目!X31=\"\",\"\",データ入力シート２回目!X31)","v":{"$error":"#VALUE!"}},{"$f":"IF(データ入力シート２回目!Y29=\"\",\"\",データ入力シート２回目!Y29)+IF(データ入力シート２回目!Y30=\"\",\"\",データ入力シート２回目!Y30)+IF(データ入力シート２回目!Y31=\"\",\"\",データ入力シート２回目!Y31)","v":{"$error":"#VALUE!"}},{"$f":"IF(データ入力シート２回目!Z29=\"\",\"\",データ入力シート２回目!Z29)+IF(データ入力シート２回目!Z30=\"\",\"\",データ入力シート２回目!Z30)+IF(データ入力シート２回目!Z31=\"\",\"\",データ入力シート２回目!Z31)","v":{"$error":"#VALUE!"}},{"$f":"IF(データ入力シート２回目!AA29=\"\",\"\",データ入力シート２回目!AA29)+IF(データ入力シート２回目!AA30=\"\",\"\",データ入力シート２回目!AA30)+IF(データ入力シート２回目!AA31=\"\",\"\",データ入力シート２回目!AA31)","v":{"$error":"#VALUE!"}},{"$f":"IF(データ入力シート２回目!AB29=\"\",\"\",データ入力シート２回目!AB29)+IF(データ入力シート２回目!AB30=\"\",\"\",データ入力シート２回目!AB30)+IF(データ入力シート２回目!AB31=\"\",\"\",データ入力シート２回目!AB31)","v":{"$error":"#VALUE!"}},{"$f":"IF(データ入力シート２回目!AC29=\"\",\"\",データ入力シート２回目!AC29)+IF(データ入力シート２回目!AC30=\"\",\"\",データ入力シート２回目!AC30)+IF(データ入力シート２回目!AC31=\"\",\"\",データ入力シート２回目!AC31)","v":{"$error":"#VALUE!"}},{"$f":"IF(データ入力シート２回目!AD29=\"\",\"\",データ入力シート２回目!AD29)+IF(データ入力シート２回目!AD30=\"\",\"\",データ入力シート２回目!AD30)+IF(データ入力シート２回目!AD31=\"\",\"\",データ入力シート２回目!AD31)","v":{"$error":"#VALUE!"}},{"$f":"IF(データ入力シート２回目!AE29=\"\",\"\",データ入力シート２回目!AE29)+IF(データ入力シート２回目!AE30=\"\",\"\",データ入力シート２回目!AE30)+IF(データ入力シート２回目!AE31=\"\",\"\",データ入力シート２回目!AE31)","v":{"$error":"#VALUE!"}},{"$f":"IF(データ入力シート２回目!AF29=\"\",\"\",データ入力シート２回目!AF29)+IF(データ入力シート２回目!AF30=\"\",\"\",データ入力シート２回目!AF30)+IF(データ入力シート２回目!AF31=\"\",\"\",データ入力シート２回目!AF31)","v":{"$error":"#VALUE!"}},{"$f":"IF(データ入力シート２回目!AG29=\"\",\"\",データ入力シート２回目!AG29)+IF(データ入力シート２回目!AG30=\"\",\"\",データ入力シート２回目!AG30)+IF(データ入力シート２回目!AG31=\"\",\"\",データ入力シート２回目!AG31)","v":{"$error":"#VALUE!"}},{"$f":"IF(データ入力シート２回目!AH29=\"\",\"\",データ入力シート２回目!AH29)+IF(データ入力シート２回目!AH30=\"\",\"\",データ入力シート２回目!AH30)+IF(データ入力シート２回目!AH31=\"\",\"\",データ入力シート２回目!AH31)","v":{"$error":"#VALUE!"}},{"$f":"IF(データ入力シート２回目!AI29=\"\",\"\",データ入力シート２回目!AI29)+IF(データ入力シート２回目!AI30=\"\",\"\",データ入力シート２回目!AI30)+IF(データ入力シート２回目!AI31=\"\",\"\",データ入力シート２回目!AI31)","v":{"$error":"#VALUE!"}},{"$f":"IF(データ入力シート２回目!AJ29=\"\",\"\",データ入力シート２回目!AJ29)+IF(データ入力シート２回目!AJ30=\"\",\"\",データ入力シート２回目!AJ30)+IF(データ入力シート２回目!AJ31=\"\",\"\",データ入力シート２回目!AJ31)","v":{"$error":"#VALUE!"}},{"$f":"IF(データ入力シート２回目!AK29=\"\",\"\",データ入力シート２回目!AK29)+IF(データ入力シート２回目!AK30=\"\",\"\",データ入力シート２回目!AK30)+IF(データ入力シート２回目!AK31=\"\",\"\",データ入力シート２回目!AK31)","v":{"$error":"#VALUE!"}},{"$f":"IF(データ入力シート２回目!AL29=\"\",\"\",データ入力シート２回目!AL29)+IF(データ入力シート２回目!AL30=\"\",\"\",データ入力シート２回目!AL30)+IF(データ入力シート２回目!AL31=\"\",\"\",データ入力シート２回目!AL31)","v":{"$error":"#VALUE!"}},{"$f":"IF(データ入力シート２回目!AM29=\"\",\"\",データ入力シート２回目!AM29)+IF(データ入力シート２回目!AM30=\"\",\"\",データ入力シート２回目!AM30)+IF(データ入力シート２回目!AM31=\"\",\"\",データ入力シート２回目!AM31)","v":{"$error":"#VALUE!"}},{"$f":"IF(データ入力シート２回目!AN29=\"\",\"\",データ入力シート２回目!AN29)+IF(データ入力シート２回目!AN30=\"\",\"\",データ入力シート２回目!AN30)+IF(データ入力シート２回目!AN31=\"\",\"\",データ入力シート２回目!AN31)","v":{"$error":"#VALUE!"}},{"$f":"IF(データ入力シート２回目!AO29=\"\",\"\",データ入力シート２回目!AO29)+IF(データ入力シート２回目!AO30=\"\",\"\",データ入力シート２回目!AO30)+IF(データ入力シート２回目!AO31=\"\",\"\",データ入力シート２回目!AO31)","v":{"$error":"#VALUE!"}},{"$f":"IF(データ入力シート２回目!AP29=\"\",\"\",データ入力シート２回目!AP29)+IF(データ入力シート２回目!AP30=\"\",\"\",データ入力シート２回目!AP30)+IF(データ入力シート２回目!AP31=\"\",\"\",データ入力シート２回目!AP31)","v":{"$error":"#VALUE!"}},{"$f":"IF(データ入力シート２回目!AQ29=\"\",\"\",データ入力シート２回目!AQ29)+IF(データ入力シート２回目!AQ30=\"\",\"\",データ入力シート２回目!AQ30)+IF(データ入力シート２回目!AQ31=\"\",\"\",データ入力シート２回目!AQ31)","v":{"$error":"#VALUE!"}},{"$f":"IF(データ入力シート２回目!AR29=\"\",\"\",データ入力シート２回目!AR29)+IF(データ入力シート２回目!AR30=\"\",\"\",データ入力シート２回目!AR30)+IF(データ入力シート２回目!AR31=\"\",\"\",データ入力シート２回目!AR31)","v":{"$error":"#VALUE!"}},{"$f":"IF(データ入力シート２回目!AS29=\"\",\"\",データ入力シート２回目!AS29)+IF(データ入力シート２回目!AS30=\"\",\"\",データ入力シート２回目!AS30)+IF(データ入力シート２回目!AS31=\"\",\"\",データ入力シート２回目!AS31)","v":{"$error":"#VALUE!"}},{"$f":"IF(データ入力シート２回目!AT29=\"\",\"\",データ入力シート２回目!AT29)+IF(データ入力シート２回目!AT30=\"\",\"\",データ入力シート２回目!AT30)+IF(データ入力シート２回目!AT31=\"\",\"\",データ入力シート２回目!AT31)","v":{"$error":"#VALUE!"}},{"$f":"IF(データ入力シート２回目!AU29=\"\",\"\",データ入力シート２回目!AU29)+IF(データ入力シート２回目!AU30=\"\",\"\",データ入力シート２回目!AU30)+IF(データ入力シート２回目!AU31=\"\",\"\",データ入力シート２回目!AU31)","v":{"$error":"#VALUE!"}},{"$f":"IF(データ入力シート２回目!AV29=\"\",\"\",データ入力シート２回目!AV29)+IF(データ入力シート２回目!AV30=\"\",\"\",データ入力シート２回目!AV30)+IF(データ入力シート２回目!AV31=\"\",\"\",データ入力シート２回目!AV31)","v":{"$error":"#VALUE!"}},{"$f":"IF(データ入力シート２回目!AW29=\"\",\"\",データ入力シート２回目!AW29)+IF(データ入力シート２回目!AW30=\"\",\"\",データ入力シート２回目!AW30)+IF(データ入力シート２回目!AW31=\"\",\"\",データ入力シート２回目!AW31)","v":{"$error":"#VALUE!"}},{"$f":"IF(データ入力シート２回目!AX29=\"\",\"\",データ入力シート２回目!AX29)+IF(データ入力シート２回目!AX30=\"\",\"\",データ入力シート２回目!AX30)+IF(データ入力シート２回目!AX31=\"\",\"\",データ入力シート２回目!AX31)","v":{"$error":"#VALUE!"}},{"$f":"IF(データ入力シート２回目!AY29=\"\",\"\",データ入力シート２回目!AY29)+IF(データ入力シート２回目!AY30=\"\",\"\",データ入力シート２回目!AY30)+IF(データ入力シート２回目!AY31=\"\",\"\",データ入力シート２回目!AY31)","v":{"$error":"#VALUE!"}},{"$f":"IF(データ入力シート２回目!AZ29=\"\",\"\",データ入力シート２回目!AZ29)+IF(データ入力シート２回目!AZ30=\"\",\"\",データ入力シート２回目!AZ30)+IF(データ入力シート２回目!AZ31=\"\",\"\",データ入力シート２回目!AZ31)","v":{"$error":"#VALUE!"}},{"$f":"IF(データ入力シート２回目!BA29=\"\",\"\",データ入力シート２回目!BA29)+IF(データ入力シート２回目!BA30=\"\",\"\",データ入力シート２回目!BA30)+IF(データ入力シート２回目!BA31=\"\",\"\",データ入力シート２回目!BA31)","v":{"$error":"#VALUE!"}},{"$f":"IF(データ入力シート２回目!BB29=\"\",\"\",データ入力シート２回目!BB29)+IF(データ入力シート２回目!BB30=\"\",\"\",データ入力シート２回目!BB30)+IF(データ入力シート２回目!BB31=\"\",\"\",データ入力シート２回目!BB31)","v":{"$error":"#VALUE!"}},{"$f":"IF(データ入力シート２回目!BC29=\"\",\"\",データ入力シート２回目!BC29)+IF(データ入力シート２回目!BC30=\"\",\"\",データ入力シート２回目!BC30)+IF(データ入力シート２回目!BC31=\"\",\"\",データ入力シート２回目!BC31)","v":{"$error":"#VALUE!"}},{"$f":"IF(データ入力シート２回目!BD29=\"\",\"\",データ入力シート２回目!BD29)+IF(データ入力シート２回目!BD30=\"\",\"\",データ入力シート２回目!BD30)+IF(データ入力シート２回目!BD31=\"\",\"\",データ入力シート２回目!BD31)","v":{"$error":"#VALUE!"}},{"$f":"IF(データ入力シート２回目!BE29=\"\",\"\",データ入力シート２回目!BE29)+IF(データ入力シート２回目!BE30=\"\",\"\",データ入力シート２回目!BE30)+IF(データ入力シート２回目!BE31=\"\",\"\",データ入力シート２回目!BE31)","v":{"$error":"#VALUE!"}},{"$f":"IF(データ入力シート２回目!BF29=\"\",\"\",データ入力シート２回目!BF29)+IF(データ入力シート２回目!BF30=\"\",\"\",データ入力シート２回目!BF30)+IF(データ入力シート２回目!BF31=\"\",\"\",データ入力シート２回目!BF31)","v":{"$error":"#VALUE!"}},{"$f":"IF(データ入力シート２回目!BG29=\"\",\"\",データ入力シート２回目!BG29)+IF(データ入力シート２回目!BG30=\"\",\"\",データ入力シート２回目!BG30)+IF(データ入力シート２回目!BG31=\"\",\"\",データ入力シート２回目!BG31)","v":{"$error":"#VALUE!"}},{"$f":"IF(データ入力シート２回目!BH29=\"\",\"\",データ入力シート２回目!BH29)+IF(データ入力シート２回目!BH30=\"\",\"\",データ入力シート２回目!BH30)+IF(データ入力シート２回目!BH31=\"\",\"\",データ入力シート２回目!BH31)","v":{"$error":"#VALUE!"}},{"$f":"IF(データ入力シート２回目!BI29=\"\",\"\",データ入力シート２回目!BI29)+IF(データ入力シート２回目!BI30=\"\",\"\",データ入力シート２回目!BI30)+IF(データ入力シート２回目!BI31=\"\",\"\",データ入力シート２回目!BI31)","v":{"$error":"#VALUE!"}},{"$f":"IF(データ入力シート２回目!BJ29=\"\",\"\",データ入力シート２回目!BJ29)+IF(データ入力シート２回目!BJ30=\"\",\"\",データ入力シート２回目!BJ30)+IF(データ入力シート２回目!BJ31=\"\",\"\",データ入力シート２回目!BJ31)","v":{"$error":"#VALUE!"}},{"$f":"IF(データ入力シート２回目!BK29=\"\",\"\",データ入力シート２回目!BK29)+IF(データ入力シート２回目!BK30=\"\",\"\",データ入力シート２回目!BK30)+IF(データ入力シート２回目!BK31=\"\",\"\",データ入力シート２回目!BK31)","v":{"$error":"#VALUE!"}},{"$f":"IF(データ入力シート２回目!BL29=\"\",\"\",データ入力シート２回目!BL29)+IF(データ入力シート２回目!BL30=\"\",\"\",データ入力シート２回目!BL30)+IF(データ入力シート２回目!BL31=\"\",\"\",データ入力シート２回目!BL31)","v":{"$error":"#VALUE!"}},{"$f":"IF(データ入力シート２回目!BM29=\"\",\"\",データ入力シート２回目!BM29)+IF(データ入力シート２回目!BM30=\"\",\"\",データ入力シート２回目!BM30)+IF(データ入力シート２回目!BM31=\"\",\"\",データ入力シート２回目!BM31)","v":{"$error":"#VALUE!"}},{"$f":"IF(データ入力シート２回目!BN29=\"\",\"\",データ入力シート２回目!BN29)+IF(データ入力シート２回目!BN30=\"\",\"\",データ入力シート２回目!BN30)+IF(データ入力シート２回目!BN31=\"\",\"\",データ入力シート２回目!BN31)","v":{"$error":"#VALUE!"}},{"$f":"IF(データ入力シート２回目!BO29=\"\",\"\",データ入力シート２回目!BO29)+IF(データ入力シート２回目!BO30=\"\",\"\",データ入力シート２回目!BO30)+IF(データ入力シート２回目!BO31=\"\",\"\",データ入力シート２回目!BO31)","v":{"$error":"#VALUE!"}},{"$f":"IF(データ入力シート２回目!BP29=\"\",\"\",データ入力シート２回目!BP29)+IF(データ入力シート２回目!BP30=\"\",\"\",データ入力シート２回目!BP30)+IF(データ入力シート２回目!BP31=\"\",\"\",データ入力シート２回目!BP31)","v":{"$error":"#VALUE!"}},{"$f":"IF(データ入力シート２回目!BQ29=\"\",\"\",データ入力シート２回目!BQ29)+IF(データ入力シート２回目!BQ30=\"\",\"\",データ入力シート２回目!BQ30)+IF(データ入力シート２回目!BQ31=\"\",\"\",データ入力シート２回目!BQ31)","v":{"$error":"#VALUE!"}},{"$f":"IF(データ入力シート２回目!BR29=\"\",\"\",データ入力シート２回目!BR29)+IF(データ入力シート２回目!BR30=\"\",\"\",データ入力シート２回目!BR30)+IF(データ入力シート２回目!BR31=\"\",\"\",データ入力シート２回目!BR31)","v":{"$error":"#VALUE!"}},{"$f":"IF(データ入力シート２回目!BS29=\"\",\"\",データ入力シート２回目!BS29)+IF(データ入力シート２回目!BS30=\"\",\"\",データ入力シート２回目!BS30)+IF(データ入力シート２回目!BS31=\"\",\"\",データ入力シート２回目!BS31)","v":{"$error":"#VALUE!"}},{"$f":"IF(データ入力シート２回目!BT29=\"\",\"\",データ入力シート２回目!BT29)+IF(データ入力シート２回目!BT30=\"\",\"\",データ入力シート２回目!BT30)+IF(データ入力シート２回目!BT31=\"\",\"\",データ入力シート２回目!BT31)","v":{"$error":"#VALUE!"}},{"$f":"IF(データ入力シート２回目!BU29=\"\",\"\",データ入力シート２回目!BU29)+IF(データ入力シート２回目!BU30=\"\",\"\",データ入力シート２回目!BU30)+IF(データ入力シート２回目!BU31=\"\",\"\",データ入力シート２回目!BU31)","v":{"$error":"#VALUE!"}},{"$f":"IF(データ入力シート２回目!BV29=\"\",\"\",データ入力シート２回目!BV29)+IF(データ入力シート２回目!BV30=\"\",\"\",データ入力シート２回目!BV30)+IF(データ入力シート２回目!BV31=\"\",\"\",データ入力シート２回目!BV31)","v":{"$error":"#VALUE!"}},{"$f":"IF(データ入力シート２回目!BW29=\"\",\"\",データ入力シート２回目!BW29)+IF(データ入力シート２回目!BW30=\"\",\"\",データ入力シート２回目!BW30)+IF(データ入力シート２回目!BW31=\"\",\"\",データ入力シート２回目!BW31)","v":{"$error":"#VALUE!"}},{"$f":"IF(データ入力シート２回目!BX29=\"\",\"\",データ入力シート２回目!BX29)+IF(データ入力シート２回目!BX30=\"\",\"\",データ入力シート２回目!BX30)+IF(データ入力シート２回目!BX31=\"\",\"\",データ入力シート２回目!BX31)","v":{"$error":"#VALUE!"}},{"$f":"IF(データ入力シート２回目!BY29=\"\",\"\",データ入力シート２回目!BY29)+IF(データ入力シート２回目!BY30=\"\",\"\",データ入力シート２回目!BY30)+IF(データ入力シート２回目!BY31=\"\",\"\",データ入力シート２回目!BY31)","v":{"$error":"#VALUE!"}},{"$f":"IF(データ入力シート２回目!BZ29=\"\",\"\",データ入力シート２回目!BZ29)+IF(データ入力シート２回目!BZ30=\"\",\"\",データ入力シート２回目!BZ30)+IF(データ入力シート２回目!BZ31=\"\",\"\",データ入力シート２回目!BZ31)","v":{"$error":"#VALUE!"}},{"$f":"IF(データ入力シート２回目!CA29=\"\",\"\",データ入力シート２回目!CA29)+IF(データ入力シート２回目!CA30=\"\",\"\",データ入力シート２回目!CA30)+IF(データ入力シート２回目!CA31=\"\",\"\",データ入力シート２回目!CA31)","v":{"$error":"#VALUE!"}},{"$f":"IF(データ入力シート２回目!CB29=\"\",\"\",データ入力シート２回目!CB29)+IF(データ入力シート２回目!CB30=\"\",\"\",データ入力シート２回目!CB30)+IF(データ入力シート２回目!CB31=\"\",\"\",データ入力シート２回目!CB31)","v":{"$error":"#VALUE!"}},{"$f":"IF(データ入力シート２回目!CC29=\"\",\"\",データ入力シート２回目!CC29)+IF(データ入力シート２回目!CC30=\"\",\"\",データ入力シート２回目!CC30)+IF(データ入力シート２回目!CC31=\"\",\"\",データ入力シート２回目!CC31)","v":{"$error":"#VALUE!"}},{"$f":"IF(データ入力シート２回目!CD29=\"\",\"\",データ入力シート２回目!CD29)+IF(データ入力シート２回目!CD30=\"\",\"\",データ入力シート２回目!CD30)+IF(データ入力シート２回目!CD31=\"\",\"\",データ入力シート２回目!CD31)","v":{"$error":"#VALUE!"}},{"$f":"IF(データ入力シート２回目!CE29=\"\",\"\",データ入力シート２回目!CE29)+IF(データ入力シート２回目!CE30=\"\",\"\",データ入力シート２回目!CE30)+IF(データ入力シート２回目!CE31=\"\",\"\",データ入力シート２回目!CE31)","v":{"$error":"#VALUE!"}},{"$f":"IF(データ入力シート２回目!CF29=\"\",\"\",データ入力シート２回目!CF29)+IF(データ入力シート２回目!CF30=\"\",\"\",データ入力シート２回目!CF30)+IF(データ入力シート２回目!CF31=\"\",\"\",データ入力シート２回目!CF31)","v":{"$error":"#VALUE!"}},{"$f":"IF(データ入力シート２回目!CG29=\"\",\"\",データ入力シート２回目!CG29)+IF(データ入力シート２回目!CG30=\"\",\"\",データ入力シート２回目!CG30)+IF(データ入力シート２回目!CG31=\"\",\"\",データ入力シート２回目!CG31)","v":{"$error":"#VALUE!"}},{"$f":"IF(データ入力シート２回目!CH29=\"\",\"\",データ入力シート２回目!CH29)+IF(データ入力シート２回目!CH30=\"\",\"\",データ入力シート２回目!CH30)+IF(データ入力シート２回目!CH31=\"\",\"\",データ入力シート２回目!CH31)","v":{"$error":"#VALUE!"}},{"$f":"IF(データ入力シート２回目!CI29=\"\",\"\",データ入力シート２回目!CI29)+IF(データ入力シート２回目!CI30=\"\",\"\",データ入力シート２回目!CI30)+IF(データ入力シート２回目!CI31=\"\",\"\",データ入力シート２回目!CI31)","v":{"$error":"#VALUE!"}},{"$f":"IF(データ入力シート２回目!CJ29=\"\",\"\",データ入力シート２回目!CJ29)+IF(データ入力シート２回目!CJ30=\"\",\"\",データ入力シート２回目!CJ30)+IF(データ入力シート２回目!CJ31=\"\",\"\",データ入力シート２回目!CJ31)","v":{"$error":"#VALUE!"}},{"$f":"IF(データ入力シート２回目!CK29=\"\",\"\",データ入力シート２回目!CK29)+IF(データ入力シート２回目!CK30=\"\",\"\",データ入力シート２回目!CK30)+IF(データ入力シート２回目!CK31=\"\",\"\",データ入力シート２回目!CK31)","v":{"$error":"#VALUE!"}},{"$f":"IF(データ入力シート２回目!CL29=\"\",\"\",データ入力シート２回目!CL29)+IF(データ入力シート２回目!CL30=\"\",\"\",データ入力シート２回目!CL30)+IF(データ入力シート２回目!CL31=\"\",\"\",データ入力シート２回目!CL31)","v":{"$error":"#VALUE!"}},{"$f":"IF(データ入力シート２回目!CM29=\"\",\"\",データ入力シート２回目!CM29)+IF(データ入力シート２回目!CM30=\"\",\"\",データ入力シート２回目!CM30)+IF(データ入力シート２回目!CM31=\"\",\"\",データ入力シート２回目!CM31)","v":{"$error":"#VALUE!"}},{"$f":"IF(データ入力シート２回目!CN29=\"\",\"\",データ入力シート２回目!CN29)+IF(データ入力シート２回目!CN30=\"\",\"\",データ入力シート２回目!CN30)+IF(データ入力シート２回目!CN31=\"\",\"\",データ入力シート２回目!CN31)","v":{"$error":"#VALUE!"}},{"$f":"IF(データ入力シート２回目!CO29=\"\",\"\",データ入力シート２回目!CO29)+IF(データ入力シート２回目!CO30=\"\",\"\",データ入力シート２回目!CO30)+IF(データ入力シート２回目!CO31=\"\",\"\",データ入力シート２回目!CO31)","v":{"$error":"#VALUE!"}},{"$f":"IF(データ入力シート２回目!CP29=\"\",\"\",データ入力シート２回目!CP29)+IF(データ入力シート２回目!CP30=\"\",\"\",データ入力シート２回目!CP30)+IF(データ入力シート２回目!CP31=\"\",\"\",データ入力シート２回目!CP31)","v":{"$error":"#VALUE!"}},{"$f":"IF(データ入力シート２回目!CQ29=\"\",\"\",データ入力シート２回目!CQ29)+IF(データ入力シート２回目!CQ30=\"\",\"\",データ入力シート２回目!CQ30)+IF(データ入力シート２回目!CQ31=\"\",\"\",データ入力シート２回目!CQ31)","v":{"$error":"#VALUE!"}},{"$f":"IF(データ入力シート２回目!CR29=\"\",\"\",データ入力シート２回目!CR29)+IF(データ入力シート２回目!CR30=\"\",\"\",データ入力シート２回目!CR30)+IF(データ入力シート２回目!CR31=\"\",\"\",データ入力シート２回目!CR31)","v":{"$error":"#VALUE!"}},{"$f":"IF(データ入力シート２回目!CS29=\"\",\"\",データ入力シート２回目!CS29)+IF(データ入力シート２回目!CS30=\"\",\"\",データ入力シート２回目!CS30)+IF(データ入力シート２回目!CS31=\"\",\"\",データ入力シート２回目!CS31)","v":{"$error":"#VALUE!"}},{"$f":"IF(データ入力シート２回目!CT29=\"\",\"\",データ入力シート２回目!CT29)+IF(データ入力シート２回目!CT30=\"\",\"\",データ入力シート２回目!CT30)+IF(データ入力シート２回目!CT31=\"\",\"\",データ入力シート２回目!CT31)","v":{"$error":"#VALUE!"}},{"$f":"IF(データ入力シート２回目!CU29=\"\",\"\",データ入力シート２回目!CU29)+IF(データ入力シート２回目!CU30=\"\",\"\",データ入力シート２回目!CU30)+IF(データ入力シート２回目!CU31=\"\",\"\",データ入力シート２回目!CU31)","v":{"$error":"#VALUE!"}},{"$f":"IF(データ入力シート２回目!CV29=\"\",\"\",データ入力シート２回目!CV29)+IF(データ入力シート２回目!CV30=\"\",\"\",データ入力シート２回目!CV30)+IF(データ入力シート２回目!CV31=\"\",\"\",データ入力シート２回目!CV31)","v":{"$error":"#VALUE!"}},{"$f":"IF(データ入力シート２回目!CW29=\"\",\"\",データ入力シート２回目!CW29)+IF(データ入力シート２回目!CW30=\"\",\"\",データ入力シート２回目!CW30)+IF(データ入力シート２回目!CW31=\"\",\"\",データ入力シート２回目!CW31)","v":{"$error":"#VALUE!"}},{"$f":"IF(データ入力シート２回目!CX29=\"\",\"\",データ入力シート２回目!CX29)+IF(データ入力シート２回目!CX30=\"\",\"\",データ入力シート２回目!CX30)+IF(データ入力シート２回目!CX31=\"\",\"\",データ入力シート２回目!CX31)","v":{"$error":"#VALUE!"}},{"$f":"IF(データ入力シート２回目!CY29=\"\",\"\",データ入力シート２回目!CY29)+IF(データ入力シート２回目!CY30=\"\",\"\",データ入力シート２回目!CY30)+IF(データ入力シート２回目!CY31=\"\",\"\",データ入力シート２回目!CY31)","v":{"$error":"#VALUE!"}},{"$f":"IF(データ入力シート２回目!CZ29=\"\",\"\",データ入力シート２回目!CZ29)+IF(データ入力シート２回目!CZ30=\"\",\"\",データ入力シート２回目!CZ30)+IF(データ入力シート２回目!CZ31=\"\",\"\",データ入力シート２回目!CZ31)","v":{"$error":"#VALUE!"}}]
["物的資源について","P",{"$f":"IF(データ入力シート２回目!E32=\"\",\"\",データ入力シート２回目!E32)+IF(データ入力シート２回目!E33=\"\",\"\",データ入力シート２回目!E33)+IF(データ入力シート２回目!E34=\"\",\"\",データ入力シート２回目!E34)","v":{"$error":"#VALUE!"}},{"$f":"IF(データ入力シート２回目!F32=\"\",\"\",データ入力シート２回目!F32)+IF(データ入力シート２回目!F33=\"\",\"\",データ入力シート２回目!F33)+IF(データ入力シート２回目!F34=\"\",\"\",データ入力シート２回目!F34)","v":{"$error":"#VALUE!"}},{"$f":"IF(データ入力シート２回目!G32=\"\",\"\",データ入力シート２回目!G32)+IF(データ入力シート２回目!G33=\"\",\"\",データ入力シート２回目!G33)+IF(データ入力シート２回目!G34=\"\",\"\",データ入力シート２回目!G34)","v":{"$error":"#VALUE!"}},{"$f":"IF(データ入力シート２回目!H32=\"\",\"\",データ入力シート２回目!H32)+IF(データ入力シート２回目!H33=\"\",\"\",データ入力シート２回目!H33)+IF(データ入力シート２回目!H34=\"\",\"\",データ入力シート２回目!H34)","v":{"$error":"#VALUE!"}},{"$f":"IF(データ入力シート２回目!I32=\"\",\"\",データ入力シート２回目!I32)+IF(データ入力シート２回目!I33=\"\",\"\",データ入力シート２回目!I33)+IF(データ入力シート２回目!I34=\"\",\"\",データ入力シート２回目!I34)","v":{"$error":"#VALUE!"}},{"$f":"IF(データ入力シート２回目!J32=\"\",\"\",データ入力シート２回目!J32)+IF(データ入力シート２回目!J33=\"\",\"\",データ入力シート２回目!J33)+IF(データ入力シート２回目!J34=\"\",\"\",データ入力シート２回目!J34)","v":{"$error":"#VALUE!"}},{"$f":"IF(データ入力シート２回目!K32=\"\",\"\",データ入力シート２回目!K32)+IF(データ入力シート２回目!K33=\"\",\"\",データ入力シート２回目!K33)+IF(データ入力シート２回目!K34=\"\",\"\",データ入力シート２回目!K34)","v":{"$error":"#VALUE!"}},{"$f":"IF(データ入力シート２回目!L32=\"\",\"\",データ入力シート２回目!L32)+IF(データ入力シート２回目!L33=\"\",\"\",データ入力シート２回目!L33)+IF(データ入力シート２回目!L34=\"\",\"\",データ入力シート２回目!L34)","v":{"$error":"#VALUE!"}},{"$f":"IF(データ入力シート２回目!M32=\"\",\"\",データ入力シート２回目!M32)+IF(データ入力シート２回目!M33=\"\",\"\",データ入力シート２回目!M33)+IF(データ入力シート２回目!M34=\"\",\"\",データ入力シート２回目!M34)","v":{"$error":"#VALUE!"}},{"$f":"IF(データ入力シート２回目!N32=\"\",\"\",データ入力シート２回目!N32)+IF(データ入力シート２回目!N33=\"\",\"\",データ入力シート２回目!N33)+IF(データ入力シート２回目!N34=\"\",\"\",データ入力シート２回目!N34)","v":{"$error":"#VALUE!"}},{"$f":"IF(データ入力シート２回目!O32=\"\",\"\",データ入力シート２回目!O32)+IF(データ入力シート２回目!O33=\"\",\"\",データ入力シート２回目!O33)+IF(データ入力シート２回目!O34=\"\",\"\",データ入力シート２回目!O34)","v":{"$error":"#VALUE!"}},{"$f":"IF(データ入力シート２回目!P32=\"\",\"\",データ入力シート２回目!P32)+IF(データ入力シート２回目!P33=\"\",\"\",データ入力シート２回目!P33)+IF(データ入力シート２回目!P34=\"\",\"\",データ入力シート２回目!P34)","v":{"$error":"#VALUE!"}},{"$f":"IF(データ入力シート２回目!Q32=\"\",\"\",データ入力シート２回目!Q32)+IF(データ入力シート２回目!Q33=\"\",\"\",データ入力シート２回目!Q33)+IF(データ入力シート２回目!Q34=\"\",\"\",データ入力シート２回目!Q34)","v":{"$error":"#VALUE!"}},{"$f":"IF(データ入力シート２回目!R32=\"\",\"\",データ入力シート２回目!R32)+IF(データ入力シート２回目!R33=\"\",\"\",データ入力シート２回目!R33)+IF(データ入力シート２回目!R34=\"\",\"\",データ入力シート２回目!R34)","v":{"$error":"#VALUE!"}},{"$f":"IF(データ入力シート２回目!S32=\"\",\"\",データ入力シート２回目!S32)+IF(データ入力シート２回目!S33=\"\",\"\",データ入力シート２回目!S33)+IF(データ入力シート２回目!S34=\"\",\"\",データ入力シート２回目!S34)","v":{"$error":"#VALUE!"}},{"$f":"IF(データ入力シート２回目!T32=\"\",\"\",データ入力シート２回目!T32)+IF(データ入力シート２回目!T33=\"\",\"\",データ入力シート２回目!T33)+IF(データ入力シート２回目!T34=\"\",\"\",データ入力シート２回目!T34)","v":{"$error":"#VALUE!"}},{"$f":"IF(データ入力シート２回目!U32=\"\",\"\",データ入力シート２回目!U32)+IF(データ入力シート２回目!U33=\"\",\"\",データ入力シート２回目!U33)+IF(データ入力シート２回目!U34=\"\",\"\",データ入力シート２回目!U34)","v":{"$error":"#VALUE!"}},{"$f":"IF(データ入力シート２回目!V32=\"\",\"\",データ入力シート２回目!V32)+IF(データ入力シート２回目!V33=\"\",\"\",データ入力シート２回目!V33)+IF(データ入力シート２回目!V34=\"\",\"\",データ入力シート２回目!V34)","v":{"$error":"#VALUE!"}},{"$f":"IF(データ入力シート２回目!W32=\"\",\"\",データ入力シート２回目!W32)+IF(データ入力シート２回目!W33=\"\",\"\",データ入力シート２回目!W33)+IF(データ入力シート２回目!W34=\"\",\"\",データ入力シート２回目!W34)","v":{"$error":"#VALUE!"}},{"$f":"IF(データ入力シート２回目!X32=\"\",\"\",データ入力シート２回目!X32)+IF(データ入力シート２回目!X33=\"\",\"\",データ入力シート２回目!X33)+IF(データ入力シート２回目!X34=\"\",\"\",データ入力シート２回目!X34)","v":{"$error":"#VALUE!"}},{"$f":"IF(データ入力シート２回目!Y32=\"\",\"\",データ入力シート２回目!Y32)+IF(データ入力シート２回目!Y33=\"\",\"\",データ入力シート２回目!Y33)+IF(データ入力シート２回目!Y34=\"\",\"\",データ入力シート２回目!Y34)","v":{"$error":"#VALUE!"}},{"$f":"IF(データ入力シート２回目!Z32=\"\",\"\",データ入力シート２回目!Z32)+IF(データ入力シート２回目!Z33=\"\",\"\",データ入力シート２回目!Z33)+IF(データ入力シート２回目!Z34=\"\",\"\",データ入力シート２回目!Z34)","v":{"$error":"#VALUE!"}},{"$f":"IF(データ入力シート２回目!AA32=\"\",\"\",データ入力シート２回目!AA32)+IF(データ入力シート２回目!AA33=\"\",\"\",データ入力シート２回目!AA33)+IF(データ入力シート２回目!AA34=\"\",\"\",データ入力シート２回目!AA34)","v":{"$error":"#VALUE!"}},{"$f":"IF(データ入力シート２回目!AB32=\"\",\"\",データ入力シート２回目!AB32)+IF(データ入力シート２回目!AB33=\"\",\"\",データ入力シート２回目!AB33)+IF(データ入力シート２回目!AB34=\"\",\"\",データ入力シート２回目!AB34)","v":{"$error":"#VALUE!"}},{"$f":"IF(データ入力シート２回目!AC32=\"\",\"\",データ入力シート２回目!AC32)+IF(データ入力シート２回目!AC33=\"\",\"\",データ入力シート２回目!AC33)+IF(データ入力シート２回目!AC34=\"\",\"\",データ入力シート２回目!AC34)","v":{"$error":"#VALUE!"}},{"$f":"IF(データ入力シート２回目!AD32=\"\",\"\",データ入力シート２回目!AD32)+IF(データ入力シート２回目!AD33=\"\",\"\",データ入力シート２回目!AD33)+IF(データ入力シート２回目!AD34=\"\",\"\",データ入力シート２回目!AD34)","v":{"$error":"#VALUE!"}},{"$f":"IF(データ入力シート２回目!AE32=\"\",\"\",データ入力シート２回目!AE32)+IF(データ入力シート２回目!AE33=\"\",\"\",データ入力シート２回目!AE33)+IF(データ入力シート２回目!AE34=\"\",\"\",データ入力シート２回目!AE34)","v":{"$error":"#VALUE!"}},{"$f":"IF(データ入力シート２回目!AF32=\"\",\"\",データ入力シート２回目!AF32)+IF(データ入力シート２回目!AF33=\"\",\"\",データ入力シート２回目!AF33)+IF(データ入力シート２回目!AF34=\"\",\"\",データ入力シート２回目!AF34)","v":{"$error":"#VALUE!"}},{"$f":"IF(データ入力シート２回目!AG32=\"\",\"\",データ入力シート２回目!AG32)+IF(データ入力シート２回目!AG33=\"\",\"\",データ入力シート２回目!AG33)+IF(データ入力シート２回目!AG34=\"\",\"\",データ入力シート２回目!AG34)","v":{"$error":"#VALUE!"}},{"$f":"IF(データ入力シート２回目!AH32=\"\",\"\",データ入力シート２回目!AH32)+IF(データ入力シート２回目!AH33=\"\",\"\",データ入力シート２回目!AH33)+IF(データ入力シート２回目!AH34=\"\",\"\",データ入力シート２回目!AH34)","v":{"$error":"#VALUE!"}},{"$f":"IF(データ入力シート２回目!AI32=\"\",\"\",データ入力シート２回目!AI32)+IF(データ入力シート２回目!AI33=\"\",\"\",データ入力シート２回目!AI33)+IF(データ入力シート２回目!AI34=\"\",\"\",データ入力シート２回目!AI34)","v":{"$error":"#VALUE!"}},{"$f":"IF(データ入力シート２回目!AJ32=\"\",\"\",データ入力シート２回目!AJ32)+IF(データ入力シート２回目!AJ33=\"\",\"\",データ入力シート２回目!AJ33)+IF(データ入力シート２回目!AJ34=\"\",\"\",データ入力シート２回目!AJ34)","v":{"$error":"#VALUE!"}},{"$f":"IF(データ入力シート２回目!AK32=\"\",\"\",データ入力シート２回目!AK32)+IF(データ入力シート２回目!AK33=\"\",\"\",データ入力シート２回目!AK33)+IF(データ入力シート２回目!AK34=\"\",\"\",データ入力シート２回目!AK34)","v":{"$error":"#VALUE!"}},{"$f":"IF(データ入力シート２回目!AL32=\"\",\"\",データ入力シート２回目!AL32)+IF(データ入力シート２回目!AL33=\"\",\"\",データ入力シート２回目!AL33)+IF(データ入力シート２回目!AL34=\"\",\"\",データ入力シート２回目!AL34)","v":{"$error":"#VALUE!"}},{"$f":"IF(データ入力シート２回目!AM32=\"\",\"\",データ入力シート２回目!AM32)+IF(データ入力シート２回目!AM33=\"\",\"\",データ入力シート２回目!AM33)+IF(データ入力シート２回目!AM34=\"\",\"\",データ入力シート２回目!AM34)","v":{"$error":"#VALUE!"}},{"$f":"IF(データ入力シート２回目!AN32=\"\",\"\",データ入力シート２回目!AN32)+IF(データ入力シート２回目!AN33=\"\",\"\",データ入力シート２回目!AN33)+IF(データ入力シート２回目!AN34=\"\",\"\",データ入力シート２回目!AN34)","v":{"$error":"#VALUE!"}},{"$f":"IF(データ入力シート２回目!AO32=\"\",\"\",データ入力シート２回目!AO32)+IF(データ入力シート２回目!AO33=\"\",\"\",データ入力シート２回目!AO33)+IF(データ入力シート２回目!AO34=\"\",\"\",データ入力シート２回目!AO34)","v":{"$error":"#VALUE!"}},{"$f":"IF(データ入力シート２回目!AP32=\"\",\"\",データ入力シート２回目!AP32)+IF(データ入力シート２回目!AP33=\"\",\"\",データ入力シート２回目!AP33)+IF(データ入力シート２回目!AP34=\"\",\"\",データ入力シート２回目!AP34)","v":{"$error":"#VALUE!"}},{"$f":"IF(データ入力シート２回目!AQ32=\"\",\"\",データ入力シート２回目!AQ32)+IF(データ入力シート２回目!AQ33=\"\",\"\",データ入力シート２回目!AQ33)+IF(データ入力シート２回目!AQ34=\"\",\"\",データ入力シート２回目!AQ34)","v":{"$error":"#VALUE!"}},{"$f":"IF(データ入力シート２回目!AR32=\"\",\"\",データ入力シート２回目!AR32)+IF(データ入力シート２回目!AR33=\"\",\"\",データ入力シート２回目!AR33)+IF(データ入力シート２回目!AR34=\"\",\"\",データ入力シート２回目!AR34)","v":{"$error":"#VALUE!"}},{"$f":"IF(データ入力シート２回目!AS32=\"\",\"\",データ入力シート２回目!AS32)+IF(データ入力シート２回目!AS33=\"\",\"\",データ入力シート２回目!AS33)+IF(データ入力シート２回目!AS34=\"\",\"\",データ入力シート２回目!AS34)","v":{"$error":"#VALUE!"}},{"$f":"IF(データ入力シート２回目!AT32=\"\",\"\",データ入力シート２回目!AT32)+IF(データ入力シート２回目!AT33=\"\",\"\",データ入力シート２回目!AT33)+IF(データ入力シート２回目!AT34=\"\",\"\",データ入力シート２回目!AT34)","v":{"$error":"#VALUE!"}},{"$f":"IF(データ入力シート２回目!AU32=\"\",\"\",データ入力シート２回目!AU32)+IF(データ入力シート２回目!AU33=\"\",\"\",データ入力シート２回目!AU33)+IF(データ入力シート２回目!AU34=\"\",\"\",データ入力シート２回目!AU34)","v":{"$error":"#VALUE!"}},{"$f":"IF(データ入力シート２回目!AV32=\"\",\"\",データ入力シート２回目!AV32)+IF(データ入力シート２回目!AV33=\"\",\"\",データ入力シート２回目!AV33)+IF(データ入力シート２回目!AV34=\"\",\"\",データ入力シート２回目!AV34)","v":{"$error":"#VALUE!"}},{"$f":"IF(データ入力シート２回目!AW32=\"\",\"\",データ入力シート２回目!AW32)+IF(データ入力シート２回目!AW33=\"\",\"\",データ入力シート２回目!AW33)+IF(データ入力シート２回目!AW34=\"\",\"\",データ入力シート２回目!AW34)","v":{"$error":"#VALUE!"}},{"$f":"IF(データ入力シート２回目!AX32=\"\",\"\",データ入力シート２回目!AX32)+IF(データ入力シート２回目!AX33=\"\",\"\",データ入力シート２回目!AX33)+IF(データ入力シート２回目!AX34=\"\",\"\",データ入力シート２回目!AX34)","v":{"$error":"#VALUE!"}},{"$f":"IF(データ入力シート２回目!AY32=\"\",\"\",データ入力シート２回目!AY32)+IF(データ入力シート２回目!AY33=\"\",\"\",データ入力シート２回目!AY33)+IF(データ入力シート２回目!AY34=\"\",\"\",データ入力シート２回目!AY34)","v":{"$error":"#VALUE!"}},{"$f":"IF(データ入力シート２回目!AZ32=\"\",\"\",データ入力シート２回目!AZ32)+IF(データ入力シート２回目!AZ33=\"\",\"\",データ入力シート２回目!AZ33)+IF(データ入力シート２回目!AZ34=\"\",\"\",データ入力シート２回目!AZ34)","v":{"$error":"#VALUE!"}},{"$f":"IF(データ入力シート２回目!BA32=\"\",\"\",データ入力シート２回目!BA32)+IF(データ入力シート２回目!BA33=\"\",\"\",データ入力シート２回目!BA33)+IF(データ入力シート２回目!BA34=\"\",\"\",データ入力シート２回目!BA34)","v":{"$error":"#VALUE!"}},{"$f":"IF(データ入力シート２回目!BB32=\"\",\"\",データ入力シート２回目!BB32)+IF(データ入力シート２回目!BB33=\"\",\"\",データ入力シート２回目!BB33)+IF(データ入力シート２回目!BB34=\"\",\"\",データ入力シート２回目!BB34)","v":{"$error":"#VALUE!"}},{"$f":"IF(データ入力シート２回目!BC32=\"\",\"\",データ入力シート２回目!BC32)+IF(データ入力シート２回目!BC33=\"\",\"\",データ入力シート２回目!BC33)+IF(データ入力シート２回目!BC34=\"\",\"\",データ入力シート２回目!BC34)","v":{"$error":"#VALUE!"}},{"$f":"IF(データ入力シート２回目!BD32=\"\",\"\",データ入力シート２回目!BD32)+IF(データ入力シート２回目!BD33=\"\",\"\",データ入力シート２回目!BD33)+IF(データ入力シート２回目!BD34=\"\",\"\",データ入力シート２回目!BD34)","v":{"$error":"#VALUE!"}},{"$f":"IF(データ入力シート２回目!BE32=\"\",\"\",データ入力シート２回目!BE32)+IF(データ入力シート２回目!BE33=\"\",\"\",データ入力シート２回目!BE33)+IF(データ入力シート２回目!BE34=\"\",\"\",データ入力シート２回目!BE34)","v":{"$error":"#VALUE!"}},{"$f":"IF(データ入力シート２回目!BF32=\"\",\"\",データ入力シート２回目!BF32)+IF(データ入力シート２回目!BF33=\"\",\"\",データ入力シート２回目!BF33)+IF(データ入力シート２回目!BF34=\"\",\"\",データ入力シート２回目!BF34)","v":{"$error":"#VALUE!"}},{"$f":"IF(データ入力シート２回目!BG32=\"\",\"\",データ入力シート２回目!BG32)+IF(データ入力シート２回目!BG33=\"\",\"\",データ入力シート２回目!BG33)+IF(データ入力シート２回目!BG34=\"\",\"\",データ入力シート２回目!BG34)","v":{"$error":"#VALUE!"}},{"$f":"IF(データ入力シート２回目!BH32=\"\",\"\",データ入力シート２回目!BH32)+IF(データ入力シート２回目!BH33=\"\",\"\",データ入力シート２回目!BH33)+IF(データ入力シート２回目!BH34=\"\",\"\",データ入力シート２回目!BH34)","v":{"$error":"#VALUE!"}},{"$f":"IF(データ入力シート２回目!BI32=\"\",\"\",データ入力シート２回目!BI32)+IF(データ入力シート２回目!BI33=\"\",\"\",データ入力シート２回目!BI33)+IF(データ入力シート２回目!BI34=\"\",\"\",データ入力シート２回目!BI34)","v":{"$error":"#VALUE!"}},{"$f":"IF(データ入力シート２回目!BJ32=\"\",\"\",データ入力シート２回目!BJ32)+IF(データ入力シート２回目!BJ33=\"\",\"\",データ入力シート２回目!BJ33)+IF(データ入力シート２回目!BJ34=\"\",\"\",データ入力シート２回目!BJ34)","v":{"$error":"#VALUE!"}},{"$f":"IF(データ入力シート２回目!BK32=\"\",\"\",データ入力シート２回目!BK32)+IF(データ入力シート２回目!BK33=\"\",\"\",データ入力シート２回目!BK33)+IF(データ入力シート２回目!BK34=\"\",\"\",データ入力シート２回目!BK34)","v":{"$error":"#VALUE!"}},{"$f":"IF(データ入力シート２回目!BL32=\"\",\"\",データ入力シート２回目!BL32)+IF(データ入力シート２回目!BL33=\"\",\"\",データ入力シート２回目!BL33)+IF(データ入力シート２回目!BL34=\"\",\"\",データ入力シート２回目!BL34)","v":{"$error":"#VALUE!"}},{"$f":"IF(データ入力シート２回目!BM32=\"\",\"\",データ入力シート２回目!BM32)+IF(データ入力シート２回目!BM33=\"\",\"\",データ入力シート２回目!BM33)+IF(データ入力シート２回目!BM34=\"\",\"\",データ入力シート２回目!BM34)","v":{"$error":"#VALUE!"}},{"$f":"IF(データ入力シート２回目!BN32=\"\",\"\",データ入力シート２回目!BN32)+IF(データ入力シート２回目!BN33=\"\",\"\",データ入力シート２回目!BN33)+IF(データ入力シート２回目!BN34=\"\",\"\",データ入力シート２回目!BN34)","v":{"$error":"#VALUE!"}},{"$f":"IF(データ入力シート２回目!BO32=\"\",\"\",データ入力シート２回目!BO32)+IF(データ入力シート２回目!BO33=\"\",\"\",データ入力シート２回目!BO33)+IF(データ入力シート２回目!BO34=\"\",\"\",データ入力シート２回目!BO34)","v":{"$error":"#VALUE!"}},{"$f":"IF(データ入力シート２回目!BP32=\"\",\"\",データ入力シート２回目!BP32)+IF(データ入力シート２回目!BP33=\"\",\"\",データ入力シート２回目!BP33)+IF(データ入力シート２回目!BP34=\"\",\"\",データ入力シート２回目!BP34)","v":{"$error":"#VALUE!"}},{"$f":"IF(データ入力シート２回目!BQ32=\"\",\"\",データ入力シート２回目!BQ32)+IF(データ入力シート２回目!BQ33=\"\",\"\",データ入力シート２回目!BQ33)+IF(データ入力シート２回目!BQ34=\"\",\"\",データ入力シート２回目!BQ34)","v":{"$error":"#VALUE!"}},{"$f":"IF(データ入力シート２回目!BR32=\"\",\"\",データ入力シート２回目!BR32)+IF(データ入力シート２回目!BR33=\"\",\"\",データ入力シート２回目!BR33)+IF(データ入力シート２回目!BR34=\"\",\"\",データ入力シート２回目!BR34)","v":{"$error":"#VALUE!"}},{"$f":"IF(データ入力シート２回目!BS32=\"\",\"\",データ入力シート２回目!BS32)+IF(データ入力シート２回目!BS33=\"\",\"\",データ入力シート２回目!BS33)+IF(データ入力シート２回目!BS34=\"\",\"\",データ入力シート２回目!BS34)","v":{"$error":"#VALUE!"}},{"$f":"IF(データ入力シート２回目!BT32=\"\",\"\",データ入力シート２回目!BT32)+IF(データ入力シート２回目!BT33=\"\",\"\",データ入力シート２回目!BT33)+IF(データ入力シート２回目!BT34=\"\",\"\",データ入力シート２回目!BT34)","v":{"$error":"#VALUE!"}},{"$f":"IF(データ入力シート２回目!BU32=\"\",\"\",データ入力シート２回目!BU32)+IF(データ入力シート２回目!BU33=\"\",\"\",データ入力シート２回目!BU33)+IF(データ入力シート２回目!BU34=\"\",\"\",データ入力シート２回目!BU34)","v":{"$error":"#VALUE!"}},{"$f":"IF(データ入力シート２回目!BV32=\"\",\"\",データ入力シート２回目!BV32)+IF(データ入力シート２回目!BV33=\"\",\"\",データ入力シート２回目!BV33)+IF(データ入力シート２回目!BV34=\"\",\"\",データ入力シート２回目!BV34)","v":{"$error":"#VALUE!"}},{"$f":"IF(データ入力シート２回目!BW32=\"\",\"\",データ入力シート２回目!BW32)+IF(データ入力シート２回目!BW33=\"\",\"\",データ入力シート２回目!BW33)+IF(データ入力シート２回目!BW34=\"\",\"\",データ入力シート２回目!BW34)","v":{"$error":"#VALUE!"}},{"$f":"IF(データ入力シート２回目!BX32=\"\",\"\",データ入力シート２回目!BX32)+IF(データ入力シート２回目!BX33=\"\",\"\",データ入力シート２回目!BX33)+IF(データ入力シート２回目!BX34=\"\",\"\",データ入力シート２回目!BX34)","v":{"$error":"#VALUE!"}},{"$f":"IF(データ入力シート２回目!BY32=\"\",\"\",データ入力シート２回目!BY32)+IF(データ入力シート２回目!BY33=\"\",\"\",データ入力シート２回目!BY33)+IF(データ入力シート２回目!BY34=\"\",\"\",データ入力シート２回目!BY34)","v":{"$error":"#VALUE!"}},{"$f":"IF(データ入力シート２回目!BZ32=\"\",\"\",データ入力シート２回目!BZ32)+IF(データ入力シート２回目!BZ33=\"\",\"\",データ入力シート２回目!BZ33)+IF(データ入力シート２回目!BZ34=\"\",\"\",データ入力シート２回目!BZ34)","v":{"$error":"#VALUE!"}},{"$f":"IF(データ入力シート２回目!CA32=\"\",\"\",データ入力シート２回目!CA32)+IF(データ入力シート２回目!CA33=\"\",\"\",データ入力シート２回目!CA33)+IF(データ入力シート２回目!CA34=\"\",\"\",データ入力シート２回目!CA34)","v":{"$error":"#VALUE!"}},{"$f":"IF(データ入力シート２回目!CB32=\"\",\"\",データ入力シート２回目!CB32)+IF(データ入力シート２回目!CB33=\"\",\"\",データ入力シート２回目!CB33)+IF(データ入力シート２回目!CB34=\"\",\"\",データ入力シート２回目!CB34)","v":{"$error":"#VALUE!"}},{"$f":"IF(データ入力シート２回目!CC32=\"\",\"\",データ入力シート２回目!CC32)+IF(データ入力シート２回目!CC33=\"\",\"\",データ入力シート２回目!CC33)+IF(データ入力シート２回目!CC34=\"\",\"\",データ入力シート２回目!CC34)","v":{"$error":"#VALUE!"}},{"$f":"IF(データ入力シート２回目!CD32=\"\",\"\",データ入力シート２回目!CD32)+IF(データ入力シート２回目!CD33=\"\",\"\",データ入力シート２回目!CD33)+IF(データ入力シート２回目!CD34=\"\",\"\",データ入力シート２回目!CD34)","v":{"$error":"#VALUE!"}},{"$f":"IF(データ入力シート２回目!CE32=\"\",\"\",データ入力シート２回目!CE32)+IF(データ入力シート２回目!CE33=\"\",\"\",データ入力シート２回目!CE33)+IF(データ入力シート２回目!CE34=\"\",\"\",データ入力シート２回目!CE34)","v":{"$error":"#VALUE!"}},{"$f":"IF(データ入力シート２回目!CF32=\"\",\"\",データ入力シート２回目!CF32)+IF(データ入力シート２回目!CF33=\"\",\"\",データ入力シート２回目!CF33)+IF(データ入力シート２回目!CF34=\"\",\"\",データ入力シート２回目!CF34)","v":{"$error":"#VALUE!"}},{"$f":"IF(データ入力シート２回目!CG32=\"\",\"\",データ入力シート２回目!CG32)+IF(データ入力シート２回目!CG33=\"\",\"\",データ入力シート２回目!CG33)+IF(データ入力シート２回目!CG34=\"\",\"\",データ入力シート２回目!CG34)","v":{"$error":"#VALUE!"}},{"$f":"IF(データ入力シート２回目!CH32=\"\",\"\",データ入力シート２回目!CH32)+IF(データ入力シート２回目!CH33=\"\",\"\",データ入力シート２回目!CH33)+IF(データ入力シート２回目!CH34=\"\",\"\",データ入力シート２回目!CH34)","v":{"$error":"#VALUE!"}},{"$f":"IF(データ入力シート２回目!CI32=\"\",\"\",データ入力シート２回目!CI32)+IF(データ入力シート２回目!CI33=\"\",\"\",データ入力シート２回目!CI33)+IF(データ入力シート２回目!CI34=\"\",\"\",データ入力シート２回目!CI34)","v":{"$error":"#VALUE!"}},{"$f":"IF(データ入力シート２回目!CJ32=\"\",\"\",データ入力シート２回目!CJ32)+IF(データ入力シート２回目!CJ33=\"\",\"\",データ入力シート２回目!CJ33)+IF(データ入力シート２回目!CJ34=\"\",\"\",データ入力シート２回目!CJ34)","v":{"$error":"#VALUE!"}},{"$f":"IF(データ入力シート２回目!CK32=\"\",\"\",データ入力シート２回目!CK32)+IF(データ入力シート２回目!CK33=\"\",\"\",データ入力シート２回目!CK33)+IF(データ入力シート２回目!CK34=\"\",\"\",データ入力シート２回目!CK34)","v":{"$error":"#VALUE!"}},{"$f":"IF(データ入力シート２回目!CL32=\"\",\"\",データ入力シート２回目!CL32)+IF(データ入力シート２回目!CL33=\"\",\"\",データ入力シート２回目!CL33)+IF(データ入力シート２回目!CL34=\"\",\"\",データ入力シート２回目!CL34)","v":{"$error":"#VALUE!"}},{"$f":"IF(データ入力シート２回目!CM32=\"\",\"\",データ入力シート２回目!CM32)+IF(データ入力シート２回目!CM33=\"\",\"\",データ入力シート２回目!CM33)+IF(データ入力シート２回目!CM34=\"\",\"\",データ入力シート２回目!CM34)","v":{"$error":"#VALUE!"}},{"$f":"IF(データ入力シート２回目!CN32=\"\",\"\",データ入力シート２回目!CN32)+IF(データ入力シート２回目!CN33=\"\",\"\",データ入力シート２回目!CN33)+IF(データ入力シート２回目!CN34=\"\",\"\",データ入力シート２回目!CN34)","v":{"$error":"#VALUE!"}},{"$f":"IF(データ入力シート２回目!CO32=\"\",\"\",データ入力シート２回目!CO32)+IF(データ入力シート２回目!CO33=\"\",\"\",データ入力シート２回目!CO33)+IF(データ入力シート２回目!CO34=\"\",\"\",データ入力シート２回目!CO34)","v":{"$error":"#VALUE!"}},{"$f":"IF(データ入力シート２回目!CP32=\"\",\"\",データ入力シート２回目!CP32)+IF(データ入力シート２回目!CP33=\"\",\"\",データ入力シート２回目!CP33)+IF(データ入力シート２回目!CP34=\"\",\"\",データ入力シート２回目!CP34)","v":{"$error":"#VALUE!"}},{"$f":"IF(データ入力シート２回目!CQ32=\"\",\"\",データ入力シート２回目!CQ32)+IF(データ入力シート２回目!CQ33=\"\",\"\",データ入力シート２回目!CQ33)+IF(データ入力シート２回目!CQ34=\"\",\"\",データ入力シート２回目!CQ34)","v":{"$error":"#VALUE!"}},{"$f":"IF(データ入力シート２回目!CR32=\"\",\"\",データ入力シート２回目!CR32)+IF(データ入力シート２回目!CR33=\"\",\"\",データ入力シート２回目!CR33)+IF(データ入力シート２回目!CR34=\"\",\"\",データ入力シート２回目!CR34)","v":{"$error":"#VALUE!"}},{"$f":"IF(データ入力シート２回目!CS32=\"\",\"\",データ入力シート２回目!CS32)+IF(データ入力シート２回目!CS33=\"\",\"\",データ入力シート２回目!CS33)+IF(データ入力シート２回目!CS34=\"\",\"\",データ入力シート２回目!CS34)","v":{"$error":"#VALUE!"}},{"$f":"IF(データ入力シート２回目!CT32=\"\",\"\",データ入力シート２回目!CT32)+IF(データ入力シート２回目!CT33=\"\",\"\",データ入力シート２回目!CT33)+IF(データ入力シート２回目!CT34=\"\",\"\",データ入力シート２回目!CT34)","v":{"$error":"#VALUE!"}},{"$f":"IF(データ入力シート２回目!CU32=\"\",\"\",データ入力シート２回目!CU32)+IF(データ入力シート２回目!CU33=\"\",\"\",データ入力シート２回目!CU33)+IF(データ入力シート２回目!CU34=\"\",\"\",データ入力シート２回目!CU34)","v":{"$error":"#VALUE!"}},{"$f":"IF(データ入力シート２回目!CV32=\"\",\"\",データ入力シート２回目!CV32)+IF(データ入力シート２回目!CV33=\"\",\"\",データ入力シート２回目!CV33)+IF(データ入力シート２回目!CV34=\"\",\"\",データ入力シート２回目!CV34)","v":{"$error":"#VALUE!"}},{"$f":"IF(データ入力シート２回目!CW32=\"\",\"\",データ入力シート２回目!CW32)+IF(データ入力シート２回目!CW33=\"\",\"\",データ入力シート２回目!CW33)+IF(データ入力シート２回目!CW34=\"\",\"\",データ入力シート２回目!CW34)","v":{"$error":"#VALUE!"}},{"$f":"IF(データ入力シート２回目!CX32=\"\",\"\",データ入力シート２回目!CX32)+IF(データ入力シート２回目!CX33=\"\",\"\",データ入力シート２回目!CX33)+IF(データ入力シート２回目!CX34=\"\",\"\",データ入力シート２回目!CX34)","v":{"$error":"#VALUE!"}},{"$f":"IF(データ入力シート２回目!CY32=\"\",\"\",データ入力シート２回目!CY32)+IF(データ入力シート２回目!CY33=\"\",\"\",データ入力シート２回目!CY33)+IF(データ入力シート２回目!CY34=\"\",\"\",データ入力シート２回目!CY34)","v":{"$error":"#VALUE!"}},{"$f":"IF(データ入力シート２回目!CZ32=\"\",\"\",データ入力シート２回目!CZ32)+IF(データ入力シート２回目!CZ33=\"\",\"\",データ入力シート２回目!CZ33)+IF(データ入力シート２回目!CZ34=\"\",\"\",データ入力シート２回目!CZ34)","v":{"$error":"#VALUE!"}}]
[null,"D",{"$f":"IF(データ入力シート２回目!E35=\"\",\"\",データ入力シート２回目!E35)+IF(データ入力シート２回目!E36=\"\",\"\",データ入力シート２回目!E36)+IF(データ入力シート２回目!E37=\"\",\"\",データ入力シート２回目!E37)","v":{"$error":"#VALUE!"}},{"$f":"IF(データ入力シート２回目!F35=\"\",\"\",データ入力シート２回目!F35)+IF(データ入力シート２回目!F36=\"\",\"\",データ入力シート２回目!F36)+IF(データ入力シート２回目!F37=\"\",\"\",データ入力シート２回目!F37)","v":{"$error":"#VALUE!"}},{"$f":"IF(データ入力シート２回目!G35=\"\",\"\",データ入力シート２回目!G35)+IF(データ入力シート２回目!G36=\"\",\"\",データ入力シート２回目!G36)+IF(データ入力シート２回目!G37=\"\",\"\",データ入力シート２回目!G37)","v":{"$error":"#VALUE!"}},{"$f":"IF(データ入力シート２回目!H35=\"\",\"\",データ入力シート２回目!H35)+IF(データ入力シート２回目!H36=\"\",\"\",データ入力シート２回目!H36)+IF(データ入力シート２回目!H37=\"\",\"\",データ入力シート２回目!H37)","v":{"$error":"#VALUE!"}},{"$f":"IF(データ入力シート２回目!I35=\"\",\"\",データ入力シート２回目!I35)+IF(データ入力シート２回目!I36=\"\",\"\",データ入力シート２回目!I36)+IF(データ入力シート２回目!I37=\"\",\"\",データ入力シート２回目!I37)","v":{"$error":"#VALUE!"}},{"$f":"IF(データ入力シート２回目!J35=\"\",\"\",データ入力シート２回目!J35)+IF(データ入力シート２回目!J36=\"\",\"\",データ入力シート２回目!J36)+IF(データ入力シート２回目!J37=\"\",\"\",データ入力シート２回目!J37)","v":{"$error":"#VALUE!"}},{"$f":"IF(データ入力シート２回目!K35=\"\",\"\",データ入力シート２回目!K35)+IF(データ入力シート２回目!K36=\"\",\"\",データ入力シート２回目!K36)+IF(データ入力シート２回目!K37=\"\",\"\",データ入力シート２回目!K37)","v":{"$error":"#VALUE!"}},{"$f":"IF(データ入力シート２回目!L35=\"\",\"\",データ入力シート２回目!L35)+IF(データ入力シート２回目!L36=\"\",\"\",データ入力シート２回目!L36)+IF(データ入力シート２回目!L37=\"\",\"\",データ入力シート２回目!L37)","v":{"$error":"#VALUE!"}},{"$f":"IF(データ入力シート２回目!M35=\"\",\"\",データ入力シート２回目!M35)+IF(データ入力シート２回目!M36=\"\",\"\",データ入力シート２回目!M36)+IF(データ入力シート２回目!M37=\"\",\"\",データ入力シート２回目!M37)","v":{"$error":"#VALUE!"}},{"$f":"IF(データ入力シート２回目!N35=\"\",\"\",データ入力シート２回目!N35)+IF(データ入力シート２回目!N36=\"\",\"\",データ入力シート２回目!N36)+IF(データ入力シート２回目!N37=\"\",\"\",データ入力シート２回目!N37)","v":{"$error":"#VALUE!"}},{"$f":"IF(データ入力シート２回目!O35=\"\",\"\",データ入力シート２回目!O35)+IF(データ入力シート２回目!O36=\"\",\"\",データ入力シート２回目!O36)+IF(データ入力シート２回目!O37=\"\",\"\",データ入力シート２回目!O37)","v":{"$error":"#VALUE!"}},{"$f":"IF(データ入力シート２回目!P35=\"\",\"\",データ入力シート２回目!P35)+IF(データ入力シート２回目!P36=\"\",\"\",データ入力シート２回目!P36)+IF(データ入力シート２回目!P37=\"\",\"\",データ入力シート２回目!P37)","v":{"$error":"#VALUE!"}},{"$f":"IF(データ入力シート２回目!Q35=\"\",\"\",データ入力シート２回目!Q35)+IF(データ入力シート２回目!Q36=\"\",\"\",データ入力シート２回目!Q36)+IF(データ入力シート２回目!Q37=\"\",\"\",データ入力シート２回目!Q37)","v":{"$error":"#VALUE!"}},{"$f":"IF(データ入力シート２回目!R35=\"\",\"\",データ入力シート２回目!R35)+IF(データ入力シート２回目!R36=\"\",\"\",データ入力シート２回目!R36)+IF(データ入力シート２回目!R37=\"\",\"\",データ入力シート２回目!R37)","v":{"$error":"#VALUE!"}},{"$f":"IF(データ入力シート２回目!S35=\"\",\"\",データ入力シート２回目!S35)+IF(データ入力シート２回目!S36=\"\",\"\",データ入力シート２回目!S36)+IF(データ入力シート２回目!S37=\"\",\"\",データ入力シート２回目!S37)","v":{"$error":"#VALUE!"}},{"$f":"IF(データ入力シート２回目!T35=\"\",\"\",データ入力シート２回目!T35)+IF(データ入力シート２回目!T36=\"\",\"\",データ入力シート２回目!T36)+IF(データ入力シート２回目!T37=\"\",\"\",データ入力シート２回目!T37)","v":{"$error":"#VALUE!"}},{"$f":"IF(データ入力シート２回目!U35=\"\",\"\",データ入力シート２回目!U35)+IF(データ入力シート２回目!U36=\"\",\"\",データ入力シート２回目!U36)+IF(データ入力シート２回目!U37=\"\",\"\",データ入力シート２回目!U37)","v":{"$error":"#VALUE!"}},{"$f":"IF(データ入力シート２回目!V35=\"\",\"\",データ入力シート２回目!V35)+IF(データ入力シート２回目!V36=\"\",\"\",データ入力シート２回目!V36)+IF(データ入力シート２回目!V37=\"\",\"\",データ入力シート２回目!V37)","v":{"$error":"#VALUE!"}},{"$f":"IF(データ入力シート２回目!W35=\"\",\"\",データ入力シート２回目!W35)+IF(データ入力シート２回目!W36=\"\",\"\",データ入力シート２回目!W36)+IF(データ入力シート２回目!W37=\"\",\"\",データ入力シート２回目!W37)","v":{"$error":"#VALUE!"}},{"$f":"IF(データ入力シート２回目!X35=\"\",\"\",データ入力シート２回目!X35)+IF(データ入力シート２回目!X36=\"\",\"\",データ入力シート２回目!X36)+IF(データ入力シート２回目!X37=\"\",\"\",データ入力シート２回目!X37)","v":{"$error":"#VALUE!"}},{"$f":"IF(データ入力シート２回目!Y35=\"\",\"\",データ入力シート２回目!Y35)+IF(データ入力シート２回目!Y36=\"\",\"\",データ入力シート２回目!Y36)+IF(データ入力シート２回目!Y37=\"\",\"\",データ入力シート２回目!Y37)","v":{"$error":"#VALUE!"}},{"$f":"IF(データ入力シート２回目!Z35=\"\",\"\",データ入力シート２回目!Z35)+IF(データ入力シート２回目!Z36=\"\",\"\",データ入力シート２回目!Z36)+IF(データ入力シート２回目!Z37=\"\",\"\",データ入力シート２回目!Z37)","v":{"$error":"#VALUE!"}},{"$f":"IF(データ入力シート２回目!AA35=\"\",\"\",データ入力シート２回目!AA35)+IF(データ入力シート２回目!AA36=\"\",\"\",データ入力シート２回目!AA36)+IF(データ入力シート２回目!AA37=\"\",\"\",データ入力シート２回目!AA37)","v":{"$error":"#VALUE!"}},{"$f":"IF(データ入力シート２回目!AB35=\"\",\"\",データ入力シート２回目!AB35)+IF(データ入力シート２回目!AB36=\"\",\"\",データ入力シート２回目!AB36)+IF(データ入力シート２回目!AB37=\"\",\"\",データ入力シート２回目!AB37)","v":{"$error":"#VALUE!"}},{"$f":"IF(データ入力シート２回目!AC35=\"\",\"\",データ入力シート２回目!AC35)+IF(データ入力シート２回目!AC36=\"\",\"\",データ入力シート２回目!AC36)+IF(データ入力シート２回目!AC37=\"\",\"\",データ入力シート２回目!AC37)","v":{"$error":"#VALUE!"}},{"$f":"IF(データ入力シート２回目!AD35=\"\",\"\",データ入力シート２回目!AD35)+IF(データ入力シート２回目!AD36=\"\",\"\",データ入力シート２回目!AD36)+IF(データ入力シート２回目!AD37=\"\",\"\",データ入力シート２回目!AD37)","v":{"$error":"#VALUE!"}},{"$f":"IF(データ入力シート２回目!AE35=\"\",\"\",データ入力シート２回目!AE35)+IF(データ入力シート２回目!AE36=\"\",\"\",データ入力シート２回目!AE36)+IF(データ入力シート２回目!AE37=\"\",\"\",データ入力シート２回目!AE37)","v":{"$error":"#VALUE!"}},{"$f":"IF(データ入力シート２回目!AF35=\"\",\"\",データ入力シート２回目!AF35)+IF(データ入力シート２回目!AF36=\"\",\"\",データ入力シート２回目!AF36)+IF(データ入力シート２回目!AF37=\"\",\"\",データ入力シート２回目!AF37)","v":{"$error":"#VALUE!"}},{"$f":"IF(データ入力シート２回目!AG35=\"\",\"\",データ入力シート２回目!AG35)+IF(データ入力シート２回目!AG36=\"\",\"\",データ入力シート２回目!AG36)+IF(データ入力シート２回目!AG37=\"\",\"\",データ入力シート２回目!AG37)","v":{"$error":"#VALUE!"}},{"$f":"IF(データ入力シート２回目!AH35=\"\",\"\",データ入力シート２回目!AH35)+IF(データ入力シート２回目!AH36=\"\",\"\",データ入力シート２回目!AH36)+IF(データ入力シート２回目!AH37=\"\",\"\",データ入力シート２回目!AH37)","v":{"$error":"#VALUE!"}},{"$f":"IF(データ入力シート２回目!AI35=\"\",\"\",データ入力シート２回目!AI35)+IF(データ入力シート２回目!AI36=\"\",\"\",データ入力シート２回目!AI36)+IF(データ入力シート２回目!AI37=\"\",\"\",データ入力シート２回目!AI37)","v":{"$error":"#VALUE!"}},{"$f":"IF(データ入力シート２回目!AJ35=\"\",\"\",データ入力シート２回目!AJ35)+IF(データ入力シート２回目!AJ36=\"\",\"\",データ入力シート２回目!AJ36)+IF(データ入力シート２回目!AJ37=\"\",\"\",データ入力シート２回目!AJ37)","v":{"$error":"#VALUE!"}},{"$f":"IF(データ入力シート２回目!AK35=\"\",\"\",データ入力シート２回目!AK35)+IF(データ入力シート２回目!AK36=\"\",\"\",データ入力シート２回目!AK36)+IF(データ入力シート２回目!AK37=\"\",\"\",データ入力シート２回目!AK37)","v":{"$error":"#VALUE!"}},{"$f":"IF(データ入力シート２回目!AL35=\"\",\"\",データ入力シート２回目!AL35)+IF(データ入力シート２回目!AL36=\"\",\"\",データ入力シート２回目!AL36)+IF(データ入力シート２回目!AL37=\"\",\"\",データ入力シート２回目!AL37)","v":{"$error":"#VALUE!"}},{"$f":"IF(データ入力シート２回目!AM35=\"\",\"\",データ入力シート２回目!AM35)+IF(データ入力シート２回目!AM36=\"\",\"\",データ入力シート２回目!AM36)+IF(データ入力シート２回目!AM37=\"\",\"\",データ入力シート２回目!AM37)","v":{"$error":"#VALUE!"}},{"$f":"IF(データ入力シート２回目!AN35=\"\",\"\",データ入力シート２回目!AN35)+IF(データ入力シート２回目!AN36=\"\",\"\",データ入力シート２回目!AN36)+IF(データ入力シート２回目!AN37=\"\",\"\",データ入力シート２回目!AN37)","v":{"$error":"#VALUE!"}},{"$f":"IF(データ入力シート２回目!AO35=\"\",\"\",データ入力シート２回目!AO35)+IF(データ入力シート２回目!AO36=\"\",\"\",データ入力シート２回目!AO36)+IF(データ入力シート２回目!AO37=\"\",\"\",データ入力シート２回目!AO37)","v":{"$error":"#VALUE!"}},{"$f":"IF(データ入力シート２回目!AP35=\"\",\"\",データ入力シート２回目!AP35)+IF(データ入力シート２回目!AP36=\"\",\"\",データ入力シート２回目!AP36)+IF(データ入力シート２回目!AP37=\"\",\"\",データ入力シート２回目!AP37)","v":{"$error":"#VALUE!"}},{"$f":"IF(データ入力シート２回目!AQ35=\"\",\"\",データ入力シート２回目!AQ35)+IF(データ入力シート２回目!AQ36=\"\",\"\",データ入力シート２回目!AQ36)+IF(データ入力シート２回目!AQ37=\"\",\"\",データ入力シート２回目!AQ37)","v":{"$error":"#VALUE!"}},{"$f":"IF(データ入力シート２回目!AR35=\"\",\"\",データ入力シート２回目!AR35)+IF(データ入力シート２回目!AR36=\"\",\"\",データ入力シート２回目!AR36)+IF(データ入力シート２回目!AR37=\"\",\"\",データ入力シート２回目!AR37)","v":{"$error":"#VALUE!"}},{"$f":"IF(データ入力シート２回目!AS35=\"\",\"\",データ入力シート２回目!AS35)+IF(データ入力シート２回目!AS36=\"\",\"\",データ入力シート２回目!AS36)+IF(データ入力シート２回目!AS37=\"\",\"\",データ入力シート２回目!AS37)","v":{"$error":"#VALUE!"}},{"$f":"IF(データ入力シート２回目!AT35=\"\",\"\",データ入力シート２回目!AT35)+IF(データ入力シート２回目!AT36=\"\",\"\",データ入力シート２回目!AT36)+IF(データ入力シート２回目!AT37=\"\",\"\",データ入力シート２回目!AT37)","v":{"$error":"#VALUE!"}},{"$f":"IF(データ入力シート２回目!AU35=\"\",\"\",データ入力シート２回目!AU35)+IF(データ入力シート２回目!AU36=\"\",\"\",データ入力シート２回目!AU36)+IF(データ入力シート２回目!AU37=\"\",\"\",データ入力シート２回目!AU37)","v":{"$error":"#VALUE!"}},{"$f":"IF(データ入力シート２回目!AV35=\"\",\"\",データ入力シート２回目!AV35)+IF(データ入力シート２回目!AV36=\"\",\"\",データ入力シート２回目!AV36)+IF(データ入力シート２回目!AV37=\"\",\"\",データ入力シート２回目!AV37)","v":{"$error":"#VALUE!"}},{"$f":"IF(データ入力シート２回目!AW35=\"\",\"\",データ入力シート２回目!AW35)+IF(データ入力シート２回目!AW36=\"\",\"\",データ入力シート２回目!AW36)+IF(データ入力シート２回目!AW37=\"\",\"\",データ入力シート２回目!AW37)","v":{"$error":"#VALUE!"}},{"$f":"IF(データ入力シート２回目!AX35=\"\",\"\",データ入力シート２回目!AX35)+IF(データ入力シート２回目!AX36=\"\",\"\",データ入力シート２回目!AX36)+IF(データ入力シート２回目!AX37=\"\",\"\",データ入力シート２回目!AX37)","v":{"$error":"#VALUE!"}},{"$f":"IF(データ入力シート２回目!AY35=\"\",\"\",データ入力シート２回目!AY35)+IF(データ入力シート２回目!AY36=\"\",\"\",データ入力シート２回目!AY36)+IF(データ入力シート２回目!AY37=\"\",\"\",データ入力シート２回目!AY37)","v":{"$error":"#VALUE!"}},{"$f":"IF(データ入力シート２回目!AZ35=\"\",\"\",データ入力シート２回目!AZ35)+IF(データ入力シート２回目!AZ36=\"\",\"\",データ入力シート２回目!AZ36)+IF(データ入力シート２回目!AZ37=\"\",\"\",データ入力シート２回目!AZ37)","v":{"$error":"#VALUE!"}},{"$f":"IF(データ入力シート２回目!BA35=\"\",\"\",データ入力シート２回目!BA35)+IF(データ入力シート２回目!BA36=\"\",\"\",データ入力シート２回目!BA36)+IF(データ入力シート２回目!BA37=\"\",\"\",データ入力シート２回目!BA37)","v":{"$error":"#VALUE!"}},{"$f":"IF(データ入力シート２回目!BB35=\"\",\"\",データ入力シート２回目!BB35)+IF(データ入力シート２回目!BB36=\"\",\"\",データ入力シート２回目!BB36)+IF(データ入力シート２回目!BB37=\"\",\"\",データ入力シート２回目!BB37)","v":{"$error":"#VALUE!"}},{"$f":"IF(データ入力シート２回目!BC35=\"\",\"\",データ入力シート２回目!BC35)+IF(データ入力シート２回目!BC36=\"\",\"\",データ入力シート２回目!BC36)+IF(データ入力シート２回目!BC37=\"\",\"\",データ入力シート２回目!BC37)","v":{"$error":"#VALUE!"}},{"$f":"IF(データ入力シート２回目!BD35=\"\",\"\",データ入力シート２回目!BD35)+IF(データ入力シート２回目!BD36=\"\",\"\",データ入力シート２回目!BD36)+IF(データ入力シート２回目!BD37=\"\",\"\",データ入力シート２回目!BD37)","v":{"$error":"#VALUE!"}},{"$f":"IF(データ入力シート２回目!BE35=\"\",\"\",データ入力シート２回目!BE35)+IF(データ入力シート２回目!BE36=\"\",\"\",データ入力シート２回目!BE36)+IF(データ入力シート２回目!BE37=\"\",\"\",データ入力シート２回目!BE37)","v":{"$error":"#VALUE!"}},{"$f":"IF(データ入力シート２回目!BF35=\"\",\"\",データ入力シート２回目!BF35)+IF(データ入力シート２回目!BF36=\"\",\"\",データ入力シート２回目!BF36)+IF(データ入力シート２回目!BF37=\"\",\"\",データ入力シート２回目!BF37)","v":{"$error":"#VALUE!"}},{"$f":"IF(データ入力シート２回目!BG35=\"\",\"\",データ入力シート２回目!BG35)+IF(データ入力シート２回目!BG36=\"\",\"\",データ入力シート２回目!BG36)+IF(データ入力シート２回目!BG37=\"\",\"\",データ入力シート２回目!BG37)","v":{"$error":"#VALUE!"}},{"$f":"IF(データ入力シート２回目!BH35=\"\",\"\",データ入力シート２回目!BH35)+IF(データ入力シート２回目!BH36=\"\",\"\",データ入力シート２回目!BH36)+IF(データ入力シート２回目!BH37=\"\",\"\",データ入力シート２回目!BH37)","v":{"$error":"#VALUE!"}},{"$f":"IF(データ入力シート２回目!BI35=\"\",\"\",データ入力シート２回目!BI35)+IF(データ入力シート２回目!BI36=\"\",\"\",データ入力シート２回目!BI36)+IF(データ入力シート２回目!BI37=\"\",\"\",データ入力シート２回目!BI37)","v":{"$error":"#VALUE!"}},{"$f":"IF(データ入力シート２回目!BJ35=\"\",\"\",データ入力シート２回目!BJ35)+IF(データ入力シート２回目!BJ36=\"\",\"\",データ入力シート２回目!BJ36)+IF(データ入力シート２回目!BJ37=\"\",\"\",データ入力シート２回目!BJ37)","v":{"$error":"#VALUE!"}},{"$f":"IF(データ入力シート２回目!BK35=\"\",\"\",データ入力シート２回目!BK35)+IF(データ入力シート２回目!BK36=\"\",\"\",データ入力シート２回目!BK36)+IF(データ入力シート２回目!BK37=\"\",\"\",データ入力シート２回目!BK37)","v":{"$error":"#VALUE!"}},{"$f":"IF(データ入力シート２回目!BL35=\"\",\"\",データ入力シート２回目!BL35)+IF(データ入力シート２回目!BL36=\"\",\"\",データ入力シート２回目!BL36)+IF(データ入力シート２回目!BL37=\"\",\"\",データ入力シート２回目!BL37)","v":{"$error":"#VALUE!"}},{"$f":"IF(データ入力シート２回目!BM35=\"\",\"\",データ入力シート２回目!BM35)+IF(データ入力シート２回目!BM36=\"\",\"\",データ入力シート２回目!BM36)+IF(データ入力シート２回目!BM37=\"\",\"\",データ入力シート２回目!BM37)","v":{"$error":"#VALUE!"}},{"$f":"IF(データ入力シート２回目!BN35=\"\",\"\",データ入力シート２回目!BN35)+IF(データ入力シート２回目!BN36=\"\",\"\",データ入力シート２回目!BN36)+IF(データ入力シート２回目!BN37=\"\",\"\",データ入力シート２回目!BN37)","v":{"$error":"#VALUE!"}},{"$f":"IF(データ入力シート２回目!BO35=\"\",\"\",データ入力シート２回目!BO35)+IF(データ入力シート２回目!BO36=\"\",\"\",データ入力シート２回目!BO36)+IF(データ入力シート２回目!BO37=\"\",\"\",データ入力シート２回目!BO37)","v":{"$error":"#VALUE!"}},{"$f":"IF(データ入力シート２回目!BP35=\"\",\"\",データ入力シート２回目!BP35)+IF(データ入力シート２回目!BP36=\"\",\"\",データ入力シート２回目!BP36)+IF(データ入力シート２回目!BP37=\"\",\"\",データ入力シート２回目!BP37)","v":{"$error":"#VALUE!"}},{"$f":"IF(データ入力シート２回目!BQ35=\"\",\"\",データ入力シート２回目!BQ35)+IF(データ入力シート２回目!BQ36=\"\",\"\",データ入力シート２回目!BQ36)+IF(データ入力シート２回目!BQ37=\"\",\"\",データ入力シート２回目!BQ37)","v":{"$error":"#VALUE!"}},{"$f":"IF(データ入力シート２回目!BR35=\"\",\"\",データ入力シート２回目!BR35)+IF(データ入力シート２回目!BR36=\"\",\"\",データ入力シート２回目!BR36)+IF(データ入力シート２回目!BR37=\"\",\"\",データ入力シート２回目!BR37)","v":{"$error":"#VALUE!"}},{"$f":"IF(データ入力シート２回目!BS35=\"\",\"\",データ入力シート２回目!BS35)+IF(データ入力シート２回目!BS36=\"\",\"\",データ入力シート２回目!BS36)+IF(データ入力シート２回目!BS37=\"\",\"\",データ入力シート２回目!BS37)","v":{"$error":"#VALUE!"}},{"$f":"IF(データ入力シート２回目!BT35=\"\",\"\",データ入力シート２回目!BT35)+IF(データ入力シート２回目!BT36=\"\",\"\",データ入力シート２回目!BT36)+IF(データ入力シート２回目!BT37=\"\",\"\",データ入力シート２回目!BT37)","v":{"$error":"#VALUE!"}},{"$f":"IF(データ入力シート２回目!BU35=\"\",\"\",データ入力シート２回目!BU35)+IF(データ入力シート２回目!BU36=\"\",\"\",データ入力シート２回目!BU36)+IF(データ入力シート２回目!BU37=\"\",\"\",データ入力シート２回目!BU37)","v":{"$error":"#VALUE!"}},{"$f":"IF(データ入力シート２回目!BV35=\"\",\"\",データ入力シート２回目!BV35)+IF(データ入力シート２回目!BV36=\"\",\"\",データ入力シート２回目!BV36)+IF(データ入力シート２回目!BV37=\"\",\"\",データ入力シート２回目!BV37)","v":{"$error":"#VALUE!"}},{"$f":"IF(データ入力シート２回目!BW35=\"\",\"\",データ入力シート２回目!BW35)+IF(データ入力シート２回目!BW36=\"\",\"\",データ入力シート２回目!BW36)+IF(データ入力シート２回目!BW37=\"\",\"\",データ入力シート２回目!BW37)","v":{"$error":"#VALUE!"}},{"$f":"IF(データ入力シート２回目!BX35=\"\",\"\",データ入力シート２回目!BX35)+IF(データ入力シート２回目!BX36=\"\",\"\",データ入力シート２回目!BX36)+IF(データ入力シート２回目!BX37=\"\",\"\",データ入力シート２回目!BX37)","v":{"$error":"#VALUE!"}},{"$f":"IF(データ入力シート２回目!BY35=\"\",\"\",データ入力シート２回目!BY35)+IF(データ入力シート２回目!BY36=\"\",\"\",データ入力シート２回目!BY36)+IF(データ入力シート２回目!BY37=\"\",\"\",データ入力シート２回目!BY37)","v":{"$error":"#VALUE!"}},{"$f":"IF(データ入力シート２回目!BZ35=\"\",\"\",データ入力シート２回目!BZ35)+IF(データ入力シート２回目!BZ36=\"\",\"\",データ入力シート２回目!BZ36)+IF(データ入力シート２回目!BZ37=\"\",\"\",データ入力シート２回目!BZ37)","v":{"$error":"#VALUE!"}},{"$f":"IF(データ入力シート２回目!CA35=\"\",\"\",データ入力シート２回目!CA35)+IF(データ入力シート２回目!CA36=\"\",\"\",データ入力シート２回目!CA36)+IF(データ入力シート２回目!CA37=\"\",\"\",データ入力シート２回目!CA37)","v":{"$error":"#VALUE!"}},{"$f":"IF(データ入力シート２回目!CB35=\"\",\"\",データ入力シート２回目!CB35)+IF(データ入力シート２回目!CB36=\"\",\"\",データ入力シート２回目!CB36)+IF(データ入力シート２回目!CB37=\"\",\"\",データ入力シート２回目!CB37)","v":{"$error":"#VALUE!"}},{"$f":"IF(データ入力シート２回目!CC35=\"\",\"\",データ入力シート２回目!CC35)+IF(データ入力シート２回目!CC36=\"\",\"\",データ入力シート２回目!CC36)+IF(データ入力シート２回目!CC37=\"\",\"\",データ入力シート２回目!CC37)","v":{"$error":"#VALUE!"}},{"$f":"IF(データ入力シート２回目!CD35=\"\",\"\",データ入力シート２回目!CD35)+IF(データ入力シート２回目!CD36=\"\",\"\",データ入力シート２回目!CD36)+IF(データ入力シート２回目!CD37=\"\",\"\",データ入力シート２回目!CD37)","v":{"$error":"#VALUE!"}},{"$f":"IF(データ入力シート２回目!CE35=\"\",\"\",データ入力シート２回目!CE35)+IF(データ入力シート２回目!CE36=\"\",\"\",データ入力シート２回目!CE36)+IF(データ入力シート２回目!CE37=\"\",\"\",データ入力シート２回目!CE37)","v":{"$error":"#VALUE!"}},{"$f":"IF(データ入力シート２回目!CF35=\"\",\"\",データ入力シート２回目!CF35)+IF(データ入力シート２回目!CF36=\"\",\"\",データ入力シート２回目!CF36)+IF(データ入力シート２回目!CF37=\"\",\"\",データ入力シート２回目!CF37)","v":{"$error":"#VALUE!"}},{"$f":"IF(データ入力シート２回目!CG35=\"\",\"\",データ入力シート２回目!CG35)+IF(データ入力シート２回目!CG36=\"\",\"\",データ入力シート２回目!CG36)+IF(データ入力シート２回目!CG37=\"\",\"\",データ入力シート２回目!CG37)","v":{"$error":"#VALUE!"}},{"$f":"IF(データ入力シート２回目!CH35=\"\",\"\",データ入力シート２回目!CH35)+IF(データ入力シート２回目!CH36=\"\",\"\",データ入力シート２回目!CH36)+IF(データ入力シート２回目!CH37=\"\",\"\",データ入力シート２回目!CH37)","v":{"$error":"#VALUE!"}},{"$f":"IF(データ入力シート２回目!CI35=\"\",\"\",データ入力シート２回目!CI35)+IF(データ入力シート２回目!CI36=\"\",\"\",データ入力シート２回目!CI36)+IF(データ入力シート２回目!CI37=\"\",\"\",データ入力シート２回目!CI37)","v":{"$error":"#VALUE!"}},{"$f":"IF(データ入力シート２回目!CJ35=\"\",\"\",データ入力シート２回目!CJ35)+IF(データ入力シート２回目!CJ36=\"\",\"\",データ入力シート２回目!CJ36)+IF(データ入力シート２回目!CJ37=\"\",\"\",データ入力シート２回目!CJ37)","v":{"$error":"#VALUE!"}},{"$f":"IF(データ入力シート２回目!CK35=\"\",\"\",データ入力シート２回目!CK35)+IF(データ入力シート２回目!CK36=\"\",\"\",データ入力シート２回目!CK36)+IF(データ入力シート２回目!CK37=\"\",\"\",データ入力シート２回目!CK37)","v":{"$error":"#VALUE!"}},{"$f":"IF(データ入力シート２回目!CL35=\"\",\"\",データ入力シート２回目!CL35)+IF(データ入力シート２回目!CL36=\"\",\"\",データ入力シート２回目!CL36)+IF(データ入力シート２回目!CL37=\"\",\"\",データ入力シート２回目!CL37)","v":{"$error":"#VALUE!"}},{"$f":"IF(データ入力シート２回目!CM35=\"\",\"\",データ入力シート２回目!CM35)+IF(データ入力シート２回目!CM36=\"\",\"\",データ入力シート２回目!CM36)+IF(データ入力シート２回目!CM37=\"\",\"\",データ入力シート２回目!CM37)","v":{"$error":"#VALUE!"}},{"$f":"IF(データ入力シート２回目!CN35=\"\",\"\",データ入力シート２回目!CN35)+IF(データ入力シート２回目!CN36=\"\",\"\",データ入力シート２回目!CN36)+IF(データ入力シート２回目!CN37=\"\",\"\",データ入力シート２回目!CN37)","v":{"$error":"#VALUE!"}},{"$f":"IF(データ入力シート２回目!CO35=\"\",\"\",データ入力シート２回目!CO35)+IF(データ入力シート２回目!CO36=\"\",\"\",データ入力シート２回目!CO36)+IF(データ入力シート２回目!CO37=\"\",\"\",データ入力シート２回目!CO37)","v":{"$error":"#VALUE!"}},{"$f":"IF(データ入力シート２回目!CP35=\"\",\"\",データ入力シート２回目!CP35)+IF(データ入力シート２回目!CP36=\"\",\"\",データ入力シート２回目!CP36)+IF(データ入力シート２回目!CP37=\"\",\"\",データ入力シート２回目!CP37)","v":{"$error":"#VALUE!"}},{"$f":"IF(データ入力シート２回目!CQ35=\"\",\"\",データ入力シート２回目!CQ35)+IF(データ入力シート２回目!CQ36=\"\",\"\",データ入力シート２回目!CQ36)+IF(データ入力シート２回目!CQ37=\"\",\"\",データ入力シート２回目!CQ37)","v":{"$error":"#VALUE!"}},{"$f":"IF(データ入力シート２回目!CR35=\"\",\"\",データ入力シート２回目!CR35)+IF(データ入力シート２回目!CR36=\"\",\"\",データ入力シート２回目!CR36)+IF(データ入力シート２回目!CR37=\"\",\"\",データ入力シート２回目!CR37)","v":{"$error":"#VALUE!"}},{"$f":"IF(データ入力シート２回目!CS35=\"\",\"\",データ入力シート２回目!CS35)+IF(データ入力シート２回目!CS36=\"\",\"\",データ入力シート２回目!CS36)+IF(データ入力シート２回目!CS37=\"\",\"\",データ入力シート２回目!CS37)","v":{"$error":"#VALUE!"}},{"$f":"IF(データ入力シート２回目!CT35=\"\",\"\",データ入力シート２回目!CT35)+IF(データ入力シート２回目!CT36=\"\",\"\",データ入力シート２回目!CT36)+IF(データ入力シート２回目!CT37=\"\",\"\",データ入力シート２回目!CT37)","v":{"$error":"#VALUE!"}},{"$f":"IF(データ入力シート２回目!CU35=\"\",\"\",データ入力シート２回目!CU35)+IF(データ入力シート２回目!CU36=\"\",\"\",データ入力シート２回目!CU36)+IF(データ入力シート２回目!CU37=\"\",\"\",データ入力シート２回目!CU37)","v":{"$error":"#VALUE!"}},{"$f":"IF(データ入力シート２回目!CV35=\"\",\"\",データ入力シート２回目!CV35)+IF(データ入力シート２回目!CV36=\"\",\"\",データ入力シート２回目!CV36)+IF(データ入力シート２回目!CV37=\"\",\"\",データ入力シート２回目!CV37)","v":{"$error":"#VALUE!"}},{"$f":"IF(データ入力シート２回目!CW35=\"\",\"\",データ入力シート２回目!CW35)+IF(データ入力シート２回目!CW36=\"\",\"\",データ入力シート２回目!CW36)+IF(データ入力シート２回目!CW37=\"\",\"\",データ入力シート２回目!CW37)","v":{"$error":"#VALUE!"}},{"$f":"IF(データ入力シート２回目!CX35=\"\",\"\",データ入力シート２回目!CX35)+IF(データ入力シート２回目!CX36=\"\",\"\",データ入力シート２回目!CX36)+IF(データ入力シート２回目!CX37=\"\",\"\",データ入力シート２回目!CX37)","v":{"$error":"#VALUE!"}},{"$f":"IF(データ入力シート２回目!CY35=\"\",\"\",データ入力シート２回目!CY35)+IF(データ入力シート２回目!CY36=\"\",\"\",データ入力シート２回目!CY36)+IF(データ入力シート２回目!CY37=\"\",\"\",データ入力シート２回目!CY37)","v":{"$error":"#VALUE!"}},{"$f":"IF(データ入力シート２回目!CZ35=\"\",\"\",データ入力シート２回目!CZ35)+IF(データ入力シート２回目!CZ36=\"\",\"\",データ入力シート２回目!CZ36)+IF(データ入力シート２回目!CZ37=\"\",\"\",データ入力シート２回目!CZ37)","v":{"$error":"#VALUE!"}}]
[null,"C",{"$f":"IF(データ入力シート２回目!E38=\"\",\"\",データ入力シート２回目!E38)+IF(データ入力シート２回目!E39=\"\",\"\",データ入力シート２回目!E39)+IF(データ入力シート２回目!E40=\"\",\"\",データ入力シート２回目!E40)","v":{"$error":"#VALUE!"}},{"$f":"IF(データ入力シート２回目!F38=\"\",\"\",データ入力シート２回目!F38)+IF(データ入力シート２回目!F39=\"\",\"\",データ入力シート２回目!F39)+IF(データ入力シート２回目!F40=\"\",\"\",データ入力シート２回目!F40)","v":{"$error":"#VALUE!"}},{"$f":"IF(データ入力シート２回目!G38=\"\",\"\",データ入力シート２回目!G38)+IF(データ入力シート２回目!G39=\"\",\"\",データ入力シート２回目!G39)+IF(データ入力シート２回目!G40=\"\",\"\",データ入力シート２回目!G40)","v":{"$error":"#VALUE!"}},{"$f":"IF(データ入力シート２回目!H38=\"\",\"\",データ入力シート２回目!H38)+IF(データ入力シート２回目!H39=\"\",\"\",データ入力シート２回目!H39)+IF(データ入力シート２回目!H40=\"\",\"\",データ入力シート２回目!H40)","v":{"$error":"#VALUE!"}},{"$f":"IF(データ入力シート２回目!I38=\"\",\"\",データ入力シート２回目!I38)+IF(データ入力シート２回目!I39=\"\",\"\",データ入力シート２回目!I39)+IF(データ入力シート２回目!I40=\"\",\"\",データ入力シート２回目!I40)","v":{"$error":"#VALUE!"}},{"$f":"IF(データ入力シート２回目!J38=\"\",\"\",データ入力シート２回目!J38)+IF(データ入力シート２回目!J39=\"\",\"\",データ入力シート２回目!J39)+IF(データ入力シート２回目!J40=\"\",\"\",データ入力シート２回目!J40)","v":{"$error":"#VALUE!"}},{"$f":"IF(データ入力シート２回目!K38=\"\",\"\",データ入力シート２回目!K38)+IF(データ入力シート２回目!K39=\"\",\"\",データ入力シート２回目!K39)+IF(データ入力シート２回目!K40=\"\",\"\",データ入力シート２回目!K40)","v":{"$error":"#VALUE!"}},{"$f":"IF(データ入力シート２回目!L38=\"\",\"\",データ入力シート２回目!L38)+IF(データ入力シート２回目!L39=\"\",\"\",データ入力シート２回目!L39)+IF(データ入力シート２回目!L40=\"\",\"\",データ入力シート２回目!L40)","v":{"$error":"#VALUE!"}},{"$f":"IF(データ入力シート２回目!M38=\"\",\"\",データ入力シート２回目!M38)+IF(データ入力シート２回目!M39=\"\",\"\",データ入力シート２回目!M39)+IF(データ入力シート２回目!M40=\"\",\"\",データ入力シート２回目!M40)","v":{"$error":"#VALUE!"}},{"$f":"IF(データ入力シート２回目!N38=\"\",\"\",データ入力シート２回目!N38)+IF(データ入力シート２回目!N39=\"\",\"\",データ入力シート２回目!N39)+IF(データ入力シート２回目!N40=\"\",\"\",データ入力シート２回目!N40)","v":{"$error":"#VALUE!"}},{"$f":"IF(データ入力シート２回目!O38=\"\",\"\",データ入力シート２回目!O38)+IF(データ入力シート２回目!O39=\"\",\"\",データ入力シート２回目!O39)+IF(データ入力シート２回目!O40=\"\",\"\",データ入力シート２回目!O40)","v":{"$error":"#VALUE!"}},{"$f":"IF(データ入力シート２回目!P38=\"\",\"\",データ入力シート２回目!P38)+IF(データ入力シート２回目!P39=\"\",\"\",データ入力シート２回目!P39)+IF(データ入力シート２回目!P40=\"\",\"\",データ入力シート２回目!P40)","v":{"$error":"#VALUE!"}},{"$f":"IF(データ入力シート２回目!Q38=\"\",\"\",データ入力シート２回目!Q38)+IF(データ入力シート２回目!Q39=\"\",\"\",データ入力シート２回目!Q39)+IF(データ入力シート２回目!Q40=\"\",\"\",データ入力シート２回目!Q40)","v":{"$error":"#VALUE!"}},{"$f":"IF(データ入力シート２回目!R38=\"\",\"\",データ入力シート２回目!R38)+IF(データ入力シート２回目!R39=\"\",\"\",データ入力シート２回目!R39)+IF(データ入力シート２回目!R40=\"\",\"\",データ入力シート２回目!R40)","v":{"$error":"#VALUE!"}},{"$f":"IF(データ入力シート２回目!S38=\"\",\"\",データ入力シート２回目!S38)+IF(データ入力シート２回目!S39=\"\",\"\",データ入力シート２回目!S39)+IF(データ入力シート２回目!S40=\"\",\"\",データ入力シート２回目!S40)","v":{"$error":"#VALUE!"}},{"$f":"IF(データ入力シート２回目!T38=\"\",\"\",データ入力シート２回目!T38)+IF(データ入力シート２回目!T39=\"\",\"\",データ入力シート２回目!T39)+IF(データ入力シート２回目!T40=\"\",\"\",データ入力シート２回目!T40)","v":{"$error":"#VALUE!"}},{"$f":"IF(データ入力シート２回目!U38=\"\",\"\",データ入力シート２回目!U38)+IF(データ入力シート２回目!U39=\"\",\"\",データ入力シート２回目!U39)+IF(データ入力シート２回目!U40=\"\",\"\",データ入力シート２回目!U40)","v":{"$error":"#VALUE!"}},{"$f":"IF(データ入力シート２回目!V38=\"\",\"\",データ入力シート２回目!V38)+IF(データ入力シート２回目!V39=\"\",\"\",データ入力シート２回目!V39)+IF(データ入力シート２回目!V40=\"\",\"\",データ入力シート２回目!V40)","v":{"$error":"#VALUE!"}},{"$f":"IF(データ入力シート２回目!W38=\"\",\"\",データ入力シート２回目!W38)+IF(データ入力シート２回目!W39=\"\",\"\",データ入力シート２回目!W39)+IF(データ入力シート２回目!W40=\"\",\"\",データ入力シート２回目!W40)","v":{"$error":"#VALUE!"}},{"$f":"IF(データ入力シート２回目!X38=\"\",\"\",データ入力シート２回目!X38)+IF(データ入力シート２回目!X39=\"\",\"\",データ入力シート２回目!X39)+IF(データ入力シート２回目!X40=\"\",\"\",データ入力シート２回目!X40)","v":{"$error":"#VALUE!"}},{"$f":"IF(データ入力シート２回目!Y38=\"\",\"\",データ入力シート２回目!Y38)+IF(データ入力シート２回目!Y39=\"\",\"\",データ入力シート２回目!Y39)+IF(データ入力シート２回目!Y40=\"\",\"\",データ入力シート２回目!Y40)","v":{"$error":"#VALUE!"}},{"$f":"IF(データ入力シート２回目!Z38=\"\",\"\",データ入力シート２回目!Z38)+IF(データ入力シート２回目!Z39=\"\",\"\",データ入力シート２回目!Z39)+IF(データ入力シート２回目!Z40=\"\",\"\",データ入力シート２回目!Z40)","v":{"$error":"#VALUE!"}},{"$f":"IF(データ入力シート２回目!AA38=\"\",\"\",データ入力シート２回目!AA38)+IF(データ入力シート２回目!AA39=\"\",\"\",データ入力シート２回目!AA39)+IF(データ入力シート２回目!AA40=\"\",\"\",データ入力シート２回目!AA40)","v":{"$error":"#VALUE!"}},{"$f":"IF(データ入力シート２回目!AB38=\"\",\"\",データ入力シート２回目!AB38)+IF(データ入力シート２回目!AB39=\"\",\"\",データ入力シート２回目!AB39)+IF(データ入力シート２回目!AB40=\"\",\"\",データ入力シート２回目!AB40)","v":{"$error":"#VALUE!"}},{"$f":"IF(データ入力シート２回目!AC38=\"\",\"\",データ入力シート２回目!AC38)+IF(データ入力シート２回目!AC39=\"\",\"\",データ入力シート２回目!AC39)+IF(データ入力シート２回目!AC40=\"\",\"\",データ入力シート２回目!AC40)","v":{"$error":"#VALUE!"}},{"$f":"IF(データ入力シート２回目!AD38=\"\",\"\",データ入力シート２回目!AD38)+IF(データ入力シート２回目!AD39=\"\",\"\",データ入力シート２回目!AD39)+IF(データ入力シート２回目!AD40=\"\",\"\",データ入力シート２回目!AD40)","v":{"$error":"#VALUE!"}},{"$f":"IF(データ入力シート２回目!AE38=\"\",\"\",データ入力シート２回目!AE38)+IF(データ入力シート２回目!AE39=\"\",\"\",データ入力シート２回目!AE39)+IF(データ入力シート２回目!AE40=\"\",\"\",データ入力シート２回目!AE40)","v":{"$error":"#VALUE!"}},{"$f":"IF(データ入力シート２回目!AF38=\"\",\"\",データ入力シート２回目!AF38)+IF(データ入力シート２回目!AF39=\"\",\"\",データ入力シート２回目!AF39)+IF(データ入力シート２回目!AF40=\"\",\"\",データ入力シート２回目!AF40)","v":{"$error":"#VALUE!"}},{"$f":"IF(データ入力シート２回目!AG38=\"\",\"\",データ入力シート２回目!AG38)+IF(データ入力シート２回目!AG39=\"\",\"\",データ入力シート２回目!AG39)+IF(データ入力シート２回目!AG40=\"\",\"\",データ入力シート２回目!AG40)","v":{"$error":"#VALUE!"}},{"$f":"IF(データ入力シート２回目!AH38=\"\",\"\",データ入力シート２回目!AH38)+IF(データ入力シート２回目!AH39=\"\",\"\",データ入力シート２回目!AH39)+IF(データ入力シート２回目!AH40=\"\",\"\",データ入力シート２回目!AH40)","v":{"$error":"#VALUE!"}},{"$f":"IF(データ入力シート２回目!AI38=\"\",\"\",データ入力シート２回目!AI38)+IF(データ入力シート２回目!AI39=\"\",\"\",データ入力シート２回目!AI39)+IF(データ入力シート２回目!AI40=\"\",\"\",データ入力シート２回目!AI40)","v":{"$error":"#VALUE!"}},{"$f":"IF(データ入力シート２回目!AJ38=\"\",\"\",データ入力シート２回目!AJ38)+IF(データ入力シート２回目!AJ39=\"\",\"\",データ入力シート２回目!AJ39)+IF(データ入力シート２回目!AJ40=\"\",\"\",データ入力シート２回目!AJ40)","v":{"$error":"#VALUE!"}},{"$f":"IF(データ入力シート２回目!AK38=\"\",\"\",データ入力シート２回目!AK38)+IF(データ入力シート２回目!AK39=\"\",\"\",データ入力シート２回目!AK39)+IF(データ入力シート２回目!AK40=\"\",\"\",データ入力シート２回目!AK40)","v":{"$error":"#VALUE!"}},{"$f":"IF(データ入力シート２回目!AL38=\"\",\"\",データ入力シート２回目!AL38)+IF(データ入力シート２回目!AL39=\"\",\"\",データ入力シート２回目!AL39)+IF(データ入力シート２回目!AL40=\"\",\"\",データ入力シート２回目!AL40)","v":{"$error":"#VALUE!"}},{"$f":"IF(データ入力シート２回目!AM38=\"\",\"\",データ入力シート２回目!AM38)+IF(データ入力シート２回目!AM39=\"\",\"\",データ入力シート２回目!AM39)+IF(データ入力シート２回目!AM40=\"\",\"\",データ入力シート２回目!AM40)","v":{"$error":"#VALUE!"}},{"$f":"IF(データ入力シート２回目!AN38=\"\",\"\",データ入力シート２回目!AN38)+IF(データ入力シート２回目!AN39=\"\",\"\",データ入力シート２回目!AN39)+IF(データ入力シート２回目!AN40=\"\",\"\",データ入力シート２回目!AN40)","v":{"$error":"#VALUE!"}},{"$f":"IF(データ入力シート２回目!AO38=\"\",\"\",データ入力シート２回目!AO38)+IF(データ入力シート２回目!AO39=\"\",\"\",データ入力シート２回目!AO39)+IF(データ入力シート２回目!AO40=\"\",\"\",データ入力シート２回目!AO40)","v":{"$error":"#VALUE!"}},{"$f":"IF(データ入力シート２回目!AP38=\"\",\"\",データ入力シート２回目!AP38)+IF(データ入力シート２回目!AP39=\"\",\"\",データ入力シート２回目!AP39)+IF(データ入力シート２回目!AP40=\"\",\"\",データ入力シート２回目!AP40)","v":{"$error":"#VALUE!"}},{"$f":"IF(データ入力シート２回目!AQ38=\"\",\"\",データ入力シート２回目!AQ38)+IF(データ入力シート２回目!AQ39=\"\",\"\",データ入力シート２回目!AQ39)+IF(データ入力シート２回目!AQ40=\"\",\"\",データ入力シート２回目!AQ40)","v":{"$error":"#VALUE!"}},{"$f":"IF(データ入力シート２回目!AR38=\"\",\"\",データ入力シート２回目!AR38)+IF(データ入力シート２回目!AR39=\"\",\"\",データ入力シート２回目!AR39)+IF(データ入力シート２回目!AR40=\"\",\"\",データ入力シート２回目!AR40)","v":{"$error":"#VALUE!"}},{"$f":"IF(データ入力シート２回目!AS38=\"\",\"\",データ入力シート２回目!AS38)+IF(データ入力シート２回目!AS39=\"\",\"\",データ入力シート２回目!AS39)+IF(データ入力シート２回目!AS40=\"\",\"\",データ入力シート２回目!AS40)","v":{"$error":"#VALUE!"}},{"$f":"IF(データ入力シート２回目!AT38=\"\",\"\",データ入力シート２回目!AT38)+IF(データ入力シート２回目!AT39=\"\",\"\",データ入力シート２回目!AT39)+IF(データ入力シート２回目!AT40=\"\",\"\",データ入力シート２回目!AT40)","v":{"$error":"#VALUE!"}},{"$f":"IF(データ入力シート２回目!AU38=\"\",\"\",データ入力シート２回目!AU38)+IF(データ入力シート２回目!AU39=\"\",\"\",データ入力シート２回目!AU39)+IF(データ入力シート２回目!AU40=\"\",\"\",データ入力シート２回目!AU40)","v":{"$error":"#VALUE!"}},{"$f":"IF(データ入力シート２回目!AV38=\"\",\"\",データ入力シート２回目!AV38)+IF(データ入力シート２回目!AV39=\"\",\"\",データ入力シート２回目!AV39)+IF(データ入力シート２回目!AV40=\"\",\"\",データ入力シート２回目!AV40)","v":{"$error":"#VALUE!"}},{"$f":"IF(データ入力シート２回目!AW38=\"\",\"\",データ入力シート２回目!AW38)+IF(データ入力シート２回目!AW39=\"\",\"\",データ入力シート２回目!AW39)+IF(データ入力シート２回目!AW40=\"\",\"\",データ入力シート２回目!AW40)","v":{"$error":"#VALUE!"}},{"$f":"IF(データ入力シート２回目!AX38=\"\",\"\",データ入力シート２回目!AX38)+IF(データ入力シート２回目!AX39=\"\",\"\",データ入力シート２回目!AX39)+IF(データ入力シート２回目!AX40=\"\",\"\",データ入力シート２回目!AX40)","v":{"$error":"#VALUE!"}},{"$f":"IF(データ入力シート２回目!AY38=\"\",\"\",データ入力シート２回目!AY38)+IF(データ入力シート２回目!AY39=\"\",\"\",データ入力シート２回目!AY39)+IF(データ入力シート２回目!AY40=\"\",\"\",データ入力シート２回目!AY40)","v":{"$error":"#VALUE!"}},{"$f":"IF(データ入力シート２回目!AZ38=\"\",\"\",データ入力シート２回目!AZ38)+IF(データ入力シート２回目!AZ39=\"\",\"\",データ入力シート２回目!AZ39)+IF(データ入力シート２回目!AZ40=\"\",\"\",データ入力シート２回目!AZ40)","v":{"$error":"#VALUE!"}},{"$f":"IF(データ入力シート２回目!BA38=\"\",\"\",データ入力シート２回目!BA38)+IF(データ入力シート２回目!BA39=\"\",\"\",データ入力シート２回目!BA39)+IF(データ入力シート２回目!BA40=\"\",\"\",データ入力シート２回目!BA40)","v":{"$error":"#VALUE!"}},{"$f":"IF(データ入力シート２回目!BB38=\"\",\"\",データ入力シート２回目!BB38)+IF(データ入力シート２回目!BB39=\"\",\"\",データ入力シート２回目!BB39)+IF(データ入力シート２回目!BB40=\"\",\"\",データ入力シート２回目!BB40)","v":{"$error":"#VALUE!"}},{"$f":"IF(データ入力シート２回目!BC38=\"\",\"\",データ入力シート２回目!BC38)+IF(データ入力シート２回目!BC39=\"\",\"\",データ入力シート２回目!BC39)+IF(データ入力シート２回目!BC40=\"\",\"\",データ入力シート２回目!BC40)","v":{"$error":"#VALUE!"}},{"$f":"IF(データ入力シート２回目!BD38=\"\",\"\",データ入力シート２回目!BD38)+IF(データ入力シート２回目!BD39=\"\",\"\",データ入力シート２回目!BD39)+IF(データ入力シート２回目!BD40=\"\",\"\",データ入力シート２回目!BD40)","v":{"$error":"#VALUE!"}},{"$f":"IF(データ入力シート２回目!BE38=\"\",\"\",データ入力シート２回目!BE38)+IF(データ入力シート２回目!BE39=\"\",\"\",データ入力シート２回目!BE39)+IF(データ入力シート２回目!BE40=\"\",\"\",データ入力シート２回目!BE40)","v":{"$error":"#VALUE!"}},{"$f":"IF(データ入力シート２回目!BF38=\"\",\"\",データ入力シート２回目!BF38)+IF(データ入力シート２回目!BF39=\"\",\"\",データ入力シート２回目!BF39)+IF(データ入力シート２回目!BF40=\"\",\"\",データ入力シート２回目!BF40)","v":{"$error":"#VALUE!"}},{"$f":"IF(データ入力シート２回目!BG38=\"\",\"\",データ入力シート２回目!BG38)+IF(データ入力シート２回目!BG39=\"\",\"\",データ入力シート２回目!BG39)+IF(データ入力シート２回目!BG40=\"\",\"\",データ入力シート２回目!BG40)","v":{"$error":"#VALUE!"}},{"$f":"IF(データ入力シート２回目!BH38=\"\",\"\",データ入力シート２回目!BH38)+IF(データ入力シート２回目!BH39=\"\",\"\",データ入力シート２回目!BH39)+IF(データ入力シート２回目!BH40=\"\",\"\",データ入力シート２回目!BH40)","v":{"$error":"#VALUE!"}},{"$f":"IF(データ入力シート２回目!BI38=\"\",\"\",データ入力シート２回目!BI38)+IF(データ入力シート２回目!BI39=\"\",\"\",データ入力シート２回目!BI39)+IF(データ入力シート２回目!BI40=\"\",\"\",データ入力シート２回目!BI40)","v":{"$error":"#VALUE!"}},{"$f":"IF(データ入力シート２回目!BJ38=\"\",\"\",データ入力シート２回目!BJ38)+IF(データ入力シート２回目!BJ39=\"\",\"\",データ入力シート２回目!BJ39)+IF(データ入力シート２回目!BJ40=\"\",\"\",データ入力シート２回目!BJ40)","v":{"$error":"#VALUE!"}},{"$f":"IF(データ入力シート２回目!BK38=\"\",\"\",データ入力シート２回目!BK38)+IF(データ入力シート２回目!BK39=\"\",\"\",データ入力シート２回目!BK39)+IF(データ入力シート２回目!BK40=\"\",\"\",データ入力シート２回目!BK40)","v":{"$error":"#VALUE!"}},{"$f":"IF(データ入力シート２回目!BL38=\"\",\"\",データ入力シート２回目!BL38)+IF(データ入力シート２回目!BL39=\"\",\"\",データ入力シート２回目!BL39)+IF(データ入力シート２回目!BL40=\"\",\"\",データ入力シート２回目!BL40)","v":{"$error":"#VALUE!"}},{"$f":"IF(データ入力シート２回目!BM38=\"\",\"\",データ入力シート２回目!BM38)+IF(データ入力シート２回目!BM39=\"\",\"\",データ入力シート２回目!BM39)+IF(データ入力シート２回目!BM40=\"\",\"\",データ入力シート２回目!BM40)","v":{"$error":"#VALUE!"}},{"$f":"IF(データ入力シート２回目!BN38=\"\",\"\",データ入力シート２回目!BN38)+IF(データ入力シート２回目!BN39=\"\",\"\",データ入力シート２回目!BN39)+IF(データ入力シート２回目!BN40=\"\",\"\",データ入力シート２回目!BN40)","v":{"$error":"#VALUE!"}},{"$f":"IF(データ入力シート２回目!BO38=\"\",\"\",データ入力シート２回目!BO38)+IF(データ入力シート２回目!BO39=\"\",\"\",データ入力シート２回目!BO39)+IF(データ入力シート２回目!BO40=\"\",\"\",データ入力シート２回目!BO40)","v":{"$error":"#VALUE!"}},{"$f":"IF(データ入力シート２回目!BP38=\"\",\"\",データ入力シート２回目!BP38)+IF(データ入力シート２回目!BP39=\"\",\"\",データ入力シート２回目!BP39)+IF(データ入力シート２回目!BP40=\"\",\"\",データ入力シート２回目!BP40)","v":{"$error":"#VALUE!"}},{"$f":"IF(データ入力シート２回目!BQ38=\"\",\"\",データ入力シート２回目!BQ38)+IF(データ入力シート２回目!BQ39=\"\",\"\",データ入力シート２回目!BQ39)+IF(データ入力シート２回目!BQ40=\"\",\"\",データ入力シート２回目!BQ40)","v":{"$error":"#VALUE!"}},{"$f":"IF(データ入力シート２回目!BR38=\"\",\"\",データ入力シート２回目!BR38)+IF(データ入力シート２回目!BR39=\"\",\"\",データ入力シート２回目!BR39)+IF(データ入力シート２回目!BR40=\"\",\"\",データ入力シート２回目!BR40)","v":{"$error":"#VALUE!"}},{"$f":"IF(データ入力シート２回目!BS38=\"\",\"\",データ入力シート２回目!BS38)+IF(データ入力シート２回目!BS39=\"\",\"\",データ入力シート２回目!BS39)+IF(データ入力シート２回目!BS40=\"\",\"\",データ入力シート２回目!BS40)","v":{"$error":"#VALUE!"}},{"$f":"IF(データ入力シート２回目!BT38=\"\",\"\",データ入力シート２回目!BT38)+IF(データ入力シート２回目!BT39=\"\",\"\",データ入力シート２回目!BT39)+IF(データ入力シート２回目!BT40=\"\",\"\",データ入力シート２回目!BT40)","v":{"$error":"#VALUE!"}},{"$f":"IF(データ入力シート２回目!BU38=\"\",\"\",データ入力シート２回目!BU38)+IF(データ入力シート２回目!BU39=\"\",\"\",データ入力シート２回目!BU39)+IF(データ入力シート２回目!BU40=\"\",\"\",データ入力シート２回目!BU40)","v":{"$error":"#VALUE!"}},{"$f":"IF(データ入力シート２回目!BV38=\"\",\"\",データ入力シート２回目!BV38)+IF(データ入力シート２回目!BV39=\"\",\"\",データ入力シート２回目!BV39)+IF(データ入力シート２回目!BV40=\"\",\"\",データ入力シート２回目!BV40)","v":{"$error":"#VALUE!"}},{"$f":"IF(データ入力シート２回目!BW38=\"\",\"\",データ入力シート２回目!BW38)+IF(データ入力シート２回目!BW39=\"\",\"\",データ入力シート２回目!BW39)+IF(データ入力シート２回目!BW40=\"\",\"\",データ入力シート２回目!BW40)","v":{"$error":"#VALUE!"}},{"$f":"IF(データ入力シート２回目!BX38=\"\",\"\",データ入力シート２回目!BX38)+IF(データ入力シート２回目!BX39=\"\",\"\",データ入力シート２回目!BX39)+IF(データ入力シート２回目!BX40=\"\",\"\",データ入力シート２回目!BX40)","v":{"$error":"#VALUE!"}},{"$f":"IF(データ入力シート２回目!BY38=\"\",\"\",データ入力シート２回目!BY38)+IF(データ入力シート２回目!BY39=\"\",\"\",データ入力シート２回目!BY39)+IF(データ入力シート２回目!BY40=\"\",\"\",データ入力シート２回目!BY40)","v":{"$error":"#VALUE!"}},{"$f":"IF(データ入力シート２回目!BZ38=\"\",\"\",データ入力シート２回目!BZ38)+IF(データ入力シート２回目!BZ39=\"\",\"\",データ入力シート２回目!BZ39)+IF(データ入力シート２回目!BZ40=\"\",\"\",データ入力シート２回目!BZ40)","v":{"$error":"#VALUE!"}},{"$f":"IF(データ入力シート２回目!CA38=\"\",\"\",データ入力シート２回目!CA38)+IF(データ入力シート２回目!CA39=\"\",\"\",データ入力シート２回目!CA39)+IF(データ入力シート２回目!CA40=\"\",\"\",データ入力シート２回目!CA40)","v":{"$error":"#VALUE!"}},{"$f":"IF(データ入力シート２回目!CB38=\"\",\"\",データ入力シート２回目!CB38)+IF(データ入力シート２回目!CB39=\"\",\"\",データ入力シート２回目!CB39)+IF(データ入力シート２回目!CB40=\"\",\"\",データ入力シート２回目!CB40)","v":{"$error":"#VALUE!"}},{"$f":"IF(データ入力シート２回目!CC38=\"\",\"\",データ入力シート２回目!CC38)+IF(データ入力シート２回目!CC39=\"\",\"\",データ入力シート２回目!CC39)+IF(データ入力シート２回目!CC40=\"\",\"\",データ入力シート２回目!CC40)","v":{"$error":"#VALUE!"}},{"$f":"IF(データ入力シート２回目!CD38=\"\",\"\",データ入力シート２回目!CD38)+IF(データ入力シート２回目!CD39=\"\",\"\",データ入力シート２回目!CD39)+IF(データ入力シート２回目!CD40=\"\",\"\",データ入力シート２回目!CD40)","v":{"$error":"#VALUE!"}},{"$f":"IF(データ入力シート２回目!CE38=\"\",\"\",データ入力シート２回目!CE38)+IF(データ入力シート２回目!CE39=\"\",\"\",データ入力シート２回目!CE39)+IF(データ入力シート２回目!CE40=\"\",\"\",データ入力シート２回目!CE40)","v":{"$error":"#VALUE!"}},{"$f":"IF(データ入力シート２回目!CF38=\"\",\"\",データ入力シート２回目!CF38)+IF(データ入力シート２回目!CF39=\"\",\"\",データ入力シート２回目!CF39)+IF(データ入力シート２回目!CF40=\"\",\"\",データ入力シート２回目!CF40)","v":{"$error":"#VALUE!"}},{"$f":"IF(データ入力シート２回目!CG38=\"\",\"\",データ入力シート２回目!CG38)+IF(データ入力シート２回目!CG39=\"\",\"\",データ入力シート２回目!CG39)+IF(データ入力シート２回目!CG40=\"\",\"\",データ入力シート２回目!CG40)","v":{"$error":"#VALUE!"}},{"$f":"IF(データ入力シート２回目!CH38=\"\",\"\",データ入力シート２回目!CH38)+IF(データ入力シート２回目!CH39=\"\",\"\",データ入力シート２回目!CH39)+IF(データ入力シート２回目!CH40=\"\",\"\",データ入力シート２回目!CH40)","v":{"$error":"#VALUE!"}},{"$f":"IF(データ入力シート２回目!CI38=\"\",\"\",データ入力シート２回目!CI38)+IF(データ入力シート２回目!CI39=\"\",\"\",データ入力シート２回目!CI39)+IF(データ入力シート２回目!CI40=\"\",\"\",データ入力シート２回目!CI40)","v":{"$error":"#VALUE!"}},{"$f":"IF(データ入力シート２回目!CJ38=\"\",\"\",データ入力シート２回目!CJ38)+IF(データ入力シート２回目!CJ39=\"\",\"\",データ入力シート２回目!CJ39)+IF(データ入力シート２回目!CJ40=\"\",\"\",データ入力シート２回目!CJ40)","v":{"$error":"#VALUE!"}},{"$f":"IF(データ入力シート２回目!CK38=\"\",\"\",データ入力シート２回目!CK38)+IF(データ入力シート２回目!CK39=\"\",\"\",データ入力シート２回目!CK39)+IF(データ入力シート２回目!CK40=\"\",\"\",データ入力シート２回目!CK40)","v":{"$error":"#VALUE!"}},{"$f":"IF(データ入力シート２回目!CL38=\"\",\"\",データ入力シート２回目!CL38)+IF(データ入力シート２回目!CL39=\"\",\"\",データ入力シート２回目!CL39)+IF(データ入力シート２回目!CL40=\"\",\"\",データ入力シート２回目!CL40)","v":{"$error":"#VALUE!"}},{"$f":"IF(データ入力シート２回目!CM38=\"\",\"\",データ入力シート２回目!CM38)+IF(データ入力シート２回目!CM39=\"\",\"\",データ入力シート２回目!CM39)+IF(データ入力シート２回目!CM40=\"\",\"\",データ入力シート２回目!CM40)","v":{"$error":"#VALUE!"}},{"$f":"IF(データ入力シート２回目!CN38=\"\",\"\",データ入力シート２回目!CN38)+IF(データ入力シート２回目!CN39=\"\",\"\",データ入力シート２回目!CN39)+IF(データ入力シート２回目!CN40=\"\",\"\",データ入力シート２回目!CN40)","v":{"$error":"#VALUE!"}},{"$f":"IF(データ入力シート２回目!CO38=\"\",\"\",データ入力シート２回目!CO38)+IF(データ入力シート２回目!CO39=\"\",\"\",データ入力シート２回目!CO39)+IF(データ入力シート２回目!CO40=\"\",\"\",データ入力シート２回目!CO40)","v":{"$error":"#VALUE!"}},{"$f":"IF(データ入力シート２回目!CP38=\"\",\"\",データ入力シート２回目!CP38)+IF(データ入力シート２回目!CP39=\"\",\"\",データ入力シート２回目!CP39)+IF(データ入力シート２回目!CP40=\"\",\"\",データ入力シート２回目!CP40)","v":{"$error":"#VALUE!"}},{"$f":"IF(データ入力シート２回目!CQ38=\"\",\"\",データ入力シート２回目!CQ38)+IF(データ入力シート２回目!CQ39=\"\",\"\",データ入力シート２回目!CQ39)+IF(データ入力シート２回目!CQ40=\"\",\"\",データ入力シート２回目!CQ40)","v":{"$error":"#VALUE!"}},{"$f":"IF(データ入力シート２回目!CR38=\"\",\"\",データ入力シート２回目!CR38)+IF(データ入力シート２回目!CR39=\"\",\"\",データ入力シート２回目!CR39)+IF(データ入力シート２回目!CR40=\"\",\"\",データ入力シート２回目!CR40)","v":{"$error":"#VALUE!"}},{"$f":"IF(データ入力シート２回目!CS38=\"\",\"\",データ入力シート２回目!CS38)+IF(データ入力シート２回目!CS39=\"\",\"\",データ入力シート２回目!CS39)+IF(データ入力シート２回目!CS40=\"\",\"\",データ入力シート２回目!CS40)","v":{"$error":"#VALUE!"}},{"$f":"IF(データ入力シート２回目!CT38=\"\",\"\",データ入力シート２回目!CT38)+IF(データ入力シート２回目!CT39=\"\",\"\",データ入力シート２回目!CT39)+IF(データ入力シート２回目!CT40=\"\",\"\",データ入力シート２回目!CT40)","v":{"$error":"#VALUE!"}},{"$f":"IF(データ入力シート２回目!CU38=\"\",\"\",データ入力シート２回目!CU38)+IF(データ入力シート２回目!CU39=\"\",\"\",データ入力シート２回目!CU39)+IF(データ入力シート２回目!CU40=\"\",\"\",データ入力シート２回目!CU40)","v":{"$error":"#VALUE!"}},{"$f":"IF(データ入力シート２回目!CV38=\"\",\"\",データ入力シート２回目!CV38)+IF(データ入力シート２回目!CV39=\"\",\"\",データ入力シート２回目!CV39)+IF(データ入力シート２回目!CV40=\"\",\"\",データ入力シート２回目!CV40)","v":{"$error":"#VALUE!"}},{"$f":"IF(データ入力シート２回目!CW38=\"\",\"\",データ入力シート２回目!CW38)+IF(データ入力シート２回目!CW39=\"\",\"\",データ入力シート２回目!CW39)+IF(データ入力シート２回目!CW40=\"\",\"\",データ入力シート２回目!CW40)","v":{"$error":"#VALUE!"}},{"$f":"IF(データ入力シート２回目!CX38=\"\",\"\",データ入力シート２回目!CX38)+IF(データ入力シート２回目!CX39=\"\",\"\",データ入力シート２回目!CX39)+IF(データ入力シート２回目!CX40=\"\",\"\",データ入力シート２回目!CX40)","v":{"$error":"#VALUE!"}},{"$f":"IF(データ入力シート２回目!CY38=\"\",\"\",データ入力シート２回目!CY38)+IF(データ入力シート２回目!CY39=\"\",\"\",データ入力シート２回目!CY39)+IF(データ入力シート２回目!CY40=\"\",\"\",データ入力シート２回目!CY40)","v":{"$error":"#VALUE!"}},{"$f":"IF(データ入力シート２回目!CZ38=\"\",\"\",データ入力シート２回目!CZ38)+IF(データ入力シート２回目!CZ39=\"\",\"\",データ入力シート２回目!CZ39)+IF(データ入力シート２回目!CZ40=\"\",\"\",データ入力シート２回目!CZ40)","v":{"$error":"#VALUE!"}}]
[null,"A",{"$f":"IF(データ入力シート２回目!E41=\"\",\"\",データ入力シート２回目!E41)+IF(データ入力シート２回目!E42=\"\",\"\",データ入力シート２回目!E42)+IF(データ入力シート２回目!E43=\"\",\"\",データ入力シート２回目!E43)","v":{"$error":"#VALUE!"}},{"$f":"IF(データ入力シート２回目!F41=\"\",\"\",データ入力シート２回目!F41)+IF(データ入力シート２回目!F42=\"\",\"\",データ入力シート２回目!F42)+IF(データ入力シート２回目!F43=\"\",\"\",データ入力シート２回目!F43)","v":{"$error":"#VALUE!"}},{"$f":"IF(データ入力シート２回目!G41=\"\",\"\",データ入力シート２回目!G41)+IF(データ入力シート２回目!G42=\"\",\"\",データ入力シート２回目!G42)+IF(データ入力シート２回目!G43=\"\",\"\",データ入力シート２回目!G43)","v":{"$error":"#VALUE!"}},{"$f":"IF(データ入力シート２回目!H41=\"\",\"\",データ入力シート２回目!H41)+IF(データ入力シート２回目!H42=\"\",\"\",データ入力シート２回目!H42)+IF(データ入力シート２回目!H43=\"\",\"\",データ入力シート２回目!H43)","v":{"$error":"#VALUE!"}},{"$f":"IF(データ入力シート２回目!I41=\"\",\"\",データ入力シート２回目!I41)+IF(データ入力シート２回目!I42=\"\",\"\",データ入力シート２回目!I42)+IF(データ入力シート２回目!I43=\"\",\"\",データ入力シート２回目!I43)","v":{"$error":"#VALUE!"}},{"$f":"IF(データ入力シート２回目!J41=\"\",\"\",データ入力シート２回目!J41)+IF(データ入力シート２回目!J42=\"\",\"\",データ入力シート２回目!J42)+IF(データ入力シート２回目!J43=\"\",\"\",データ入力シート２回目!J43)","v":{"$error":"#VALUE!"}},{"$f":"IF(データ入力シート２回目!K41=\"\",\"\",データ入力シート２回目!K41)+IF(データ入力シート２回目!K42=\"\",\"\",データ入力シート２回目!K42)+IF(データ入力シート２回目!K43=\"\",\"\",データ入力シート２回目!K43)","v":{"$error":"#VALUE!"}},{"$f":"IF(データ入力シート２回目!L41=\"\",\"\",データ入力シート２回目!L41)+IF(データ入力シート２回目!L42=\"\",\"\",データ入力シート２回目!L42)+IF(データ入力シート２回目!L43=\"\",\"\",データ入力シート２回目!L43)","v":{"$error":"#VALUE!"}},{"$f":"IF(データ入力シート２回目!M41=\"\",\"\",データ入力シート２回目!M41)+IF(データ入力シート２回目!M42=\"\",\"\",データ入力シート２回目!M42)+IF(データ入力シート２回目!M43=\"\",\"\",データ入力シート２回目!M43)","v":{"$error":"#VALUE!"}},{"$f":"IF(データ入力シート２回目!N41=\"\",\"\",データ入力シート２回目!N41)+IF(データ入力シート２回目!N42=\"\",\"\",データ入力シート２回目!N42)+IF(データ入力シート２回目!N43=\"\",\"\",データ入力シート２回目!N43)","v":{"$error":"#VALUE!"}},{"$f":"IF(データ入力シート２回目!O41=\"\",\"\",データ入力シート２回目!O41)+IF(データ入力シート２回目!O42=\"\",\"\",データ入力シート２回目!O42)+IF(データ入力シート２回目!O43=\"\",\"\",データ入力シート２回目!O43)","v":{"$error":"#VALUE!"}},{"$f":"IF(データ入力シート２回目!P41=\"\",\"\",データ入力シート２回目!P41)+IF(データ入力シート２回目!P42=\"\",\"\",データ入力シート２回目!P42)+IF(データ入力シート２回目!P43=\"\",\"\",データ入力シート２回目!P43)","v":{"$error":"#VALUE!"}},{"$f":"IF(データ入力シート２回目!Q41=\"\",\"\",データ入力シート２回目!Q41)+IF(データ入力シート２回目!Q42=\"\",\"\",データ入力シート２回目!Q42)+IF(データ入力シート２回目!Q43=\"\",\"\",データ入力シート２回目!Q43)","v":{"$error":"#VALUE!"}},{"$f":"IF(データ入力シート２回目!R41=\"\",\"\",データ入力シート２回目!R41)+IF(データ入力シート２回目!R42=\"\",\"\",データ入力シート２回目!R42)+IF(データ入力シート２回目!R43=\"\",\"\",データ入力シート２回目!R43)","v":{"$error":"#VALUE!"}},{"$f":"IF(データ入力シート２回目!S41=\"\",\"\",データ入力シート２回目!S41)+IF(データ入力シート２回目!S42=\"\",\"\",データ入力シート２回目!S42)+IF(データ入力シート２回目!S43=\"\",\"\",データ入力シート２回目!S43)","v":{"$error":"#VALUE!"}},{"$f":"IF(データ入力シート２回目!T41=\"\",\"\",データ入力シート２回目!T41)+IF(データ入力シート２回目!T42=\"\",\"\",データ入力シート２回目!T42)+IF(データ入力シート２回目!T43=\"\",\"\",データ入力シート２回目!T43)","v":{"$error":"#VALUE!"}},{"$f":"IF(データ入力シート２回目!U41=\"\",\"\",データ入力シート２回目!U41)+IF(データ入力シート２回目!U42=\"\",\"\",データ入力シート２回目!U42)+IF(データ入力シート２回目!U43=\"\",\"\",データ入力シート２回目!U43)","v":{"$error":"#VALUE!"}},{"$f":"IF(データ入力シート２回目!V41=\"\",\"\",データ入力シート２回目!V41)+IF(データ入力シート２回目!V42=\"\",\"\",データ入力シート２回目!V42)+IF(データ入力シート２回目!V43=\"\",\"\",データ入力シート２回目!V43)","v":{"$error":"#VALUE!"}},{"$f":"IF(データ入力シート２回目!W41=\"\",\"\",データ入力シート２回目!W41)+IF(データ入力シート２回目!W42=\"\",\"\",データ入力シート２回目!W42)+IF(データ入力シート２回目!W43=\"\",\"\",データ入力シート２回目!W43)","v":{"$error":"#VALUE!"}},{"$f":"IF(データ入力シート２回目!X41=\"\",\"\",データ入力シート２回目!X41)+IF(データ入力シート２回目!X42=\"\",\"\",データ入力シート２回目!X42)+IF(データ入力シート２回目!X43=\"\",\"\",データ入力シート２回目!X43)","v":{"$error":"#VALUE!"}},{"$f":"IF(データ入力シート２回目!Y41=\"\",\"\",データ入力シート２回目!Y41)+IF(データ入力シート２回目!Y42=\"\",\"\",データ入力シート２回目!Y42)+IF(データ入力シート２回目!Y43=\"\",\"\",データ入力シート２回目!Y43)","v":{"$error":"#VALUE!"}},{"$f":"IF(データ入力シート２回目!Z41=\"\",\"\",データ入力シート２回目!Z41)+IF(データ入力シート２回目!Z42=\"\",\"\",データ入力シート２回目!Z42)+IF(データ入力シート２回目!Z43=\"\",\"\",データ入力シート２回目!Z43)","v":{"$error":"#VALUE!"}},{"$f":"IF(データ入力シート２回目!AA41=\"\",\"\",データ入力シート２回目!AA41)+IF(データ入力シート２回目!AA42=\"\",\"\",データ入力シート２回目!AA42)+IF(データ入力シート２回目!AA43=\"\",\"\",データ入力シート２回目!AA43)","v":{"$error":"#VALUE!"}},{"$f":"IF(データ入力シート２回目!AB41=\"\",\"\",データ入力シート２回目!AB41)+IF(データ入力シート２回目!AB42=\"\",\"\",データ入力シート２回目!AB42)+IF(データ入力シート２回目!AB43=\"\",\"\",データ入力シート２回目!AB43)","v":{"$error":"#VALUE!"}},{"$f":"IF(データ入力シート２回目!AC41=\"\",\"\",データ入力シート２回目!AC41)+IF(データ入力シート２回目!AC42=\"\",\"\",データ入力シート２回目!AC42)+IF(データ入力シート２回目!AC43=\"\",\"\",データ入力シート２回目!AC43)","v":{"$error":"#VALUE!"}},{"$f":"IF(データ入力シート２回目!AD41=\"\",\"\",データ入力シート２回目!AD41)+IF(データ入力シート２回目!AD42=\"\",\"\",データ入力シート２回目!AD42)+IF(データ入力シート２回目!AD43=\"\",\"\",データ入力シート２回目!AD43)","v":{"$error":"#VALUE!"}},{"$f":"IF(データ入力シート２回目!AE41=\"\",\"\",データ入力シート２回目!AE41)+IF(データ入力シート２回目!AE42=\"\",\"\",データ入力シート２回目!AE42)+IF(データ入力シート２回目!AE43=\"\",\"\",データ入力シート２回目!AE43)","v":{"$error":"#VALUE!"}},{"$f":"IF(データ入力シート２回目!AF41=\"\",\"\",データ入力シート２回目!AF41)+IF(データ入力シート２回目!AF42=\"\",\"\",データ入力シート２回目!AF42)+IF(データ入力シート２回目!AF43=\"\",\"\",データ入力シート２回目!AF43)","v":{"$error":"#VALUE!"}},{"$f":"IF(データ入力シート２回目!AG41=\"\",\"\",データ入力シート２回目!AG41)+IF(データ入力シート２回目!AG42=\"\",\"\",データ入力シート２回目!AG42)+IF(データ入力シート２回目!AG43=\"\",\"\",データ入力シート２回目!AG43)","v":{"$error":"#VALUE!"}},{"$f":"IF(データ入力シート２回目!AH41=\"\",\"\",データ入力シート２回目!AH41)+IF(データ入力シート２回目!AH42=\"\",\"\",データ入力シート２回目!AH42)+IF(データ入力シート２回目!AH43=\"\",\"\",データ入力シート２回目!AH43)","v":{"$error":"#VALUE!"}},{"$f":"IF(データ入力シート２回目!AI41=\"\",\"\",データ入力シート２回目!AI41)+IF(データ入力シート２回目!AI42=\"\",\"\",データ入力シート２回目!AI42)+IF(データ入力シート２回目!AI43=\"\",\"\",データ入力シート２回目!AI43)","v":{"$error":"#VALUE!"}},{"$f":"IF(データ入力シート２回目!AJ41=\"\",\"\",データ入力シート２回目!AJ41)+IF(データ入力シート２回目!AJ42=\"\",\"\",データ入力シート２回目!AJ42)+IF(データ入力シート２回目!AJ43=\"\",\"\",データ入力シート２回目!AJ43)","v":{"$error":"#VALUE!"}},{"$f":"IF(データ入力シート２回目!AK41=\"\",\"\",データ入力シート２回目!AK41)+IF(データ入力シート２回目!AK42=\"\",\"\",データ入力シート２回目!AK42)+IF(データ入力シート２回目!AK43=\"\",\"\",データ入力シート２回目!AK43)","v":{"$error":"#VALUE!"}},{"$f":"IF(データ入力シート２回目!AL41=\"\",\"\",データ入力シート２回目!AL41)+IF(データ入力シート２回目!AL42=\"\",\"\",データ入力シート２回目!AL42)+IF(データ入力シート２回目!AL43=\"\",\"\",データ入力シート２回目!AL43)","v":{"$error":"#VALUE!"}},{"$f":"IF(データ入力シート２回目!AM41=\"\",\"\",データ入力シート２回目!AM41)+IF(データ入力シート２回目!AM42=\"\",\"\",データ入力シート２回目!AM42)+IF(データ入力シート２回目!AM43=\"\",\"\",データ入力シート２回目!AM43)","v":{"$error":"#VALUE!"}},{"$f":"IF(データ入力シート２回目!AN41=\"\",\"\",データ入力シート２回目!AN41)+IF(データ入力シート２回目!AN42=\"\",\"\",データ入力シート２回目!AN42)+IF(データ入力シート２回目!AN43=\"\",\"\",データ入力シート２回目!AN43)","v":{"$error":"#VALUE!"}},{"$f":"IF(データ入力シート２回目!AO41=\"\",\"\",データ入力シート２回目!AO41)+IF(データ入力シート２回目!AO42=\"\",\"\",データ入力シート２回目!AO42)+IF(データ入力シート２回目!AO43=\"\",\"\",データ入力シート２回目!AO43)","v":{"$error":"#VALUE!"}},{"$f":"IF(データ入力シート２回目!AP41=\"\",\"\",データ入力シート２回目!AP41)+IF(データ入力シート２回目!AP42=\"\",\"\",データ入力シート２回目!AP42)+IF(データ入力シート２回目!AP43=\"\",\"\",データ入力シート２回目!AP43)","v":{"$error":"#VALUE!"}},{"$f":"IF(データ入力シート２回目!AQ41=\"\",\"\",データ入力シート２回目!AQ41)+IF(データ入力シート２回目!AQ42=\"\",\"\",データ入力シート２回目!AQ42)+IF(データ入力シート２回目!AQ43=\"\",\"\",データ入力シート２回目!AQ43)","v":{"$error":"#VALUE!"}},{"$f":"IF(データ入力シート２回目!AR41=\"\",\"\",データ入力シート２回目!AR41)+IF(データ入力シート２回目!AR42=\"\",\"\",データ入力シート２回目!AR42)+IF(データ入力シート２回目!AR43=\"\",\"\",データ入力シート２回目!AR43)","v":{"$error":"#VALUE!"}},{"$f":"IF(データ入力シート２回目!AS41=\"\",\"\",データ入力シート２回目!AS41)+IF(データ入力シート２回目!AS42=\"\",\"\",データ入力シート２回目!AS42)+IF(データ入力シート２回目!AS43=\"\",\"\",データ入力シート２回目!AS43)","v":{"$error":"#VALUE!"}},{"$f":"IF(データ入力シート２回目!AT41=\"\",\"\",データ入力シート２回目!AT41)+IF(データ入力シート２回目!AT42=\"\",\"\",データ入力シート２回目!AT42)+IF(データ入力シート２回目!AT43=\"\",\"\",データ入力シート２回目!AT43)","v":{"$error":"#VALUE!"}},{"$f":"IF(データ入力シート２回目!AU41=\"\",\"\",データ入力シート２回目!AU41)+IF(データ入力シート２回目!AU42=\"\",\"\",データ入力シート２回目!AU42)+IF(データ入力シート２回目!AU43=\"\",\"\",データ入力シート２回目!AU43)","v":{"$error":"#VALUE!"}},{"$f":"IF(データ入力シート２回目!AV41=\"\",\"\",データ入力シート２回目!AV41)+IF(データ入力シート２回目!AV42=\"\",\"\",データ入力シート２回目!AV42)+IF(データ入力シート２回目!AV43=\"\",\"\",データ入力シート２回目!AV43)","v":{"$error":"#VALUE!"}},{"$f":"IF(データ入力シート２回目!AW41=\"\",\"\",データ入力シート２回目!AW41)+IF(データ入力シート２回目!AW42=\"\",\"\",データ入力シート２回目!AW42)+IF(データ入力シート２回目!AW43=\"\",\"\",データ入力シート２回目!AW43)","v":{"$error":"#VALUE!"}},{"$f":"IF(データ入力シート２回目!AX41=\"\",\"\",データ入力シート２回目!AX41)+IF(データ入力シート２回目!AX42=\"\",\"\",データ入力シート２回目!AX42)+IF(データ入力シート２回目!AX43=\"\",\"\",データ入力シート２回目!AX43)","v":{"$error":"#VALUE!"}},{"$f":"IF(データ入力シート２回目!AY41=\"\",\"\",データ入力シート２回目!AY41)+IF(データ入力シート２回目!AY42=\"\",\"\",データ入力シート２回目!AY42)+IF(データ入力シート２回目!AY43=\"\",\"\",データ入力シート２回目!AY43)","v":{"$error":"#VALUE!"}},{"$f":"IF(データ入力シート２回目!AZ41=\"\",\"\",データ入力シート２回目!AZ41)+IF(データ入力シート２回目!AZ42=\"\",\"\",データ入力シート２回目!AZ42)+IF(データ入力シート２回目!AZ43=\"\",\"\",データ入力シート２回目!AZ43)","v":{"$error":"#VALUE!"}},{"$f":"IF(データ入力シート２回目!BA41=\"\",\"\",データ入力シート２回目!BA41)+IF(データ入力シート２回目!BA42=\"\",\"\",データ入力シート２回目!BA42)+IF(データ入力シート２回目!BA43=\"\",\"\",データ入力シート２回目!BA43)","v":{"$error":"#VALUE!"}},{"$f":"IF(データ入力シート２回目!BB41=\"\",\"\",データ入力シート２回目!BB41)+IF(データ入力シート２回目!BB42=\"\",\"\",データ入力シート２回目!BB42)+IF(データ入力シート２回目!BB43=\"\",\"\",データ入力シート２回目!BB43)","v":{"$error":"#VALUE!"}},{"$f":"IF(データ入力シート２回目!BC41=\"\",\"\",データ入力シート２回目!BC41)+IF(データ入力シート２回目!BC42=\"\",\"\",データ入力シート２回目!BC42)+IF(データ入力シート２回目!BC43=\"\",\"\",データ入力シート２回目!BC43)","v":{"$error":"#VALUE!"}},{"$f":"IF(データ入力シート２回目!BD41=\"\",\"\",データ入力シート２回目!BD41)+IF(データ入力シート２回目!BD42=\"\",\"\",データ入力シート２回目!BD42)+IF(データ入力シート２回目!BD43=\"\",\"\",データ入力シート２回目!BD43)","v":{"$error":"#VALUE!"}},{"$f":"IF(データ入力シート２回目!BE41=\"\",\"\",データ入力シート２回目!BE41)+IF(データ入力シート２回目!BE42=\"\",\"\",データ入力シート２回目!BE42)+IF(データ入力シート２回目!BE43=\"\",\"\",データ入力シート２回目!BE43)","v":{"$error":"#VALUE!"}},{"$f":"IF(データ入力シート２回目!BF41=\"\",\"\",データ入力シート２回目!BF41)+IF(データ入力シート２回目!BF42=\"\",\"\",データ入力シート２回目!BF42)+IF(データ入力シート２回目!BF43=\"\",\"\",データ入力シート２回目!BF43)","v":{"$error":"#VALUE!"}},{"$f":"IF(データ入力シート２回目!BG41=\"\",\"\",データ入力シート２回目!BG41)+IF(データ入力シート２回目!BG42=\"\",\"\",データ入力シート２回目!BG42)+IF(データ入力シート２回目!BG43=\"\",\"\",データ入力シート２回目!BG43)","v":{"$error":"#VALUE!"}},{"$f":"IF(データ入力シート２回目!BH41=\"\",\"\",データ入力シート２回目!BH41)+IF(データ入力シート２回目!BH42=\"\",\"\",データ入力シート２回目!BH42)+IF(データ入力シート２回目!BH43=\"\",\"\",データ入力シート２回目!BH43)","v":{"$error":"#VALUE!"}},{"$f":"IF(データ入力シート２回目!BI41=\"\",\"\",データ入力シート２回目!BI41)+IF(データ入力シート２回目!BI42=\"\",\"\",データ入力シート２回目!BI42)+IF(データ入力シート２回目!BI43=\"\",\"\",データ入力シート２回目!BI43)","v":{"$error":"#VALUE!"}},{"$f":"IF(データ入力シート２回目!BJ41=\"\",\"\",データ入力シート２回目!BJ41)+IF(データ入力シート２回目!BJ42=\"\",\"\",データ入力シート２回目!BJ42)+IF(データ入力シート２回目!BJ43=\"\",\"\",データ入力シート２回目!BJ43)","v":{"$error":"#VALUE!"}},{"$f":"IF(データ入力シート２回目!BK41=\"\",\"\",データ入力シート２回目!BK41)+IF(データ入力シート２回目!BK42=\"\",\"\",データ入力シート２回目!BK42)+IF(データ入力シート２回目!BK43=\"\",\"\",データ入力シート２回目!BK43)","v":{"$error":"#VALUE!"}},{"$f":"IF(データ入力シート２回目!BL41=\"\",\"\",データ入力シート２回目!BL41)+IF(データ入力シート２回目!BL42=\"\",\"\",データ入力シート２回目!BL42)+IF(データ入力シート２回目!BL43=\"\",\"\",データ入力シート２回目!BL43)","v":{"$error":"#VALUE!"}},{"$f":"IF(データ入力シート２回目!BM41=\"\",\"\",データ入力シート２回目!BM41)+IF(データ入力シート２回目!BM42=\"\",\"\",データ入力シート２回目!BM42)+IF(データ入力シート２回目!BM43=\"\",\"\",データ入力シート２回目!BM43)","v":{"$error":"#VALUE!"}},{"$f":"IF(データ入力シート２回目!BN41=\"\",\"\",データ入力シート２回目!BN41)+IF(データ入力シート２回目!BN42=\"\",\"\",データ入力シート２回目!BN42)+IF(データ入力シート２回目!BN43=\"\",\"\",データ入力シート２回目!BN43)","v":{"$error":"#VALUE!"}},{"$f":"IF(データ入力シート２回目!BO41=\"\",\"\",データ入力シート２回目!BO41)+IF(データ入力シート２回目!BO42=\"\",\"\",データ入力シート２回目!BO42)+IF(データ入力シート２回目!BO43=\"\",\"\",データ入力シート２回目!BO43)","v":{"$error":"#VALUE!"}},{"$f":"IF(データ入力シート２回目!BP41=\"\",\"\",データ入力シート２回目!BP41)+IF(データ入力シート２回目!BP42=\"\",\"\",データ入力シート２回目!BP42)+IF(データ入力シート２回目!BP43=\"\",\"\",データ入力シート２回目!BP43)","v":{"$error":"#VALUE!"}},{"$f":"IF(データ入力シート２回目!BQ41=\"\",\"\",データ入力シート２回目!BQ41)+IF(データ入力シート２回目!BQ42=\"\",\"\",データ入力シート２回目!BQ42)+IF(データ入力シート２回目!BQ43=\"\",\"\",データ入力シート２回目!BQ43)","v":{"$error":"#VALUE!"}},{"$f":"IF(データ入力シート２回目!BR41=\"\",\"\",データ入力シート２回目!BR41)+IF(データ入力シート２回目!BR42=\"\",\"\",データ入力シート２回目!BR42)+IF(データ入力シート２回目!BR43=\"\",\"\",データ入力シート２回目!BR43)","v":{"$error":"#VALUE!"}},{"$f":"IF(データ入力シート２回目!BS41=\"\",\"\",データ入力シート２回目!BS41)+IF(データ入力シート２回目!BS42=\"\",\"\",データ入力シート２回目!BS42)+IF(データ入力シート２回目!BS43=\"\",\"\",データ入力シート２回目!BS43)","v":{"$error":"#VALUE!"}},{"$f":"IF(データ入力シート２回目!BT41=\"\",\"\",データ入力シート２回目!BT41)+IF(データ入力シート２回目!BT42=\"\",\"\",データ入力シート２回目!BT42)+IF(データ入力シート２回目!BT43=\"\",\"\",データ入力シート２回目!BT43)","v":{"$error":"#VALUE!"}},{"$f":"IF(データ入力シート２回目!BU41=\"\",\"\",データ入力シート２回目!BU41)+IF(データ入力シート２回目!BU42=\"\",\"\",データ入力シート２回目!BU42)+IF(データ入力シート２回目!BU43=\"\",\"\",データ入力シート２回目!BU43)","v":{"$error":"#VALUE!"}},{"$f":"IF(データ入力シート２回目!BV41=\"\",\"\",データ入力シート２回目!BV41)+IF(データ入力シート２回目!BV42=\"\",\"\",データ入力シート２回目!BV42)+IF(データ入力シート２回目!BV43=\"\",\"\",データ入力シート２回目!BV43)","v":{"$error":"#VALUE!"}},{"$f":"IF(データ入力シート２回目!BW41=\"\",\"\",データ入力シート２回目!BW41)+IF(データ入力シート２回目!BW42=\"\",\"\",データ入力シート２回目!BW42)+IF(データ入力シート２回目!BW43=\"\",\"\",データ入力シート２回目!BW43)","v":{"$error":"#VALUE!"}},{"$f":"IF(データ入力シート２回目!BX41=\"\",\"\",データ入力シート２回目!BX41)+IF(データ入力シート２回目!BX42=\"\",\"\",データ入力シート２回目!BX42)+IF(データ入力シート２回目!BX43=\"\",\"\",データ入力シート２回目!BX43)","v":{"$error":"#VALUE!"}},{"$f":"IF(データ入力シート２回目!BY41=\"\",\"\",データ入力シート２回目!BY41)+IF(データ入力シート２回目!BY42=\"\",\"\",データ入力シート２回目!BY42)+IF(データ入力シート２回目!BY43=\"\",\"\",データ入力シート２回目!BY43)","v":{"$error":"#VALUE!"}},{"$f":"IF(データ入力シート２回目!BZ41=\"\",\"\",データ入力シート２回目!BZ41)+IF(データ入力シート２回目!BZ42=\"\",\"\",データ入力シート２回目!BZ42)+IF(データ入力シート２回目!BZ43=\"\",\"\",データ入力シート２回目!BZ43)","v":{"$error":"#VALUE!"}},{"$f":"IF(データ入力シート２回目!CA41=\"\",\"\",データ入力シート２回目!CA41)+IF(データ入力シート２回目!CA42=\"\",\"\",データ入力シート２回目!CA42)+IF(データ入力シート２回目!CA43=\"\",\"\",データ入力シート２回目!CA43)","v":{"$error":"#VALUE!"}},{"$f":"IF(データ入力シート２回目!CB41=\"\",\"\",データ入力シート２回目!CB41)+IF(データ入力シート２回目!CB42=\"\",\"\",データ入力シート２回目!CB42)+IF(データ入力シート２回目!CB43=\"\",\"\",データ入力シート２回目!CB43)","v":{"$error":"#VALUE!"}},{"$f":"IF(データ入力シート２回目!CC41=\"\",\"\",データ入力シート２回目!CC41)+IF(データ入力シート２回目!CC42=\"\",\"\",データ入力シート２回目!CC42)+IF(データ入力シート２回目!CC43=\"\",\"\",データ入力シート２回目!CC43)","v":{"$error":"#VALUE!"}},{"$f":"IF(データ入力シート２回目!CD41=\"\",\"\",データ入力シート２回目!CD41)+IF(データ入力シート２回目!CD42=\"\",\"\",データ入力シート２回目!CD42)+IF(データ入力シート２回目!CD43=\"\",\"\",データ入力シート２回目!CD43)","v":{"$error":"#VALUE!"}},{"$f":"IF(データ入力シート２回目!CE41=\"\",\"\",データ入力シート２回目!CE41)+IF(データ入力シート２回目!CE42=\"\",\"\",データ入力シート２回目!CE42)+IF(データ入力シート２回目!CE43=\"\",\"\",データ入力シート２回目!CE43)","v":{"$error":"#VALUE!"}},{"$f":"IF(データ入力シート２回目!CF41=\"\",\"\",データ入力シート２回目!CF41)+IF(データ入力シート２回目!CF42=\"\",\"\",データ入力シート２回目!CF42)+IF(データ入力シート２回目!CF43=\"\",\"\",データ入力シート２回目!CF43)","v":{"$error":"#VALUE!"}},{"$f":"IF(データ入力シート２回目!CG41=\"\",\"\",データ入力シート２回目!CG41)+IF(データ入力シート２回目!CG42=\"\",\"\",データ入力シート２回目!CG42)+IF(データ入力シート２回目!CG43=\"\",\"\",データ入力シート２回目!CG43)","v":{"$error":"#VALUE!"}},{"$f":"IF(データ入力シート２回目!CH41=\"\",\"\",データ入力シート２回目!CH41)+IF(データ入力シート２回目!CH42=\"\",\"\",データ入力シート２回目!CH42)+IF(データ入力シート２回目!CH43=\"\",\"\",データ入力シート２回目!CH43)","v":{"$error":"#VALUE!"}},{"$f":"IF(データ入力シート２回目!CI41=\"\",\"\",データ入力シート２回目!CI41)+IF(データ入力シート２回目!CI42=\"\",\"\",データ入力シート２回目!CI42)+IF(データ入力シート２回目!CI43=\"\",\"\",データ入力シート２回目!CI43)","v":{"$error":"#VALUE!"}},{"$f":"IF(データ入力シート２回目!CJ41=\"\",\"\",データ入力シート２回目!CJ41)+IF(データ入力シート２回目!CJ42=\"\",\"\",データ入力シート２回目!CJ42)+IF(データ入力シート２回目!CJ43=\"\",\"\",データ入力シート２回目!CJ43)","v":{"$error":"#VALUE!"}},{"$f":"IF(データ入力シート２回目!CK41=\"\",\"\",データ入力シート２回目!CK41)+IF(データ入力シート２回目!CK42=\"\",\"\",データ入力シート２回目!CK42)+IF(データ入力シート２回目!CK43=\"\",\"\",データ入力シート２回目!CK43)","v":{"$error":"#VALUE!"}},{"$f":"IF(データ入力シート２回目!CL41=\"\",\"\",データ入力シート２回目!CL41)+IF(データ入力シート２回目!CL42=\"\",\"\",データ入力シート２回目!CL42)+IF(データ入力シート２回目!CL43=\"\",\"\",データ入力シート２回目!CL43)","v":{"$error":"#VALUE!"}},{"$f":"IF(データ入力シート２回目!CM41=\"\",\"\",データ入力シート２回目!CM41)+IF(データ入力シート２回目!CM42=\"\",\"\",データ入力シート２回目!CM42)+IF(データ入力シート２回目!CM43=\"\",\"\",データ入力シート２回目!CM43)","v":{"$error":"#VALUE!"}},{"$f":"IF(データ入力シート２回目!CN41=\"\",\"\",データ入力シート２回目!CN41)+IF(データ入力シート２回目!CN42=\"\",\"\",データ入力シート２回目!CN42)+IF(データ入力シート２回目!CN43=\"\",\"\",データ入力シート２回目!CN43)","v":{"$error":"#VALUE!"}},{"$f":"IF(データ入力シート２回目!CO41=\"\",\"\",データ入力シート２回目!CO41)+IF(データ入力シート２回目!CO42=\"\",\"\",データ入力シート２回目!CO42)+IF(データ入力シート２回目!CO43=\"\",\"\",データ入力シート２回目!CO43)","v":{"$error":"#VALUE!"}},{"$f":"IF(データ入力シート２回目!CP41=\"\",\"\",データ入力シート２回目!CP41)+IF(データ入力シート２回目!CP42=\"\",\"\",データ入力シート２回目!CP42)+IF(データ入力シート２回目!CP43=\"\",\"\",データ入力シート２回目!CP43)","v":{"$error":"#VALUE!"}},{"$f":"IF(データ入力シート２回目!CQ41=\"\",\"\",データ入力シート２回目!CQ41)+IF(データ入力シート２回目!CQ42=\"\",\"\",データ入力シート２回目!CQ42)+IF(データ入力シート２回目!CQ43=\"\",\"\",データ入力シート２回目!CQ43)","v":{"$error":"#VALUE!"}},{"$f":"IF(データ入力シート２回目!CR41=\"\",\"\",データ入力シート２回目!CR41)+IF(データ入力シート２回目!CR42=\"\",\"\",データ入力シート２回目!CR42)+IF(データ入力シート２回目!CR43=\"\",\"\",データ入力シート２回目!CR43)","v":{"$error":"#VALUE!"}},{"$f":"IF(データ入力シート２回目!CS41=\"\",\"\",データ入力シート２回目!CS41)+IF(データ入力シート２回目!CS42=\"\",\"\",データ入力シート２回目!CS42)+IF(データ入力シート２回目!CS43=\"\",\"\",データ入力シート２回目!CS43)","v":{"$error":"#VALUE!"}},{"$f":"IF(データ入力シート２回目!CT41=\"\",\"\",データ入力シート２回目!CT41)+IF(データ入力シート２回目!CT42=\"\",\"\",データ入力シート２回目!CT42)+IF(データ入力シート２回目!CT43=\"\",\"\",データ入力シート２回目!CT43)","v":{"$error":"#VALUE!"}},{"$f":"IF(データ入力シート２回目!CU41=\"\",\"\",データ入力シート２回目!CU41)+IF(データ入力シート２回目!CU42=\"\",\"\",データ入力シート２回目!CU42)+IF(データ入力シート２回目!CU43=\"\",\"\",データ入力シート２回目!CU43)","v":{"$error":"#VALUE!"}},{"$f":"IF(データ入力シート２回目!CV41=\"\",\"\",データ入力シート２回目!CV41)+IF(データ入力シート２回目!CV42=\"\",\"\",データ入力シート２回目!CV42)+IF(データ入力シート２回目!CV43=\"\",\"\",データ入力シート２回目!CV43)","v":{"$error":"#VALUE!"}},{"$f":"IF(データ入力シート２回目!CW41=\"\",\"\",データ入力シート２回目!CW41)+IF(データ入力シート２回目!CW42=\"\",\"\",データ入力シート２回目!CW42)+IF(データ入力シート２回目!CW43=\"\",\"\",データ入力シート２回目!CW43)","v":{"$error":"#VALUE!"}},{"$f":"IF(データ入力シート２回目!CX41=\"\",\"\",データ入力シート２回目!CX41)+IF(データ入力シート２回目!CX42=\"\",\"\",データ入力シート２回目!CX42)+IF(データ入力シート２回目!CX43=\"\",\"\",データ入力シート２回目!CX43)","v":{"$error":"#VALUE!"}},{"$f":"IF(データ入力シート２回目!CY41=\"\",\"\",データ入力シート２回目!CY41)+IF(データ入力シート２回目!CY42=\"\",\"\",データ入力シート２回目!CY42)+IF(データ入力シート２回目!CY43=\"\",\"\",データ入力シート２回目!CY43)","v":{"$error":"#VALUE!"}},{"$f":"IF(データ入力シート２回目!CZ41=\"\",\"\",データ入力シート２回目!CZ41)+IF(データ入力シート２回目!CZ42=\"\",\"\",データ入力シート２回目!CZ42)+IF(データ入力シート２回目!CZ43=\"\",\"\",データ入力シート２回目!CZ43)","v":{"$error":"#VALUE!"}}]
[]
["年数別"]
[null,null,null,"点数"]
[null,null,null,0,1,2,3,4,5,6,7,8,9,10,11,12,"計","平均",null,"教科等横断的な視点","平均","標準偏差",null,null,"教科等横断的な視点",0,1,2,3,4,5,6,7,8,9,10,11,12,"計"]
["教科等横断的な視点について","P\n経験年数","21上",{"$f":"COUNTIFS($C$4:$CX$4,\">=21\",$C$5:$CX$5,D20)","v":0},{"$f":"COUNTIFS($C$4:$CX$4,\">=21\",$C$5:$CX$5,E20)","v":0},0,0,0,0,0,0,0,0,0,0,0,{"$f":"SUM(D21:P21)","v":0},{"$f":"IF(Q21=0,\"\",(D$20*D21+E$20*E21+F$20*F21+G$20*G21+H$20*H21+I$20*I21+J$20*J21+K$20*K21+L$20*L21+M$20*M21+N$20*N21+O$20*O21+P$20*P21)/Q21)","v":""},null,"P",{"$f":"R25","v":""},{"$f":"_xlfn.STDEV.P(データ入力シート２回目!$E$8:$CZ$10)","v":{"$error":"#DIV/0!"}},null,null,"P",{"$f":"D25/$Q$25","v":{"$error":"#DIV/0!"}},{"$error":"#DIV/0!"},{"$error":"#DIV/0!"},{"$error":"#DIV/0!"},{"$error":"#DIV/0!"},{"$error":"#DIV/0!"},{"$error":"#DIV/0!"},{"$error":"#DIV/0!"},{"$error":"#DIV/0!"},{"$error":"#DIV/0!"},{"$error":"#DIV/0!"},{"$error":"#DIV/0!"},{"$error":"#DIV/0!"},{"$f":"SUM(Z21:AL21)","v":{"$error":"#DIV/0!"}}]
[null,null,"11~20",{"$f":"COUNTIFS($C$4:$CX$4,\">=11\",$C$4:$CX$4,\"<=20\",$C$5:$CX$5,D20)","v":0},0,0,0,0,0,0,0,0,0,0,0,0,{"$f":"SUM(D22:P22)","v":0},"",null,"D",{"$f":"R30","v":""},{"$f":"_xlfn.STDEV.P(データ入力シート２回目!$E$11:$CZ$13)","v":{"$error":"#DIV/0!"}},null,null,"D",{"$f":"D30/$Q$30","v":{"$error":"#DIV/0!"}},{"$f":"E30/$Q$30","v":{"$error":"#DIV/0!"}},{"$error":"#DIV/0!"},{"$error":"#DIV/0!"},{"$error":"#DIV/0!"},{"$error":"#DIV/0!"},{"$error":"#DIV/0!"},{"$error":"#DIV/0!"},{"$error":"#DIV/0!"},{"$error":"#DIV/0!"},{"$error":"#DIV/0!"},{"$error":"#DIV/0!"},{"$error":"#DIV/0!"},{"$f":"SUM(Z22:AL22)","v":{"$error":"#DIV/0!"}}]
[null,null,"6~10",{"$f":"COUNTIFS($C$4:$CX$4,\">=6\",$C$4:$CX$4,\"<=10\",$C$5:$CX$5,D20)","v":0},0,0,0,0,0,0,0,0,0,0,0,0,{"$f":"SUM(D23:P23)","v":0},"",null,"C",{"$f":"R35","v":""},{"$f":"_xlfn.STDEV.P(データ入力シート２回目!$E$14:$CZ$16)","v":{"$error":"#DIV/0!"}},null,null,"C",{"$f":"D35/$Q$35","v":{"$error":"#DIV/0!"}},{"$f":"E35/$Q$35","v":{"$error":"#DIV/0!"}},{"$error":"#DIV/0!"},{"$error":"#DIV/0!"},{"$error":"#DIV/0!"},{"$error":"#DIV/0!"},{"$error":"#DIV/0!"},{"$error":"#DIV/0!"},{"$error":"#DIV/0!"},{"$error":"#DIV/0!"},{"$error":"#DIV/0!"},{"$error":"#DIV/0!"},{"$error":"#DIV/0!"},{"$f":"SUM(Z23:AL23)","v":{"$error":"#DIV/0!"}}]
[null,null,"５下",{"$f":"COUNTIFS($C$4:$CX$4,\"<=5\",$C$5:$CX$5,D20)","v":0},0,0,0,0,0,0,0,0,0,0,0,0,{"$f":"SUM(D24:P24)","v":0},"",null,"A",{"$f":"R40","v":""},{"$f":"_xlfn.STDEV.P(データ入力シート２回目!$E$17:$CZ$19)","v":{"$error":"#DIV/0!"}},null,null,"A",{"$f":"D40/$Q$40","v":{"$error":"#DIV/0!"}},{"$f":"E40/$Q$40","v":{"$error":"#DIV/0!"}},{"$error":"#DIV/0!"},{"$error":"#DIV/0!"},{"$error":"#DIV/0!"},{"$error":"#DIV/0!"},{"$error":"#DIV/0!"},{"$error":"#DIV/0!"},{"$error":"#DIV/0!"},{"$error":"#DIV/0!"},{"$error":"#DIV/0!"},{"$error":"#DIV/0!"},{"$error":"#DIV/0!"},{"$f":"SUM(Z24:AL24)","v":{"$error":"#DIV/0!"}}]
[null,null,"計",{"$f":"SUM(D21:D24)","v":0},0,0,0,0,0,0,0,0,0,0,0,0,0,""]
[null,"D\n経験年数","20上",{"$f":"COUNTIFS($C$4:$CX$4,\">=21\",$C$6:$CX$6,D20)","v":0},0,0,0,0,0,0,0,0,0,0,0,0,{"$f":"SUM(D26:P26)","v":0},""]
[null,null,"11~20",{"$f":"COUNTIFS($C$4:$CX$4,\">=11\",$C$4:$CX$4,\"<=20\",$C$6:$CX$6,D20)","v":0},0,0,0,0,0,0,0,0,0,0,0,0,{"$f":"SUM(D27:P27)","v":0},""]
[null,null,"6~10",{"$f":"COUNTIFS($C$4:$CX$4,\">=6\",$C$4:$CX$4,\"<=10\",$C$6:$CX$6,D20)","v":0},0,0,0,0,0,0,0,0,0,0,0,0,{"$f":"SUM(D28:P28)","v":0},""]
[null,null,"５下",{"$f":"COUNTIFS($C$4:$CX$4,\"<=5\",$C$6:$CX$6,D20)","v":0},0,0,0,0,0,0,0,0,0,0,0,0,{"$f":"SUM(D29:P29)","v":0},""]
[null,null,"計",{"$f":"SUM(D26:D29)","v":0},0,0,0,0,0,0,0,0,0,0,0,0,0,""]
[null,"C\n経験年数","20上",{"$f":"COUNTIFS($C$4:$CX$4,\">=21\",$C$7:$CX$7,D20)","v":0},0,0,0,0,0,0,0,0,0,0,0,0,{"$f":"SUM(D31:P31)","v":0},""]
[null,null,"11~20",{"$f":"COUNTIFS($C$4:$CX$4,\">=11\",$C$4:$CX$4,\"<=20\",$C$7:$CX$7,D20)","v":0},0,0,0,0,0,0,0,0,0,0,0,0,{"$f":"SUM(D32:P32)","v":0},""]
[null,null,"6~10",{"$f":"COUNTIFS($C$4:$BJ$4,\">=6\",$C$4:$BJ$4,\"<=10\",$C$7:$BJ$7,D20)","v":0},0,0,0,0,0,0,0,0,0,0,0,0,{"$f":"SUM(D33:P33)","v":0},""]
[null,null,"５下",{"$f":"COUNTIFS($C$4:$CX$4,\"<=5\",$C$7:$CX$7,D20)","v":0},0,0,0,0,0,0,0,0,0,0,0,0,{"$f":"SUM(D34:P34)","v":0},""]
[null,null,"計",{"$f":"SUM(D31:D34)","v":0},0,0,0,0,0,0,0,0,0,0,0,0,0,""]
[null,"A\n経験年数","20上",{"$f":"COUNTIFS($C$4:$CX$4,\">=21\",$C$8:$CX$8,D20)","v":0},0,0,0,0,0,0,0,0,0,0,0,0,{"$f":"SUM(D36:P36)","v":0},""]
[null,null,"11~20",{"$f":"COUNTIFS($C$4:$CX$4,\">=11\",$C$4:$CX$4,\"<=20\",$C$8:$CX$8,D20)","v":0},0,0,0,0,0,0,0,0,0,0,0,0,{"$f":"SUM(D37:P37)","v":0},""]
[null,null,"6~10",{"$f":"COUNTIFS($C$4:$CX$4,\">=6\",$C$4:$CX$4,\"<=10\",$C$8:$CX$8,D20)","v":0},0,0,0,0,0,0,0,0,0,0,0,0,{"$f":"SUM(D38:P38)","v":0},""]
[null,null,"５下",{"$f":"COUNTIFS($C$4:$CX$4,\"<=5\",$C$8:$CX$8,D20)","v":0},0,0,0,0,0,0,0,0,0,0,0,0,{"$f":"SUM(D39:P39)","v":0},""]
[null,null,"計",{"$f":"SUM(D36:D39)","v":0},0,0,0,0,0,0,0,0,0,0,0,0,0,""]
[]
[]
[null,null,null,"点数"]
[null,null,null,0,1,2,3,4,5,6,7,8,9,10,11,12,"計","平均",null,"人的資源について","平均","標準偏差",null,null,"教科等横断的な視点",0,1,2,3,4,5,6,7,8,9,10,11,12,"計"]
["人的資源について","P\n経験年数","21上",{"$f":"COUNTIFS($C$4:$CX$4,\">=21\",$C$9:$CX$9,D44)","v":0},0,0,0,0,0,0,0,0,0,0,0,0,{"$f":"SUM(D45:P45)","v":0},{"$f":"IF(Q45=0,\"\",(D$44*D45+E$44*E45+F$44*F45+G$44*G45+H$44*H45+I$44*I45+J$44*J45+K$44*K45+L$44*L45+M$44*M45+N$44*N45+O$44*O45+P$44*P45)/Q45)","v":""},null,"P",{"$f":"R49","v":""},{"$f":"_xlfn.STDEV.P(データ入力シート２回目!$E$20:$CZ$22)","v":{"$error":"#DIV/0!"}},null,null,"P",{"$f":"D49/$Q$49","v":{"$error":"#DIV/0!"}},{"$f":"E49/$Q$49","v":{"$error":"#DIV/0!"}},{"$error":"#DIV/0!"},{"$error":"#DIV/0!"},{"$error":"#DIV/0!"},{"$error":"#DIV/0!"},{"$error":"#DIV/0!"},{"$error":"#DIV/0!"},{"$f":"L49/$Q$49","v":{"$error":"#DIV/0!"}},{"$error":"#DIV/0!"},{"$error":"#DIV/0!"},{"$error":"#DIV/0!"},{"$error":"#DIV/0!"},{"$f":"SUM(Z45:AL45)","v":{"$error":"#DIV/0!"}}]
[null,null,"11~20",{"$f":"COUNTIFS($C$4:$CX$4,\">=11\",$C$4:$CX$4,\"<=20\",$C$9:$CX$9,D44)","v":0},0,0,0,0,0,0,0,0,0,0,0,0,{"$f":"SUM(D46:P46)","v":0},"",null,"D",{"$f":"R54","v":""},{"$f":"_xlfn.STDEV.P(データ入力シート２回目!$E$23:$CZ$25)","v":{"$error":"#DIV/0!"}},null,null,"D",{"$f":"D54/$Q$54","v":{"$error":"#DIV/0!"}},{"$f":"E54/$Q$54","v":{"$error":"#DIV/0!"}},{"$error":"#DIV/0!"},{"$error":"#DIV/0!"},{"$error":"#DIV/0!"},{"$error":"#DIV/0!"},{"$error":"#DIV/0!"},{"$error":"#DIV/0!"},{"$error":"#DIV/0!"},{"$error":"#DIV/0!"},{"$error":"#DIV/0!"},{"$error":"#DIV/0!"},{"$error":"#DIV/0!"},{"$f":"SUM(Z46:AL46)","v":{"$error":"#DIV/0!"}}]
[null,null,"6~10",{"$f":"COUNTIFS($C$4:$CX$4,\">=6\",$C$4:$CX$4,\"<=10\",$C$9:$CX$9,E44)","v":0},{"$f":"COUNTIFS($C$4:$CX$4,\">=6\",$C$4:$CX$4,\"<=10\",$C$9:$CX$9,E44)","v":0},0,0,0,0,0,0,0,0,0,0,0,{"$f":"SUM(D47:P47)","v":0},"",null,"C",{"$f":"R59","v":""},{"$f":"_xlfn.STDEV.P(データ入力シート２回目!$E$26:$CZ$28)","v":{"$error":"#DIV/0!"}},null,null,"C",{"$f":"D59/$Q$59","v":{"$error":"#DIV/0!"}},{"$f":"E59/$Q$59","v":{"$error":"#DIV/0!"}},{"$error":"#DIV/0!"},{"$error":"#DIV/0!"},{"$error":"#DIV/0!"},{"$error":"#DIV/0!"},{"$error":"#DIV/0!"},{"$error":"#DIV/0!"},{"$error":"#DIV/0!"},{"$error":"#DIV/0!"},{"$error":"#DIV/0!"},{"$error":"#DIV/0!"},{"$error":"#DIV/0!"},{"$f":"SUM(Z47:AL47)","v":{"$error":"#DIV/0!"}}]
[null,null,"５下",{"$f":"COUNTIFS($C$4:$CX$4,\"<=5\",$C$9:$CX$9,D44)","v":0},0,0,0,0,0,0,0,0,0,0,0,0,{"$f":"SUM(D48:P48)","v":0},"",null,"A",{"$f":"R64","v":""},{"$f":"_xlfn.STDEV.P(データ入力シート２回目!$E$29:$CZ$31)","v":{"$error":"#DIV/0!"}},null,null,"A",{"$f":"D64/$Q$64","v":{"$error":"#DIV/0!"}},{"$f":"E64/$Q$64","v":{"$error":"#DIV/0!"}},{"$error":"#DIV/0!"},{"$error":"#DIV/0!"},{"$error":"#DIV/0!"},{"$error":"#DIV/0!"},{"$error":"#DIV/0!"},{"$error":"#DIV/0!"},{"$error":"#DIV/0!"},{"$error":"#DIV/0!"},{"$error":"#DIV/0!"},{"$error":"#DIV/0!"},{"$error":"#DIV/0!"},{"$f":"SUM(Z48:AL48)","v":{"$error":"#DIV/0!"}}]
[null,null,"計",{"$f":"SUM(D45:D48)","v":0},0,0,0,0,0,0,0,0,0,0,0,0,0,""]
[null,"D\n経験年数","20上",{"$f":"COUNTIFS($C$4:$CX$4,\">=21\",$C$10:$CX$10,D44)","v":0},0,0,0,0,0,0,0,0,0,0,0,0,{"$f":"SUM(D50:P50)","v":0},""]
[null,null,"11~20",{"$f":"COUNTIFS($C$4:$CX$4,\">=11\",$C$4:$CX$4,\"<=20\",$C$10:$CX$10,D44)","v":0},0,0,0,0,0,0,0,0,0,0,0,0,{"$f":"SUM(D51:P51)","v":0},""]
[null,null,"6~10",{"$f":"COUNTIFS($C$4:$CX$4,\">=6\",$C$4:$CX$4,\"<=10\",$C$10:$CX$10,D44)","v":0},0,0,0,0,0,0,0,0,0,0,0,0,{"$f":"SUM(D52:P52)","v":0},""]
[null,null,"５下",{"$f":"COUNTIFS($C$4:$CX$4,\"<=5\",$C$10:$CX$10,E44)","v":0},{"$f":"COUNTIFS($C$4:$CX$4,\"<=5\",$C$10:$CX$10,E44)","v":0},0,0,0,0,0,0,0,0,0,0,0,{"$f":"SUM(D53:P53)","v":0},""]
[null,null,"計",{"$f":"SUM(D50:D53)","v":0},0,0,0,0,0,0,0,0,0,0,0,0,0,""]
[null,"C\n経験年数","20上",{"$f":"COUNTIFS($C$4:$CX$4,\">=21\",$C$11:$CX$11,E44)","v":0},{"$f":"COUNTIFS($C$4:$CX$4,\">=21\",$C$11:$CX$11,E44)","v":0},0,0,0,0,0,0,0,0,0,0,0,{"$f":"SUM(D55:P55)","v":0},""]
[null,null,"11~20",{"$f":"COUNTIFS($C$4:$CX$4,\">=11\",$C$4:$CX$4,\"<=20\",$C$7:$CX$7,D44)","v":0},0,0,0,0,0,0,0,0,0,0,0,0,{"$f":"SUM(D56:P56)","v":0},""]
[null,null,"6~10",{"$f":"COUNTIFS($C$4:$CX$4,\">=6\",$C$4:$CX$4,\"<=10\",$C$11:$CX$11,D44)","v":0},0,0,0,0,0,0,0,0,0,0,0,0,{"$f":"SUM(D57:P57)","v":0},""]
[null,null,"５下",{"$f":"COUNTIFS($C$4:$CX$4,\"<=5\",$C$11:$CX$11,D44)","v":0},0,0,0,0,0,0,0,0,0,0,0,0,{"$f":"SUM(D58:P58)","v":0},""]
[null,null,"計",{"$f":"SUM(D55:D58)","v":0},0,0,0,0,0,0,0,0,0,0,0,0,0,""]
[null,"A\n経験年数","20上",{"$f":"COUNTIFS($C$4:$CX$4,\">=21\",$C$12:$CX$12,D44)","v":0},0,0,0,0,0,0,0,0,0,0,0,0,{"$f":"SUM(D60:P60)","v":0},""]
[null,null,"11~20",{"$f":"COUNTIFS($C$4:$CX$4,\">=11\",$C$4:$CX$4,\"<=20\",$C$12:$CX$12,D44)","v":0},0,0,0,0,0,0,0,0,0,0,0,0,{"$f":"SUM(D61:P61)","v":0},""]
[null,null,"6~10",{"$f":"COUNTIFS($C$4:$CX$4,\">=6\",$C$4:$CX$4,\"<=10\",$C$12:$CX$12,D44)","v":0},0,0,0,0,0,0,0,0,0,0,0,0,{"$f":"SUM(D62:P62)","v":0},""]
[null,null,"５下",{"$f":"COUNTIFS($C$4:$CX$4,\"<=5\",$C$12:$CX$12,D44)","v":0},0,0,0,0,0,0,0,0,0,0,0,0,{"$f":"SUM(D63:P63)","v":0},""]
[null,null,"計",{"$f":"SUM(D60:D63)","v":0},0,0,0,0,0,0,0,0,0,0,0,0,0,""]
[]
[]
[null,null,null,"点数"]
[null,null,null,0,1,2,3,4,5,6,7,8,9,10,11,12,"計","平均",null,"物的資源について","平均","標準偏差",null,null,"教科等横断的な視点",0,1,2,3,4,5,6,7,8,9,10,11,12,"計"]
["物的資源について","P\n経験年数","21上",{"$f":"COUNTIFS($C$4:$CX$4,\">=21\",$C$13:$CX$13,D68)","v":0},0,0,0,0,0,0,0,0,0,0,0,0,{"$f":"SUM(D69:P69)","v":0},{"$f":"IF(Q69=0,\"\",(D$68*D69+E$68*E69+F$68*F69+G$68*G69+H$68*H69+I$68*I69+J$68*J69+K$68*K69+L$68*L69+M$68*M69+N$68*N69+O$68*O69+P$68*P69)/Q69)","v":""},null,"P",{"$f":"R73","v":""},{"$f":"_xlfn.STDEV.P(データ入力シート２回目!$E$32:$CZ$34)","v":{"$error":"#DIV/0!"}},null,null,"P",{"$f":"D73/$Q$73","v":{"$error":"#DIV/0!"}},{"$f":"E73/$Q$73","v":{"$error":"#DIV/0!"}},{"$error":"#DIV/0!"},{"$error":"#DIV/0!"},{"$error":"#DIV/0!"},{"$error":"#DIV/0!"},{"$error":"#DIV/0!"},{"$error":"#DIV/0!"},{"$error":"#DIV/0!"},{"$error":"#DIV/0!"},{"$error":"#DIV/0!"},{"$error":"#DIV/0!"},{"$error":"#DIV/0!"},{"$f":"SUM(Z69:AL69)","v":{"$error":"#DIV/0!"}}]
[null,null,"11~20",{"$f":"COUNTIFS($C$4:$CX$4,\">=11\",$C$4:$CX$4,\"<=20\",$C$13:$CX$13,D68)","v":0},0,0,0,0,0,0,0,0,0,0,0,0,{"$f":"SUM(D70:P70)","v":0},"",null,"D",{"$f":"R78","v":""},{"$f":"_xlfn.STDEV.P(データ入力シート２回目!$E$35:$CZ$37)","v":{"$error":"#DIV/0!"}},null,null,"D",{"$f":"D78/$Q$78","v":{"$error":"#DIV/0!"}},{"$f":"E78/$Q$78","v":{"$error":"#DIV/0!"}},{"$error":"#DIV/0!"},{"$error":"#DIV/0!"},{"$error":"#DIV/0!"},{"$error":"#DIV/0!"},{"$error":"#DIV/0!"},{"$error":"#DIV/0!"},{"$error":"#DIV/0!"},{"$error":"#DIV/0!"},{"$f":"N78/$Q$78","v":{"$error":"#DIV/0!"}},{"$error":"#DIV/0!"},{"$error":"#DIV/0!"},{"$f":"SUM(Z70:AL70)","v":{"$error":"#DIV/0!"}}]
[null,null,"6~10",{"$f":"COUNTIFS($C$4:$CX$4,\">=6\",$C$4:$CX$4,\"<=10\",$C$13:$CX$13,D68)","v":0},0,0,0,0,0,0,0,0,0,0,0,0,{"$f":"SUM(D71:P71)","v":0},"",null,"C",{"$f":"R83","v":""},{"$f":"_xlfn.STDEV.P(データ入力シート２回目!$E$38:$CZ$40)","v":{"$error":"#DIV/0!"}},null,null,"C",{"$f":"D83/$Q$83","v":{"$error":"#DIV/0!"}},{"$f":"E83/$Q$83","v":{"$error":"#DIV/0!"}},{"$error":"#DIV/0!"},{"$error":"#DIV/0!"},{"$error":"#DIV/0!"},{"$error":"#DIV/0!"},{"$error":"#DIV/0!"},{"$error":"#DIV/0!"},{"$error":"#DIV/0!"},{"$error":"#DIV/0!"},{"$error":"#DIV/0!"},{"$error":"#DIV/0!"},{"$error":"#DIV/0!"},{"$f":"SUM(Z71:AL71)","v":{"$error":"#DIV/0!"}}]
[null,null,"５下",{"$f":"COUNTIFS($C$4:$CX$4,\"<=5\",$C$13:$CX$13,D68)","v":0},0,0,0,0,0,0,0,0,0,0,0,0,{"$f":"SUM(D72:P72)","v":0},"",null,"A",{"$f":"R88","v":""},{"$f":"_xlfn.STDEV.P(データ入力シート２回目!$E$41:$CZ$43)","v":{"$error":"#DIV/0!"}},null,null,"A",{"$f":"D88/$Q$88","v":{"$error":"#DIV/0!"}},{"$f":"E88/$Q$88","v":{"$error":"#DIV/0!"}},{"$error":"#DIV/0!"},{"$error":"#DIV/0!"},{"$error":"#DIV/0!"},{"$f":"I88/$Q$88","v":{"$error":"#DIV/0!"}},{"$error":"#DIV/0!"},{"$error":"#DIV/0!"},{"$error":"#DIV/0!"},{"$error":"#DIV/0!"},{"$error":"#DIV/0!"},{"$error":"#DIV/0!"},{"$error":"#DIV/0!"},{"$f":"SUM(Z72:AL72)","v":{"$error":"#DIV/0!"}}]
[null,null,"計",{"$f":"SUM(D69:D72)","v":0},0,0,0,0,0,0,0,0,0,0,0,0,0,""]
[null,"D\n経験年数","20上",{"$f":"COUNTIFS($C$4:$CX$4,\">=21\",$C$14:$CX$14,D68)","v":0},0,0,0,0,0,0,0,0,0,0,0,0,{"$f":"SUM(D74:P74)","v":0},""]
[null,null,"11~20",{"$f":"COUNTIFS($C$4:$CX$4,\">=11\",$C$4:$CX$4,\"<=20\",$C$14:$CX$14,D68)","v":0},0,0,0,0,0,0,0,0,0,0,0,0,{"$f":"SUM(D75:P75)","v":0},""]
[null,null,"6~10",{"$f":"COUNTIFS($C$4:$CX$4,\">=6\",$C$4:$CX$4,\"<=10\",$C$14:$CX$14,D68)","v":0},0,0,0,0,0,0,0,0,0,0,0,0,{"$f":"SUM(D76:P76)","v":0},""]
[null,null,"５下",{"$f":"COUNTIFS($C$4:$CX$4,\"<=5\",$C$14:$CX$14,D68)","v":0},0,0,0,0,0,0,0,0,0,0,0,0,{"$f":"SUM(D77:P77)","v":0},""]
[null,null,"計",{"$f":"SUM(D74:D77)","v":0},0,0,0,0,0,0,0,0,0,0,0,0,0,""]
[null,"C\n経験年数","20上",{"$f":"COUNTIFS($C$4:$CX$4,\">=21\",$C$15:$CX$15,D68)","v":0},0,0,0,0,0,0,0,0,0,0,0,0,{"$f":"SUM(D79:P79)","v":0},""]
[null,null,"11~20",{"$f":"COUNTIFS($C$4:$CX$4,\">=11\",$C$4:$CX$4,\"<=20\",$C$15:$CX$15,D68)","v":0},0,0,0,0,0,0,0,0,0,0,0,0,{"$f":"SUM(D80:P80)","v":0},""]
[null,null,"6~10",{"$f":"COUNTIFS($C$4:$CX$4,\">=6\",$C$4:$CX$4,\"<=10\",$C$15:$CX$15,D68)","v":0},0,0,0,0,0,0,0,0,0,0,0,0,{"$f":"SUM(D81:P81)","v":0},""]
[null,null,"５下",{"$f":"COUNTIFS($C$4:$CX$4,\"<=5\",$C$15:$CX$15,D68)","v":0},0,0,0,0,0,0,0,0,0,0,0,0,{"$f":"SUM(D82:P82)","v":0},""]
[null,null,"計",{"$f":"SUM(D79:D82)","v":0},0,0,0,0,0,0,0,0,0,0,0,0,0,""]
[null,"A\n経験年数","20上",{"$f":"COUNTIFS($C$4:$CX$4,\">=21\",$C$16:$CX$16,D68)","v":0},0,0,0,0,0,0,0,0,0,0,0,0,{"$f":"SUM(D84:P84)","v":0},""]
[null,null,"11~20",{"$f":"COUNTIFS($C$4:$CX$4,\">=11\",$C$4:$CX$4,\"<=20\",$C$16:$CX$16,D68)","v":0},0,0,0,0,0,0,0,0,0,0,0,0,{"$f":"SUM(D85:P85)","v":0},""]
[null,null,"6~10",{"$f":"COUNTIFS($C$4:$CX$4,\">=6\",$C$4:$CX$4,\"<=10\",$C$16:$CX$16,D68)","v":0},0,0,0,0,0,0,0,0,0,0,0,0,{"$f":"SUM(D86:P86)","v":0},""]
[null,null,"５下",{"$f":"COUNTIFS($C$4:$CX$4,\"<=5\",$C$16:$CX$16,D68)","v":0},0,0,0,0,0,0,0,0,0,0,0,0,{"$f":"SUM(D87:P87)","v":0},""]
[null,null,"計",{"$f":"SUM(D84:D87)","v":0},0,0,0,0,0,0,0,0,0,0,0,0,0,""]

{"sheet":"集団傾向２回目","index":9,"n_rows":3,"n_cols":17,"rows_kept":3,"cut":false,"hidden":true,"merged":[[4,2,4,4]]}
[]
["（※　この表はデータ入力シート２回目の数値が反映されています。）"]
["教員全体のカリキュラム・マネジメントに係る意識や取組の傾向　２回目",null,null,null,null,null,null,null,null,null,null,null,null,null,null,null,""]

{"sheet":"年数別２回目","index":10,"n_rows":29,"n_cols":36,"rows_kept":29,"cut":false,"hidden":true,"merged":[[28,17,31,20],[28,23,31,26],[28,27,31,30],[28,31,31,34],[28,35,31,38],[28,22,31,22],[20,27,23,30],[20,31,23,34],[20,35,23,38],[24,27,27,30],[24,31,27,34],[24,35,27,38],[20,23,23,26],[24,22,27,22],[24,17,27,20],[24,13,27,16],[24,23,27,26],[17,0,17,1],[18,0,18,1],[19,0,19,1],[20,22,23,22],[20,13,23,16],[20,17,23,20],[20,4,23,4],[13,31,16,34],[15,0,15,1],[16,0,16,1],[14,0,14,1],[13,35,16,38],[9,13,12,16],[5,23,8,26],[5,27,8,30],[12,0,12,1],[13,0,13,2],[11,0,11,1],[13,4,16,4],[13,13,16,16],[13,23,16,26],[13,27,16,30],[4,5,4,8],[4,9,4,12],[9,0,9,1],[10,0,10,1],[8,0,8,1],[5,4,8,4],[9,4,12,4],[3,0,3,2],[4,0,4,1],[5,0,5,1],[6,0,6,1],[7,0,7,1],[4,13,4,16],[4,17,4,20],[4,23,4,26],[4,27,4,30],[4,31,4,34],[4,35,4,38],[19,5,19,8],[19,9,19,12],[19,13,19,16],[19,17,19,20],[19,23,19,26],[19,27,19,30],[19,31,19,34],[19,35,19,38],[5,22,8,22],[9,22,12,22],[13,22,16,22],[5,13,8,16],[5,17,8,20],[9,17,12,20],[13,17,16,20],[24,4,27,4],[28,4,31,4],[5,5,8,8],[5,9,8,12],[9,9,12,12],[13,9,16,12],[9,5,12,8],[13,5,16,8],[20,5,23,8],[20,9,23,12],[5,31,8,34],[5,35,8,38],[9,23,12,26],[9,27,12,30],[9,31,12,34],[9,35,12,38],[28,13,31,16],[24,9,27,12],[28,9,31,12],[24,5,27,8],[28,5,31,8]]}
[]
["教員全体のカリキュラム・マネジメントに係る意識や取組の傾向（教員経験年数別）　２回目",null,null,null,null,null,null,null,null,null,null,null,null,null,null,null,null,null,null,null,null,null,null,null,null,null,null,null,null,""]
[]
["当てはまる",null,null,null,"【１～５年】",null,null,null,null,null,null,null,null,null,null,null,null,null,null,null,null,null,"【６～10年】"]
[4,null,null,null,null,"P",null,null,null,"D",null,null,null,"C",null,null,null,"A",null,null,null,null,null,"P",null,null,null,"D",null,null,null,"C",null,null,null,"A"]
[3.5,null,null,null,"教科等横断的な視点について",{"$f":"IF(集計データ２回目!R24=\"\",\"\",集計データ２回目!R24/3)","v":""},null,null,null,{"$f":"IF(集計データ２回目!R29=\"\",\"\",集計データ２回目!R29/3)","v":""},null,null,null,{"$f":"IF(集計データ２回目!R34=\"\",\"\",集計データ２回目!R34/3)","v":""},null,null,null,{"$f":"IF(集計データ２回目!R39=\"\",\"\",集計データ２回目!R39/3)","v":""},null,null,null,null,"教科等横断的な視点について",{"$f":"IF(集計データ２回目!R23=\"\",\"\",集計データ２回目!R23/3)","v":""},null,null,null,{"$f":"IF(集計データ２回目!R28=\"\",\"\",集計データ２回目!R28/3)","v":""},null,null,null,{"$f":"IF(集計データ２回目!R33=\"\",\"\",集計データ２回目!R33/3)","v":""},null,null,null,{"$f":"IF(集計データ２回目!R38=\"\",\"\",集計データ２回目!R38/3)","v":""}]
[3]
[2.5]
[2]
[1.5,null,null,null,"人的資源について",{"$f":"IF(集計データ２回目!R48=\"\",\"\",集計データ２回目!R48/3)","v":""},null,null,null,{"$f":"IF(集計データ２回目!R53=\"\",\"\",集計データ２回目!R53/3)","v":""},null,null,null,{"$f":"IF(集計データ２回目!R58=\"\",\"\",集計データ２回目!R58/3)","v":""},null,null,null,{"$f":"IF(集計データ２回目!R63=\"\",\"\",集計データ２回目!R63/3)","v":""},null,null,null,null,"人的資源について",{"$f":"IF(集計データ２回目!R47=\"\",\"\",集計データ２回目!R47/3)","v":""},null,null,null,{"$f":"IF(集計データ２回目!R52=\"\",\"\",集計データ２回目!R52/3)","v":""},null,null,null,{"$f":"IF(集計データ２回目!R57=\"\",\"\",集計データ２回目!R57/3)","v":""},null,null,null,{"$f":"IF(集計データ２回目!R62=\"\",\"\",集計データ２回目!R62/3)","v":""}]
[1]
[0.5]
[0]
["当てはまらない",null,null,null,"物的資源について",{"$f":"IF(集計データ２回目!R72=\"\",\"\",集計データ２回目!R72/3)","v":""},null,null,null,{"$f":"IF(集計データ２回目!R77=\"\",\"\",集計データ２回目!R77/3)","v":""},null,null,null,{"$f":"IF(集計データ２回目!R82=\"\",\"\",集計データ２回目!R82/3)","v":""},null,null,null,{"$f":"IF(集計データ２回目!R87=\"\",\"\",集計データ２回目!R87/3)","v":""},null,null,null,null,"物的資源について",{"$f":"IF(集計データ２回目!R71=\"\",\"\",集計データ２回目!R71/3)","v":""},null,null,null,{"$f":"IF(集計データ２回目!R76=\"\",\"\",集計データ２回目!R76/3)","v":""},null,null,null,{"$f":"IF(集計データ２回目!R81=\"\",\"\",集計データ２回目!R81/3)","v":""},null,null,null,{"$f":"IF(集計データ２回目!R86=\"\",\"\",集計データ２回目!R86/3)","v":""}]
[]
[]
[]
[]
[null,null,null,null,"【11～20年】",null,null,null,null,null,null,null,null,null,null,null,null,null,null,null,null,null,"【21年以上】"]
[null,null,null,null,null,"P",null,null,null,"D",null,null,null,"C",null,null,null,"A",null,null,null,null,null,"P",null,null,null,"D",null,null,null,"C",null,null,null,"A"]
[null,null,null,null,"教科等横断的な視点について",{"$f":"IF(集計データ２回目!R22=\"\",\"\",集計データ２回目!R22/3)","v":""},null,null,null,{"$f":"IF(集計データ２回目!R27=\"\",\"\",集計データ２回目!R27/3)","v":""},null,null,null,{"$f":"IF(集計データ２回目!R32=\"\",\"\",集計データ２回目!R32/3)","v":""},null,null,null,{"$f":"IF(集計データ２回目!R37=\"\",\"\",集計データ２回目!R37/3)","v":""},null,null,null,null,"教科等横断的な視点について",{"$f":"IF(集計データ２回目!R21=\"\",\"\",集計データ２回目!R21/3)","v":""},null,null,null,{"$f":"IF(集計データ２回目!R26=\"\",\"\",集計データ２回目!R26/3)","v":""},null,null,null,{"$f":"IF(集計データ２回目!R31=\"\",\"\",集計データ２回目!R31/3)","v":""},null,null,null,{"$f":"IF(集計データ２回目!R36=\"\",\"\",集計データ２回目!R36/3)","v":""}]
[]
[]
[]
[null,null,null,null,"人的資源について",{"$f":"IF(集計データ２回目!R46=\"\",\"\",集計データ２回目!R46/3)","v":""},null,null,null,{"$f":"IF(集計データ２回目!R51=\"\",\"\",集計データ２回目!R51/3)","v":""},null,null,null,{"$f":"IF(集計データ２回目!R56=\"\",\"\",集計データ２回目!R56/3)","v":""},null,null,null,{"$f":"IF(集計データ２回目!R61=\"\",\"\",集計データ２回目!R61/3)","v":""},null,null,null,null,"人的資源について",{"$f":"IF(集計データ２回目!R45=\"\",\"\",集計データ２回目!R45/3)","v":""},null,null,null,{"$f":"IF(集計データ２回目!R50=\"\",\"\",集計データ２回目!R50/3)","v":""},null,null,null,{"$f":"IF(集計データ２回目!R55=\"\",\"\",集計データ２回目!R55/3)","v":""},null,null,null,{"$f":"IF(集計データ２回目!R60=\"\",\"\",集計データ２回目!R60/3)","v":""}]
[]
[]
[]
[null,null,null,null,"物的資源について",{"$f":"IF(集計データ２回目!R70=\"\",\"\",集計データ２回目!R70/3)","v":""},null,null,null,{"$f":"IF(集計データ２回目!R75=\"\",\"\",集計データ２回目!R75/3)","v":""},null,null,null,{"$f":"IF(集計データ２回目!R80=\"\",\"\",集計データ２回目!R80/3)","v":""},null,null,null,{"$f":"IF(集計データ２回目!R85=\"\",\"\",集計データ２回目!R85/3)","v":""},null,null,null,null,"物的資源について",{"$f":"IF(集計データ２回目!R69=\"\",\"\",集計データ２回目!R69/3)","v":""},null,null,null,{"$f":"IF(集計データ２回目!R74=\"\",\"\",集計データ２回目!R74/3)","v":""},null,null,null,{"$f":"IF(集計データ２回目!R79=\"\",\"\",集計データ２回目!R79/3)","v":""},null,null,null,{"$f":"IF(集計データ２回目!R84=\"\",\"\",集計データ２回目!R84/3)","v":""}]

{"sheet":"年数別(2)２回目","index":11,"n_rows":30,"n_cols":36,"rows_kept":30,"cut":false,"hidden":true,"merged":[[19,23,19,26],[19,27,19,30],[19,31,19,34],[20,23,23,26],[24,23,27,26],[28,23,31,26],[20,27,23,30],[20,31,23,34],[20,35,23,38],[19,35,19,38],[24,35,27,38],[28,35,31,38],[24,31,27,34],[28,31,31,34],[24,27,27,30],[28,27,31,30],[19,5,19,8],[19,9,19,12],[19,13,19,16],[19,17,19,20],[20,4,23,4],[24,4,27,4],[28,4,31,4],[28,22,31,22],[24,22,27,22],[20,22,23,22],[20,5,23,8],[20,9,23,12],[20,13,23,16],[20,17,23,20],[28,17,31,20],[24,13,27,16],[28,13,31,16],[24,9,27,12],[24,17,27,20],[28,9,31,12],[24,5,27,8],[28,5,31,8],[4,27,4,30],[4,31,4,34],[4,35,4,38],[5,22,8,22],[9,22,12,22],[13,22,16,22],[9,23,12,26],[13,23,16,26],[9,27,12,30],[13,27,16,30],[5,31,8,34],[5,35,8,38],[9,35,12,38],[13,35,16,38],[9,31,12,34],[13,31,16,34],[5,23,8,26],[5,27,8,30],[4,23,4,26],[4,5,4,8],[4,9,4,12],[4,13,4,16],[4,17,4,20],[5,4,8,4],[9,4,12,4],[13,4,16,4],[5,5,8,8],[9,5,12,8],[5,9,8,12],[5,13,8,16],[5,17,8,20],[9,17,12,20],[9,13,12,16],[9,9,12,12],[13,5,16,8],[13,9,16,12],[13,13,16,16],[13,17,16,20],[29,0,29,2],[27,0,27,1],[28,0,28,1],[24,0,24,1],[25,0,25,1],[26,0,26,1],[23,0,23,1],[21,0,21,1],[22,0,22,1],[15,0,15,1],[16,0,16,1],[12,0,12,1],[13,0,13,1],[14,0,14,1],[17,0,17,1],[18,0,18,1],[19,0,19,1],[20,0,20,1],[3,0,3,2],[4,0,4,1],[5,0,5,1],[6,0,6,1],[7,0,7,1],[8,0,8,1],[9,0,9,1],[10,0,10,1],[11,0,11,1]]}
[]
["教員全体のカリキュラム・マネジメントに係る意識や取組の傾向（教員経験年数別）"]
[]
["当てはまる",null,null,null,"【１～５年】",null,null,null,null,null,null,null,null,null,null,null,null,null,null,null,null,null,"【６～10年】"]
[12,null,null,null,null,"P",null,null,null,"D",null,null,null,"C",null,null,null,"A",null,null,null,null,null,"P",null,null,null,"D",null,null,null,"C",null,null,null,"A"]
[11.5,null,null,null,"教科等横断的な視点について",{"$f":"IF(集計データ２回目!R25=\"\",\"\",集計データ２回目!R25)","v":""},null,null,null,{"$f":"IF(集計データ２回目!R30=\"\",\"\",集計データ２回目!R30)","v":""},null,null,null,{"$f":"IF(集計データ２回目!R35=\"\",\"\",集計データ２回目!R35)","v":""},null,null,null,{"$f":"IF(集計データ２回目!R40=\"\",\"\",集計データ２回目!R40)","v":""},null,null,null,null,"教科等横断的な視点について",{"$f":"IF(集計データ２回目!R24=\"\",\"\",集計データ２回目!R24)","v":""},null,null,null,{"$f":"IF(集計データ２回目!R29=\"\",\"\",集計データ２回目!R29)","v":""},null,null,null,{"$f":"IF(集計データ２回目!R34=\"\",\"\",集計データ２回目!R34)","v":""},null,null,null,{"$f":"IF(集計データ２回目!R39=\"\",\"\",集計データ２回目!R39)","v":""}]
[11]
[10.5]
[10]
[9.5,null,null,null,"人的資源について",{"$f":"IF(集計データ２回目!R49=\"\",\"\",集計データ２回目!R49)","v":""},null,null,null,{"$f":"IF(集計データ２回目!R54=\"\",\"\",集計データ２回目!R54)","v":""},null,null,null,{"$f":"IF(集計データ２回目!R59=\"\",\"\",集計データ２回目!R59)","v":""},null,null,null,{"$f":"IF(集計データ２回目!R64=\"\",\"\",集計データ２回目!R64)","v":""},null,null,null,null,"人的資源について",{"$f":"IF(集計データ２回目!R48=\"\",\"\",集計データ２回目!R48)","v":""},null,null,null,{"$f":"IF(集計データ２回目!R53=\"\",\"\",集計データ２回目!R53)","v":""},null,null,null,{"$f":"IF(集計データ２回目!R58=\"\",\"\",集計データ２回目!R58)","v":""},null,null,null,{"$f":"IF(集計データ２回目!R63=\"\",\"\",集計データ２回目!R63)","v":""}]
[9]
[8.5]
[8]
[7.5,null,null,null,"物的資源について",{"$f":"IF(集計データ２回目!R73=\"\",\"\",集計データ２回目!R73)","v":""},null,null,null,{"$f":"IF(集計データ２回目!R78=\"\",\"\",集計データ２回目!R78)","v":""},null,null,null,{"$f":"IF(集計データ２回目!R83=\"\",\"\",集計データ２回目!R83)","v":""},null,null,null,{"$f":"IF(集計データ２回目!R88=\"\",\"\",集計データ２回目!R88)","v":""},null,null,null,null,"物的資源について",{"$f":"IF(集計データ２回目!R72=\"\",\"\",集計データ２回目!R72)","v":""},null,null,null,{"$f":"IF(集計データ２回目!R77=\"\",\"\",集計データ２回目!R77)","v":""},null,null,null,{"$f":"IF(集計データ２回目!R82=\"\",\"\",集計データ２回目!R82)","v":""},null,null,null,{"$f":"IF(集計データ２回目!R87=\"\",\"\",集計データ２回目!R87)","v":""}]
[7]
[6.5]
[6]
[5.5]
[5,null,null,null,"【11～20年】",null,null,null,null,null,null,null,null,null,null,null,null,null,null,null,null,null,"【21年以上】"]
[4.5,null,null,null,null,"P",null,null,null,"D",null,null,null,"C",null,null,null,"A",null,null,null,null,null,"P",null,null,null,"D",null,null,null,"C",null,null,null,"A"]
[4,null,null,null,"教科等横断的な視点について",{"$f":"IF(集計データ２回目!R23=\"\",\"\",集計データ２回目!R23)","v":""},null,null,null,{"$f":"IF(集計データ２回目!R28=\"\",\"\",集計データ２回目!R28)","v":""},null,null,null,{"$f":"IF(集計データ２回目!R33=\"\",\"\",集計データ２回目!R33)","v":""},null,null,null,{"$f":"IF(集計データ２回目!R38=\"\",\"\",集計データ２回目!R38)","v":""},null,null,null,null,"教科等横断的な視点について",{"$f":"IF(集計データ２回目!R22=\"\",\"\",集計データ２回目!R22)","v":""},null,null,null,{"$f":"IF(集計データ２回目!R27=\"\",\"\",集計データ２回目!R27)","v":""},null,null,null,{"$f":"IF(集計データ２回目!R32=\"\",\"\",集計データ２回目!R32)","v":""},null,null,null,{"$f":"IF(集計データ２回目!R37=\"\",\"\",集計データ２回目!R37)","v":""}]
[3.5]
[3]
[2.5]
[2,null,null,null,"人的資源について",{"$f":"IF(集計データ２回目!R47=\"\",\"\",集計データ２回目!R47)","v":""},null,null,null,{"$f":"IF(集計データ２回目!R52=\"\",\"\",集計データ２回目!R52)","v":""},null,null,null,{"$f":"IF(集計データ２回目!R57=\"\",\"\",集計データ２回目!R57)","v":""},null,null,null,{"$f":"IF(集計データ２回目!R62=\"\",\"\",集計データ２回目!R62)","v":""},null,null,null,null,"人的資源について",{"$f":"IF(集計データ２回目!R46=\"\",\"\",集計データ２回目!R46)","v":""},null,null,null,{"$f":"IF(集計データ２回目!R51=\"\",\"\",集計データ２回目!R51)","v":""},null,null,null,{"$f":"IF(集計データ２回目!R56=\"\",\"\",集計データ２回目!R56)","v":""},null,null,null,{"$f":"IF(集計データ２回目!R61=\"\",\"\",集計データ２回目!R61)","v":""}]
[1.5]
[1]
[0.5]
[0,null,null,null,"物的資源について",{"$f":"IF(集計データ２回目!R71=\"\",\"\",集計データ２回目!R71)","v":""},null,null,null,{"$f":"IF(集計データ２回目!R76=\"\",\"\",集計データ２回目!R76)","v":""},null,null,null,{"$f":"IF(集計データ２回目!R81=\"\",\"\",集計データ２回目!R81)","v":""},null,null,null,{"$f":"IF(集計データ２回目!R86=\"\",\"\",集計データ２回目!R86)","v":""},null,null,null,null,"物的資源について",{"$f":"IF(集計データ２回目!R70=\"\",\"\",集計データ２回目!R70)","v":""},null,null,null,{"$f":"IF(集計データ２回目!R75=\"\",\"\",集計データ２回目!R75)","v":""},null,null,null,{"$f":"IF(集計データ２回目!R80=\"\",\"\",集計データ２回目!R80)","v":""},null,null,null,{"$f":"IF(集計データ２回目!R85=\"\",\"\",集計データ２回目!R85)","v":""}]
["当てはまらない"]

{"sheet":"集計用１","index":12,"n_rows":0,"n_cols":0,"rows_kept":0,"cut":false,"hidden":true,"merged":[]}

{"sheet":"集計用２","index":13,"n_rows":0,"n_cols":0,"rows_kept":0,"cut":false,"hidden":true,"merged":[]}